Workbook
Name classes: #REF!
Name derndossel: inscript!$O$5
Name dernier: inscript!$O$4
Name dosc1: 'c1'!$E$5:$E$104
Name dosc2: 'c2'!$E$4:$E$104
Name dosc3: 'c3'!$E$5:$E$104
Name dosc4: 'c4'!$E$5:$E$104
Name dosc5: 'c5'!$E$5:$E$104
Name dosc6: 'c6'!$E$5:$E$104
Name dosc7: 'c7'!$E$5:$E$104
Name dosc8: 'c8'!$E$5:$E$104
Name Dossard: inscript!$A$2:$F$1005
Name edition: inscript!$A$1:$G$1005
Name inscriptions: inscript!$A$2:$F$1005
Name maxc1: 'c1'!$G$4:$G$200
Name maxc2: 'c2'!$G$4:$G$200
Name maxc3: 'c3'!$G$4:$G$200
Name maxc4: 'c4'!$G$4:$G$200
Name maxc5: 'c5'!$G$4:$G$200
Name maxc6: 'c6'!$G$4:$G$200
Name maxc7: 'c7'!$G$4:$G$200
Name maxc8: 'c8'!$G$4:$G$200
Name NBT: inscript!$P$14:$Q$22
Name numdossard: inscript!$A$1:$A$1005
Name premier: inscript!$O$3
Name Print_Area: 'c1'!$A$1:$G$104
Name Print_Area: 'c2'!$A$1:$H$104
Name Print_Area: 'c3'!$A$1:$G$104
Name Print_Area: 'c5'!$A$1:$G$104
Name Print_Area: 'c6'!$A$1:$G$104
Name Print_Area: 'c7'!$A$1:$G$104
Name Print_Area: 'c8'!$A$1:$G$104
Name Print_Area: challenge!$A$1:$N$20
Name tabl_classes: inscript!$K$2:$K$700
Name tabl_couru: inscript!$J$2:$J$700
Name tabl_temps: inscript!$L$2:$L$700
Name tabl_tout_classes: inscript!$E$2:$E$700
Name temps3eme: challenge!$M$13:$M$18
Name temps4eme: challenge!$F$13:$F$18
Name temps5eme: challenge!$M$5:$M$10
Name temps6eme: challenge!$M$23:$M$30
Name tempsCM2: challenge!$F$23:$F$26
Name tps6emeseuls: challenge!$F$5:$F$10
Name tpsc1: 'c1'!$F$5:$F$104
Name tpsc2: 'c2'!$F$4:$F$104
Name tpsc3: 'c3'!$F$5:$F$104
Name tpsc4: 'c4'!$F$5:$F$104
Name tpsc5: 'c5'!$F$5:$F$104
Name tpsc6: 'c6'!$F$5:$F$104
Name tpsc7: 'c7'!$F$5:$F$104
Name tpsc8: 'c8'!$F$5:$F$104
Name tss: #REF!

Sheet inscript
A1: Dossard | B1: Nom | C1: Prénom | D1: Date de naissance | E1: Classe | F1: NBT | G1: N° course | H1: D | I1: Absent | J1: Couru | K1: Classe | L1: Temps | S1: place
A2: 1 | B2: ABSALON | C2: Alicia | D2: 42000 | E2: 6 A | F2: =VLOOKUP(G2,NBT,2) -> 1 | G2: 1 | I2: =IF(AND(J2=0,H2<>"D"),"ABS","") | J2: =COUNTIF(INDIRECT(CONCATENATE("'c",G2,"'!E:E")),A2) -> 1 | K2: =IF(OR(J2=1,I2="ABS"),E2,"") -> 6 A | L2: =IF(I2="ABS",MAX(INDIRECT(CONCATENATE("maxc",G2))),S2) -> 0.0065972222 | S2: =VLOOKUP(inscript!A2,INDIRECT(CONCATENATE("'c",G2,"'!E:G")),3,0) -> 0.0065972222
A3: 2 | B3: ANSEL | C3: Rosalie | D3: 42134 | E3: 6 A | F3: =VLOOKUP(G3,NBT,2) -> 1 | G3: 1 | H3: D | I3: =IF(AND(J3=0,H3<>"D"),"ABS","") | J3: =COUNTIF(INDIRECT(CONCATENATE("'c",G3,"'!E:E")),A3) -> 0 | K3: =IF(OR(J3=1,I3="ABS"),E3,"") | L3: =IF(I3="ABS",MAX(INDIRECT(CONCATENATE("maxc",G3))),S3) -> #N/A | N3: premier dos | O3: 1 | S3: =VLOOKUP(inscript!A3,INDIRECT(CONCATENATE("'c",G3,"'!E:G")),3,0) -> #N/A
A4: 3 | B4: BONNARD | C4: Laure | D4: 42311 | E4: 6 A | F4: =VLOOKUP(G4,NBT,2) -> 1 | G4: 1 | I4: =IF(AND(J4=0,H4<>"D"),"ABS","") | J4: =COUNTIF(INDIRECT(CONCATENATE("'c",G4,"'!E:E")),A4) -> 1 | K4: =IF(OR(J4=1,I4="ABS"),E4,"") -> 6 A | L4: =IF(I4="ABS",MAX(INDIRECT(CONCATENATE("maxc",G4))),S4) -> 0.0062384259 | N4: dernier dos | O4: 487 | S4: =VLOOKUP(inscript!A4,INDIRECT(CONCATENATE("'c",G4,"'!E:G")),3,0) -> 0.0062384259
A5: 4 | B5: CHEVRIER | C5: Mathias | D5: 42220 | E5: 6 A | F5: =VLOOKUP(G5,NBT,2) -> 1 | G5: 2 | I5: =IF(AND(J5=0,H5<>"D"),"ABS","") | J5: =COUNTIF(INDIRECT(CONCATENATE("'c",G5,"'!E:E")),A5) -> 1 | K5: =IF(OR(J5=1,I5="ABS"),E5,"") -> 6 A | L5: =IF(I5="ABS",MAX(INDIRECT(CONCATENATE("maxc",G5))),S5) -> 0.0037268519 | N5: dernier dos el | O5: 487 | S5: =VLOOKUP(inscript!A5,INDIRECT(CONCATENATE("'c",G5,"'!E:G")),3,0) -> 0.0037268519
A6: 5 | B6: CUNY | C6: Dario | D6: 42237 | E6: 6 A | F6: =VLOOKUP(G6,NBT,2) -> 1 | G6: 2 | I6: =IF(AND(J6=0,H6<>"D"),"ABS","") | J6: =COUNTIF(INDIRECT(CONCATENATE("'c",G6,"'!E:E")),A6) -> 1 | K6: =IF(OR(J6=1,I6="ABS"),E6,"") -> 6 A | L6: =IF(I6="ABS",MAX(INDIRECT(CONCATENATE("maxc",G6))),S6) -> 0.0061805556 | S6: =VLOOKUP(inscript!A6,INDIRECT(CONCATENATE("'c",G6,"'!E:G")),3,0) -> 0.0061805556
A7: 6 | B7: DESSEIN | C7: Solene | D7: 42342 | E7: 6 A | F7: =VLOOKUP(G7,NBT,2) -> 1 | G7: 1 | I7: =IF(AND(J7=0,H7<>"D"),"ABS","") | J7: =COUNTIF(INDIRECT(CONCATENATE("'c",G7,"'!E:E")),A7) -> 1 | K7: =IF(OR(J7=1,I7="ABS"),E7,"") -> 6 A | L7: =IF(I7="ABS",MAX(INDIRECT(CONCATENATE("maxc",G7))),S7) -> 0.0049074074 | S7: =VLOOKUP(inscript!A7,INDIRECT(CONCATENATE("'c",G7,"'!E:G")),3,0) -> 0.0049074074
A8: 7 | B8: DUCHANOIS | C8: Loup | D8: 42496 | E8: 6 A | F8: =VLOOKUP(G8,NBT,2) -> 1 | G8: 2 | I8: =IF(AND(J8=0,H8<>"D"),"ABS","") | J8: =COUNTIF(INDIRECT(CONCATENATE("'c",G8,"'!E:E")),A8) -> 1 | K8: =IF(OR(J8=1,I8="ABS"),E8,"") -> 6 A | L8: =IF(I8="ABS",MAX(INDIRECT(CONCATENATE("maxc",G8))),S8) -> 0.0054861111 | S8: =VLOOKUP(inscript!A8,INDIRECT(CONCATENATE("'c",G8,"'!E:G")),3,0) -> 0.0054861111
A9: 8 | B9: DUPON | C9: Emma | D9: 42118 | E9: 6 A | F9: =VLOOKUP(G9,NBT,2) -> 1 | G9: 1 | I9: =IF(AND(J9=0,H9<>"D"),"ABS","") | J9: =COUNTIF(INDIRECT(CONCATENATE("'c",G9,"'!E:E")),A9) -> 1 | K9: =IF(OR(J9=1,I9="ABS"),E9,"") -> 6 A | L9: =IF(I9="ABS",MAX(INDIRECT(CONCATENATE("maxc",G9))),S9) -> 0.0062615741 | S9: =VLOOKUP(inscript!A9,INDIRECT(CONCATENATE("'c",G9,"'!E:G")),3,0) -> 0.0062615741
A10: 9 | B10: FREDERIC | C10: Léna | D10: 42064 | E10: 6 A | F10: =VLOOKUP(G10,NBT,2) -> 1 | G10: 1 | I10: =IF(AND(J10=0,H10<>"D"),"ABS","") | J10: =COUNTIF(INDIRECT(CONCATENATE("'c",G10,"'!E:E")),A10) -> 1 | K10: =IF(OR(J10=1,I10="ABS"),E10,"") -> 6 A | L10: =IF(I10="ABS",MAX(INDIRECT(CONCATENATE("maxc",G10))),S10) -> 0.0040972222 | S10: =VLOOKUP(inscript!A10,INDIRECT(CONCATENATE("'c",G10,"'!E:G")),3,0) -> 0.0040972222
A11: 10 | B11: GALIFFET | C11: Wendy | D11: 42038 | E11: 6 A | F11: =VLOOKUP(G11,NBT,2) -> 1 | G11: 1 | I11: =IF(AND(J11=0,H11<>"D"),"ABS","") | J11: =COUNTIF(INDIRECT(CONCATENATE("'c",G11,"'!E:E")),A11) -> 1 | K11: =IF(OR(J11=1,I11="ABS"),E11,"") -> 6 A | L11: =IF(I11="ABS",MAX(INDIRECT(CONCATENATE("maxc",G11))),S11) -> 0.0036805556 | S11: =VLOOKUP(inscript!A11,INDIRECT(CONCATENATE("'c",G11,"'!E:G")),3,0) -> 0.0036805556
A12: 11 | B12: GERARD | C12: Tim | D12: 42071 | E12: 6 A | F12: =VLOOKUP(G12,NBT,2) -> 1 | G12: 2 | I12: =IF(AND(J12=0,H12<>"D"),"ABS","") | J12: =COUNTIF(INDIRECT(CONCATENATE("'c",G12,"'!E:E")),A12) -> 1 | K12: =IF(OR(J12=1,I12="ABS"),E12,"") -> 6 A | L12: =IF(I12="ABS",MAX(INDIRECT(CONCATENATE("maxc",G12))),S12) -> 0.0045949074 | S12: =VLOOKUP(inscript!A12,INDIRECT(CONCATENATE("'c",G12,"'!E:G")),3,0) -> 0.0045949074
A13: 12 | B13: MATHIEU | C13: Marcelin | D13: 42085 | E13: 6 A | F13: =VLOOKUP(G13,NBT,2) -> 1 | G13: 2 | I13: =IF(AND(J13=0,H13<>"D"),"ABS","") | J13: =COUNTIF(INDIRECT(CONCATENATE("'c",G13,"'!E:E")),A13) -> 1 | K13: =IF(OR(J13=1,I13="ABS"),E13,"") -> 6 A | L13: =IF(I13="ABS",MAX(INDIRECT(CONCATENATE("maxc",G13))),S13) -> 0.0043055556 | S13: =VLOOKUP(inscript!A13,INDIRECT(CONCATENATE("'c",G13,"'!E:G")),3,0) -> 0.0043055556
A14: 13 | B14: MAURY | C14: Amaël | D14: 42329 | E14: 6 A | F14: =VLOOKUP(G14,NBT,2) -> 1 | G14: 2 | I14: =IF(AND(J14=0,H14<>"D"),"ABS","") | J14: =COUNTIF(INDIRECT(CONCATENATE("'c",G14,"'!E:E")),A14) -> 1 | K14: =IF(OR(J14=1,I14="ABS"),E14,"") -> 6 A | L14: =IF(I14="ABS",MAX(INDIRECT(CONCATENATE("maxc",G14))),S14) -> 0.0047916667 | N14: Modification | O14: Effectif | P14: course | Q14: NBT | S14: =VLOOKUP(inscript!A14,INDIRECT(CONCATENATE("'c",G14,"'!E:G")),3,0) -> 0.0047916667
A15: 14 | B15: MAXANT | C15: Arsène | D15: 42058 | E15: 6 A | F15: =VLOOKUP(G15,NBT,2) -> 1 | G15: 2 | I15: =IF(AND(J15=0,H15<>"D"),"ABS","") | J15: =COUNTIF(INDIRECT(CONCATENATE("'c",G15,"'!E:E")),A15) -> 1 | K15: =IF(OR(J15=1,I15="ABS"),E15,"") -> 6 A | L15: =IF(I15="ABS",MAX(INDIRECT(CONCATENATE("maxc",G15))),S15) -> 0.0042361111 | N15: =IF(O15>104,CONCATENATE("Modifier plage tpsc",C1),"OK") -> OK | O15: =COUNTIF(G:G,P15) -> 71 | P15: 1 | Q15: 1 | S15: =VLOOKUP(inscript!A15,INDIRECT(CONCATENATE("'c",G15,"'!E:G")),3,0) -> 0.0042361111
A16: 15 | B16: MERGUIN | C16: Léa | D16: 41814 | E16: 6 A | F16: =VLOOKUP(G16,NBT,2) -> 1 | G16: 1 | I16: =IF(AND(J16=0,H16<>"D"),"ABS","") | J16: =COUNTIF(INDIRECT(CONCATENATE("'c",G16,"'!E:E")),A16) -> 1 | K16: =IF(OR(J16=1,I16="ABS"),E16,"") -> 6 A | L16: =IF(I16="ABS",MAX(INDIRECT(CONCATENATE("maxc",G16))),S16) -> 0.0043171296 | N16: =IF(O16>104,CONCATENATE("Modifier plage tpsc",C2),"OK") -> OK | O16: =COUNTIF(G:G,P16) -> 75 | P16: 2 | Q16: 1 | S16: =VLOOKUP(inscript!A16,INDIRECT(CONCATENATE("'c",G16,"'!E:G")),3,0) -> 0.0043171296
A17: 16 | B17: ODILLE | C17: Maxime | D17: 42049 | E17: 6 A | F17: =VLOOKUP(G17,NBT,2) -> 1 | G17: 2 | I17: =IF(AND(J17=0,H17<>"D"),"ABS","") | J17: =COUNTIF(INDIRECT(CONCATENATE("'c",G17,"'!E:E")),A17) -> 1 | K17: =IF(OR(J17=1,I17="ABS"),E17,"") -> 6 A | L17: =IF(I17="ABS",MAX(INDIRECT(CONCATENATE("maxc",G17))),S17) -> 0.004537037 | N17: =IF(O17>104,CONCATENATE("Modifier plage tpsc",C3),"OK") -> OK | O17: =COUNTIF(G:G,P17) -> 47 | P17: 3 | Q17: 1 | S17: =VLOOKUP(inscript!A17,INDIRECT(CONCATENATE("'c",G17,"'!E:G")),3,0) -> 0.004537037
A18: 17 | B18: PAGELOT BRUCKERT | C18: Cameron | D18: 41685 | E18: 6 A | F18: =VLOOKUP(G18,NBT,2) -> 1 | G18: 2 | I18: =IF(AND(J18=0,H18<>"D"),"ABS","") | J18: =COUNTIF(INDIRECT(CONCATENATE("'c",G18,"'!E:E")),A18) -> 1 | K18: =IF(OR(J18=1,I18="ABS"),E18,"") -> 6 A | L18: =IF(I18="ABS",MAX(INDIRECT(CONCATENATE("maxc",G18))),S18) -> 0.0057291667 | N18: =IF(O18>104,CONCATENATE("Modifier plage tpsc",C4),"OK") -> OK | O18: =COUNTIF(G:G,P18) -> 67 | P18: 4 | Q18: 2 | S18: =VLOOKUP(inscript!A18,INDIRECT(CONCATENATE("'c",G18,"'!E:G")),3,0) -> 0.0057291667
A19: 18 | B19: ROLIN | C19: Mylann | D19: 42080 | E19: 6 A | F19: =VLOOKUP(G19,NBT,2) -> 1 | G19: 2 | I19: =IF(AND(J19=0,H19<>"D"),"ABS","") | J19: =COUNTIF(INDIRECT(CONCATENATE("'c",G19,"'!E:E")),A19) -> 1 | K19: =IF(OR(J19=1,I19="ABS"),E19,"") -> 6 A | L19: =IF(I19="ABS",MAX(INDIRECT(CONCATENATE("maxc",G19))),S19) -> 0.0033333333 | N19: =IF(O19>104,CONCATENATE("Modifier plage tpsc",C5),"OK") -> OK | O19: =COUNTIF(G:G,P19) -> 57 | P19: 5 | Q19: 2 | S19: =VLOOKUP(inscript!A19,INDIRECT(CONCATENATE("'c",G19,"'!E:G")),3,0) -> 0.0033333333
A20: 19 | B20: STASIAK | C20: Kelly | D20: 42185 | E20: 6 A | F20: =VLOOKUP(G20,NBT,2) -> 1 | G20: 1 | I20: =IF(AND(J20=0,H20<>"D"),"ABS","") | J20: =COUNTIF(INDIRECT(CONCATENATE("'c",G20,"'!E:E")),A20) -> 1 | K20: =IF(OR(J20=1,I20="ABS"),E20,"") -> 6 A | L20: =IF(I20="ABS",MAX(INDIRECT(CONCATENATE("maxc",G20))),S20) -> 0.0058680556 | N20: =IF(O20>104,CONCATENATE("Modifier plage tpsc",C6),"OK") -> OK | O20: =COUNTIF(G:G,P20) -> 51 | P20: 6 | Q20: 2 | S20: =VLOOKUP(inscript!A20,INDIRECT(CONCATENATE("'c",G20,"'!E:G")),3,0) -> 0.0058680556
A21: 20 | B21: VALENTIN | C21: Luce | D21: 42031 | E21: 6 A | F21: =VLOOKUP(G21,NBT,2) -> 1 | G21: 1 | I21: =IF(AND(J21=0,H21<>"D"),"ABS","") | J21: =COUNTIF(INDIRECT(CONCATENATE("'c",G21,"'!E:E")),A21) -> 1 | K21: =IF(OR(J21=1,I21="ABS"),E21,"") -> 6 A | L21: =IF(I21="ABS",MAX(INDIRECT(CONCATENATE("maxc",G21))),S21) -> 0.0058449074 | N21: =IF(O21>104,CONCATENATE("Modifier plage tpsc",C7),"OK") -> OK | O21: =COUNTIF(G:G,P21) -> 71 | P21: 7 | Q21: 2 | S21: =VLOOKUP(inscript!A21,INDIRECT(CONCATENATE("'c",G21,"'!E:G")),3,0) -> 0.0058449074
A22: 21 | B22: VANÇON | C22: Joana | D22: 42216 | E22: 6 A | F22: =VLOOKUP(G22,NBT,2) -> 1 | G22: 1 | I22: =IF(AND(J22=0,H22<>"D"),"ABS","") | J22: =COUNTIF(INDIRECT(CONCATENATE("'c",G22,"'!E:E")),A22) -> 1 | K22: =IF(OR(J22=1,I22="ABS"),E22,"") -> 6 A | L22: =IF(I22="ABS",MAX(INDIRECT(CONCATENATE("maxc",G22))),S22) -> 0.0042013889 | N22: =IF(O22>104,CONCATENATE("Modifier plage tpsc",C8),"OK") -> OK | O22: =COUNTIF(G:G,P22) -> 48 | P22: 8 | Q22: 3 | S22: =VLOOKUP(inscript!A22,INDIRECT(CONCATENATE("'c",G22,"'!E:G")),3,0) -> 0.0042013889
A23: 22 | B23: VAUTHIER | C23: Abby | D23: 42225 | E23: 6 A | F23: =VLOOKUP(G23,NBT,2) -> 1 | G23: 1 | I23: =IF(AND(J23=0,H23<>"D"),"ABS","") | J23: =COUNTIF(INDIRECT(CONCATENATE("'c",G23,"'!E:E")),A23) -> 1 | K23: =IF(OR(J23=1,I23="ABS"),E23,"") -> 6 A | L23: =IF(I23="ABS",MAX(INDIRECT(CONCATENATE("maxc",G23))),S23) -> 0.0062037037 | N23: TOTAL | O23: =SUM(O15:O22) -> 487 | S23: =VLOOKUP(inscript!A23,INDIRECT(CONCATENATE("'c",G23,"'!E:G")),3,0) -> 0.0062037037
A24: 23 | B24: ALBERT-BRAGA | C24: Sophie | D24: 42020 | E24: 6 B | F24: =VLOOKUP(G24,NBT,2) -> 1 | G24: 1 | I24: =IF(AND(J24=0,H24<>"D"),"ABS","") -> ABS | J24: =COUNTIF(INDIRECT(CONCATENATE("'c",G24,"'!E:E")),A24) -> 0 | K24: =IF(OR(J24=1,I24="ABS"),E24,"") -> 6 B | L24: =IF(I24="ABS",MAX(INDIRECT(CONCATENATE("maxc",G24))),S24) -> 0.0081134259 | S24: =VLOOKUP(inscript!A24,INDIRECT(CONCATENATE("'c",G24,"'!E:G")),3,0) -> #N/A
A25: 24 | B25: BARREIROS | C25: Masha | D25: 42222 | E25: 6 B | F25: =VLOOKUP(G25,NBT,2) -> 1 | G25: 1 | H25: D | I25: =IF(AND(J25=0,H25<>"D"),"ABS","") | J25: =COUNTIF(INDIRECT(CONCATENATE("'c",G25,"'!E:E")),A25) -> 0 | K25: =IF(OR(J25=1,I25="ABS"),E25,"") | L25: =IF(I25="ABS",MAX(INDIRECT(CONCATENATE("maxc",G25))),S25) -> #N/A | S25: =VLOOKUP(inscript!A25,INDIRECT(CONCATENATE("'c",G25,"'!E:G")),3,0) -> #N/A
A26: 25 | B26: BELL | C26: Lucas | D26: 41965 | E26: 6 B | F26: =VLOOKUP(G26,NBT,2) -> 1 | G26: 2 | H26: D | I26: =IF(AND(J26=0,H26<>"D"),"ABS","") | J26: =COUNTIF(INDIRECT(CONCATENATE("'c",G26,"'!E:E")),A26) -> 0 | K26: =IF(OR(J26=1,I26="ABS"),E26,"") | L26: =IF(I26="ABS",MAX(INDIRECT(CONCATENATE("maxc",G26))),S26) -> #N/A | S26: =VLOOKUP(inscript!A26,INDIRECT(CONCATENATE("'c",G26,"'!E:G")),3,0) -> #N/A
A27: 26 | B27: BOURGEOIS | C27: Jade | D27: 42059 | E27: 6 B | F27: =VLOOKUP(G27,NBT,2) -> 1 | G27: 1 | I27: =IF(AND(J27=0,H27<>"D"),"ABS","") | J27: =COUNTIF(INDIRECT(CONCATENATE("'c",G27,"'!E:E")),A27) -> 1 | K27: =IF(OR(J27=1,I27="ABS"),E27,"") -> 6 B | L27: =IF(I27="ABS",MAX(INDIRECT(CONCATENATE("maxc",G27))),S27) -> 0.0048726852 | S27: =VLOOKUP(inscript!A27,INDIRECT(CONCATENATE("'c",G27,"'!E:G")),3,0) -> 0.0048726852
A28: 27 | B28: CELERIER | C28: Joseph | D28: 42020 | E28: 6 B | F28: =VLOOKUP(G28,NBT,2) -> 1 | G28: 2 | I28: =IF(AND(J28=0,H28<>"D"),"ABS","") | J28: =COUNTIF(INDIRECT(CONCATENATE("'c",G28,"'!E:E")),A28) -> 1 | K28: =IF(OR(J28=1,I28="ABS"),E28,"") -> 6 B | L28: =IF(I28="ABS",MAX(INDIRECT(CONCATENATE("maxc",G28))),S28) -> 0.0037731481 | S28: =VLOOKUP(inscript!A28,INDIRECT(CONCATENATE("'c",G28,"'!E:G")),3,0) -> 0.0037731481
A29: 28 | B29: CLAUMAN NARDIN | C29: Nuno | D29: 42248 | E29: 6 B | F29: =VLOOKUP(G29,NBT,2) -> 1 | G29: 2 | I29: =IF(AND(J29=0,H29<>"D"),"ABS","") | J29: =COUNTIF(INDIRECT(CONCATENATE("'c",G29,"'!E:E")),A29) -> 1 | K29: =IF(OR(J29=1,I29="ABS"),E29,"") -> 6 B | L29: =IF(I29="ABS",MAX(INDIRECT(CONCATENATE("maxc",G29))),S29) -> 0.0040509259 | S29: =VLOOKUP(inscript!A29,INDIRECT(CONCATENATE("'c",G29,"'!E:G")),3,0) -> 0.0040509259
A30: 29 | B30: DESSAINT | C30: Maëlys | D30: 42286 | E30: 6 B | F30: =VLOOKUP(G30,NBT,2) -> 1 | G30: 1 | I30: =IF(AND(J30=0,H30<>"D"),"ABS","") | J30: =COUNTIF(INDIRECT(CONCATENATE("'c",G30,"'!E:E")),A30) -> 1 | K30: =IF(OR(J30=1,I30="ABS"),E30,"") -> 6 B | L30: =IF(I30="ABS",MAX(INDIRECT(CONCATENATE("maxc",G30))),S30) -> 0.0037847222 | S30: =VLOOKUP(inscript!A30,INDIRECT(CONCATENATE("'c",G30,"'!E:G")),3,0) -> 0.0037847222
A31: 30 | B31: DURAND | C31: Eléanor | D31: 42204 | E31: 6 B | F31: =VLOOKUP(G31,NBT,2) -> 1 | G31: 1 | I31: =IF(AND(J31=0,H31<>"D"),"ABS","") | J31: =COUNTIF(INDIRECT(CONCATENATE("'c",G31,"'!E:E")),A31) -> 1 | K31: =IF(OR(J31=1,I31="ABS"),E31,"") -> 6 B | L31: =IF(I31="ABS",MAX(INDIRECT(CONCATENATE("maxc",G31))),S31) -> 0.0066319444 | S31: =VLOOKUP(inscript!A31,INDIRECT(CONCATENATE("'c",G31,"'!E:G")),3,0) -> 0.0066319444
A32: 31 | B32: HENRY | C32: Elena | D32: 42269 | E32: 6 B | F32: =VLOOKUP(G32,NBT,2) -> 1 | G32: 1 | I32: =IF(AND(J32=0,H32<>"D"),"ABS","") | J32: =COUNTIF(INDIRECT(CONCATENATE("'c",G32,"'!E:E")),A32) -> 1 | K32: =IF(OR(J32=1,I32="ABS"),E32,"") -> 6 B | L32: =IF(I32="ABS",MAX(INDIRECT(CONCATENATE("maxc",G32))),S32) -> 0.0059837963 | S32: =VLOOKUP(inscript!A32,INDIRECT(CONCATENATE("'c",G32,"'!E:G")),3,0) -> 0.0059837963
A33: 32 | B33: HENRY | C33: Solhan | D33: 42201 | E33: 6 B | F33: =VLOOKUP(G33,NBT,2) -> 1 | G33: 2 | I33: =IF(AND(J33=0,H33<>"D"),"ABS","") | J33: =COUNTIF(INDIRECT(CONCATENATE("'c",G33,"'!E:E")),A33) -> 1 | K33: =IF(OR(J33=1,I33="ABS"),E33,"") -> 6 B | L33: =IF(I33="ABS",MAX(INDIRECT(CONCATENATE("maxc",G33))),S33) -> 0.0059143519 | S33: =VLOOKUP(inscript!A33,INDIRECT(CONCATENATE("'c",G33,"'!E:G")),3,0) -> 0.0059143519
A34: 33 | B34: HOVAKIMYAN | C34: Gabriella | D34: 42184 | E34: 6 B | F34: =VLOOKUP(G34,NBT,2) -> 1 | G34: 1 | I34: =IF(AND(J34=0,H34<>"D"),"ABS","") | J34: =COUNTIF(INDIRECT(CONCATENATE("'c",G34,"'!E:E")),A34) -> 1 | K34: =IF(OR(J34=1,I34="ABS"),E34,"") -> 6 B | L34: =IF(I34="ABS",MAX(INDIRECT(CONCATENATE("maxc",G34))),S34) -> 0.0075462963 | S34: =VLOOKUP(inscript!A34,INDIRECT(CONCATENATE("'c",G34,"'!E:G")),3,0) -> 0.0075462963
A35: 34 | B35: KHOUANI | C35: Islem | D35: 42156 | E35: 6 B | F35: =VLOOKUP(G35,NBT,2) -> 1 | G35: 2 | H35: D | I35: =IF(AND(J35=0,H35<>"D"),"ABS","") | J35: =COUNTIF(INDIRECT(CONCATENATE("'c",G35,"'!E:E")),A35) -> 0 | K35: =IF(OR(J35=1,I35="ABS"),E35,"") | L35: =IF(I35="ABS",MAX(INDIRECT(CONCATENATE("maxc",G35))),S35) -> #N/A | S35: =VLOOKUP(inscript!A35,INDIRECT(CONCATENATE("'c",G35,"'!E:G")),3,0) -> #N/A
A36: 35 | B36: LIAIGRE AUBERT | C36: Achille | D36: 42215 | E36: 6 B | F36: =VLOOKUP(G36,NBT,2) -> 1 | G36: 2 | I36: =IF(AND(J36=0,H36<>"D"),"ABS","") | J36: =COUNTIF(INDIRECT(CONCATENATE("'c",G36,"'!E:E")),A36) -> 1 | K36: =IF(OR(J36=1,I36="ABS"),E36,"") -> 6 B | L36: =IF(I36="ABS",MAX(INDIRECT(CONCATENATE("maxc",G36))),S36) -> 0.0055439815 | S36: =VLOOKUP(inscript!A36,INDIRECT(CONCATENATE("'c",G36,"'!E:G")),3,0) -> 0.0055439815
A37: 36 | B37: MAHIAOUI | C37: Adnane | D37: 42104 | E37: 6 B | F37: =VLOOKUP(G37,NBT,2) -> 1 | G37: 2 | I37: =IF(AND(J37=0,H37<>"D"),"ABS","") | J37: =COUNTIF(INDIRECT(CONCATENATE("'c",G37,"'!E:E")),A37) -> 1 | K37: =IF(OR(J37=1,I37="ABS"),E37,"") -> 6 B | L37: =IF(I37="ABS",MAX(INDIRECT(CONCATENATE("maxc",G37))),S37) -> 0.0064814815 | S37: =VLOOKUP(inscript!A37,INDIRECT(CONCATENATE("'c",G37,"'!E:G")),3,0) -> 0.0064814815
A38: 37 | B38: MANGEL | C38: Marcel | D38: 42050 | E38: 6 B | F38: =VLOOKUP(G38,NBT,2) -> 1 | G38: 2 | H38: D | I38: =IF(AND(J38=0,H38<>"D"),"ABS","") | J38: =COUNTIF(INDIRECT(CONCATENATE("'c",G38,"'!E:E")),A38) -> 0 | K38: =IF(OR(J38=1,I38="ABS"),E38,"") | L38: =IF(I38="ABS",MAX(INDIRECT(CONCATENATE("maxc",G38))),S38) -> #N/A | S38: =VLOOKUP(inscript!A38,INDIRECT(CONCATENATE("'c",G38,"'!E:G")),3,0) -> #N/A
A39: 38 | B39: MASSON CONDOLF | C39: Lylou | D39: 42215 | E39: 6 B | F39: =VLOOKUP(G39,NBT,2) -> 1 | G39: 1 | I39: =IF(AND(J39=0,H39<>"D"),"ABS","") | J39: =COUNTIF(INDIRECT(CONCATENATE("'c",G39,"'!E:E")),A39) -> 1 | K39: =IF(OR(J39=1,I39="ABS"),E39,"") -> 6 B | L39: =IF(I39="ABS",MAX(INDIRECT(CONCATENATE("maxc",G39))),S39) -> 0.006087963 | S39: =VLOOKUP(inscript!A39,INDIRECT(CONCATENATE("'c",G39,"'!E:G")),3,0) -> 0.006087963
A40: 39 | B40: NDOJ | C40: Sebastian | D40: 42245 | E40: 6 B | F40: =VLOOKUP(G40,NBT,2) -> 1 | G40: 2 | H40: D | I40: =IF(AND(J40=0,H40<>"D"),"ABS","") | J40: =COUNTIF(INDIRECT(CONCATENATE("'c",G40,"'!E:E")),A40) -> 0 | K40: =IF(OR(J40=1,I40="ABS"),E40,"") | L40: =IF(I40="ABS",MAX(INDIRECT(CONCATENATE("maxc",G40))),S40) -> #N/A | S40: =VLOOKUP(inscript!A40,INDIRECT(CONCATENATE("'c",G40,"'!E:G")),3,0) -> #N/A
...

Sheet c1
A1: 1 | C1: Classement des Filles de 6ème | F1: 1300 m | K1: =MAX(maxc1) -> 0.0081134259
A3: Arrivée | B3: Nom | C3: Prénom | D3: Classe | E3: Dossard | F3: Temps | G3: Temps moyen | H3: Erreur
A4: 1 | B4: =VLOOKUP(E4,Dossard,2) -> GALIFFET | C4: =VLOOKUP(E4,Dossard,3) -> Wendy | D4: =VLOOKUP(E4,Dossard,5) -> 6 A | E4: 10 | F4: 0.0036805556 | G4: =IF(F4="","",F4/VLOOKUP(E4,Dossard,6)) -> 0.0036805556 | H4: =IF(E4="","",IF(OR(E4>dernier,E4<premier),"inconnu",IF(VLOOKUP(E4,edition,7)=1,E4,"Erreur Course"))) -> 10
A5: =IF(OR(H5="inconnu",H5="déjà saisi",IF(F5="","FAUX",F5=F4)),A4,A4+1) -> 2 | B5: =VLOOKUP(E5,Dossard,2) -> DESSAINT | C5: =VLOOKUP(E5,Dossard,3) -> Maëlys | D5: =VLOOKUP(E5,Dossard,5) -> 6 B | E5: 29 | F5: 0.0037847222 | G5: =IF(F5="","",F5/VLOOKUP(E5,Dossard,6)) -> 0.0037847222 | H5: =IF(E5="","",IF(AND(E5<=dernier,E5>=premier),IF((COUNTIF(C:E,E5))>1,"déjà saisi",(IF(VLOOKUP(E5,edition,7)=1,E5,"Erreur Course"))),"inconnu")) -> 29
A6: =IF(OR(H6="inconnu",H6="déjà saisi",IF(F6="","FAUX",F6=F5)),A5,A5+1) -> 3 | B6: =VLOOKUP(E6,Dossard,2) -> ADRIAN | C6: =VLOOKUP(E6,Dossard,3) -> Louise | D6: =VLOOKUP(E6,Dossard,5) -> CM2 - REVILLON | E6: 448 | F6: 0.0038773148 | G6: =IF(F6="","",F6/VLOOKUP(E6,Dossard,6)) -> 0.0038773148 | H6: =IF(E6="","",IF(AND(E6<=dernier,E6>=premier),IF((COUNTIF(C:E,E6))>1,"déjà saisi",(IF(VLOOKUP(E6,edition,7)=1,E6,"Erreur Course"))),"inconnu")) -> 448
A7: =IF(OR(H7="inconnu",H7="déjà saisi",IF(F7="","FAUX",F7=F6)),A6,A6+1) -> 4 | B7: =VLOOKUP(E7,Dossard,2) -> PIERRE | C7: =VLOOKUP(E7,Dossard,3) -> Zoé | D7: =VLOOKUP(E7,Dossard,5) -> 6 B | E7: 41 | F7: 0.0039699074 | G7: =IF(F7="","",F7/VLOOKUP(E7,Dossard,6)) -> 0.0039699074 | H7: =IF(E7="","",IF(AND(E7<=dernier,E7>=premier),IF((COUNTIF(C:E,E7))>1,"déjà saisi",(IF(VLOOKUP(E7,edition,7)=1,E7,"Erreur Course"))),"inconnu")) -> 41
A8: =IF(OR(H8="inconnu",H8="déjà saisi",IF(F8="","FAUX",F8=F7)),A7,A7+1) -> 5 | B8: =VLOOKUP(E8,Dossard,2) -> FREDERIC | C8: =VLOOKUP(E8,Dossard,3) -> Léna | D8: =VLOOKUP(E8,Dossard,5) -> 6 A | E8: 9 | F8: 0.0040972222 | G8: =IF(F8="","",F8/VLOOKUP(E8,Dossard,6)) -> 0.0040972222 | H8: =IF(E8="","",IF(AND(E8<=dernier,E8>=premier),IF((COUNTIF(C:E,E8))>1,"déjà saisi",(IF(VLOOKUP(E8,edition,7)=1,E8,"Erreur Course"))),"inconnu")) -> 9
A9: =IF(OR(H9="inconnu",H9="déjà saisi",IF(F9="","FAUX",F9=F8)),A8,A8+1) -> 6 | B9: =VLOOKUP(E9,Dossard,2) -> VANÇON | C9: =VLOOKUP(E9,Dossard,3) -> Joana | D9: =VLOOKUP(E9,Dossard,5) -> 6 A | E9: 21 | F9: 0.0042013889 | G9: =IF(F9="","",F9/VLOOKUP(E9,Dossard,6)) -> 0.0042013889 | H9: =IF(E9="","",IF(AND(E9<=dernier,E9>=premier),IF((COUNTIF(C:E,E9))>1,"déjà saisi",(IF(VLOOKUP(E9,edition,7)=1,E9,"Erreur Course"))),"inconnu")) -> 21
A10: =IF(OR(H10="inconnu",H10="déjà saisi",IF(F10="","FAUX",F10=F9)),A9,A9+1) -> 7 | B10: =VLOOKUP(E10,Dossard,2) -> MERGUIN | C10: =VLOOKUP(E10,Dossard,3) -> Léa | D10: =VLOOKUP(E10,Dossard,5) -> 6 A | E10: 15 | F10: 0.0043171296 | G10: =IF(F10="","",F10/VLOOKUP(E10,Dossard,6)) -> 0.0043171296 | H10: =IF(E10="","",IF(AND(E10<=dernier,E10>=premier),IF((COUNTIF(C:E,E10))>1,"déjà saisi",(IF(VLOOKUP(E10,edition,7)=1,E10,"Erreur Course"))),"inconnu")) -> 15
A11: =IF(OR(H11="inconnu",H11="déjà saisi",IF(F11="","FAUX",F11=F10)),A10,A10+1) -> 8 | B11: =VLOOKUP(E11,Dossard,2) -> VINCENT VERDENAL | C11: =VLOOKUP(E11,Dossard,3) -> Liya | D11: =VLOOKUP(E11,Dossard,5) -> 6 B | E11: 45 | F11: 0.0044097222 | G11: =IF(F11="","",F11/VLOOKUP(E11,Dossard,6)) -> 0.0044097222 | H11: =IF(E11="","",IF(AND(E11<=dernier,E11>=premier),IF((COUNTIF(C:E,E11))>1,"déjà saisi",(IF(VLOOKUP(E11,edition,7)=1,E11,"Erreur Course"))),"inconnu")) -> 45
A12: =IF(OR(H12="inconnu",H12="déjà saisi",IF(F12="","FAUX",F12=F11)),A11,A11+1) -> 9 | B12: =VLOOKUP(E12,Dossard,2) -> PETITJEAN GUIMBERT | C12: =VLOOKUP(E12,Dossard,3) -> Judith | D12: =VLOOKUP(E12,Dossard,5) -> CM2 - DOMMARTIN | E12: 472 | F12: 0.0044560185 | G12: =IF(F12="","",F12/VLOOKUP(E12,Dossard,6)) -> 0.0044560185 | H12: =IF(E12="","",IF(AND(E12<=dernier,E12>=premier),IF((COUNTIF(C:E,E12))>1,"déjà saisi",(IF(VLOOKUP(E12,edition,7)=1,E12,"Erreur Course"))),"inconnu")) -> 472
A13: =IF(OR(H13="inconnu",H13="déjà saisi",IF(F13="","FAUX",F13=F12)),A12,A12+1) -> 10 | B13: =VLOOKUP(E13,Dossard,2) -> JOUIRA | C13: =VLOOKUP(E13,Dossard,3) -> Ayah | D13: =VLOOKUP(E13,Dossard,5) -> CM2 - DOMMARTIN | E13: 471 | F13: 0.0045833333 | G13: =IF(F13="","",F13/VLOOKUP(E13,Dossard,6)) -> 0.0045833333 | H13: =IF(E13="","",IF(AND(E13<=dernier,E13>=premier),IF((COUNTIF(C:E,E13))>1,"déjà saisi",(IF(VLOOKUP(E13,edition,7)=1,E13,"Erreur Course"))),"inconnu")) -> 471
A14: =IF(OR(H14="inconnu",H14="déjà saisi",IF(F14="","FAUX",F14=F13)),A13,A13+1) -> 11 | B14: =VLOOKUP(E14,Dossard,2) -> KONATE | C14: =VLOOKUP(E14,Dossard,3) -> Neyla | D14: =VLOOKUP(E14,Dossard,5) -> 6 C | E14: 58 | F14: 0.0046296296 | G14: =IF(F14="","",F14/VLOOKUP(E14,Dossard,6)) -> 0.0046296296 | H14: =IF(E14="","",IF(AND(E14<=dernier,E14>=premier),IF((COUNTIF(C:E,E14))>1,"déjà saisi",(IF(VLOOKUP(E14,edition,7)=1,E14,"Erreur Course"))),"inconnu")) -> 58
A15: =IF(OR(H15="inconnu",H15="déjà saisi",IF(F15="","FAUX",F15=F14)),A14,A14+1) -> 12 | B15: =VLOOKUP(E15,Dossard,2) -> SÉSÉ | C15: =VLOOKUP(E15,Dossard,3) -> Léana | D15: =VLOOKUP(E15,Dossard,5) -> CM2 - DOMMARTIN | E15: 473 | F15: 0.0047685185 | G15: =IF(F15="","",F15/VLOOKUP(E15,Dossard,6)) -> 0.0047685185 | H15: =IF(E15="","",IF(AND(E15<=dernier,E15>=premier),IF((COUNTIF(C:E,E15))>1,"déjà saisi",(IF(VLOOKUP(E15,edition,7)=1,E15,"Erreur Course"))),"inconnu")) -> 473
A16: =IF(OR(H16="inconnu",H16="déjà saisi",IF(F16="","FAUX",F16=F15)),A15,A15+1) -> 13 | B16: =VLOOKUP(E16,Dossard,2) -> COLNEL | C16: =VLOOKUP(E16,Dossard,3) -> Louise | D16: =VLOOKUP(E16,Dossard,5) -> CM2 - DOMMARTIN | E16: 469 | F16: 0.0048263889 | G16: =IF(F16="","",F16/VLOOKUP(E16,Dossard,6)) -> 0.0048263889 | H16: =IF(E16="","",IF(AND(E16<=dernier,E16>=premier),IF((COUNTIF(C:E,E16))>1,"déjà saisi",(IF(VLOOKUP(E16,edition,7)=1,E16,"Erreur Course"))),"inconnu")) -> 469
... A67: =IF(OR(H67="inconnu",H67="déjà saisi",IF(F67="","FAUX",F67=F66)),A66,A66+1) -> 64 | B67: =VLOOKUP(E67,Dossard,2) -> DEFRANOUX | C67: =VLOOKUP(E67,Dossard,3) -> Alix | D67: =VLOOKUP(E67,Dossard,5) -> CM1 - ST-AME | E67: 432 | F67: 0.0081134259 | G67: =IF(F67="","",F67/VLOOKUP(E67,Dossard,6)) -> 0.0081134259 | H67: =IF(E67="","",IF(AND(E67<=dernier,E67>=premier),IF((COUNTIF(C:E,E67))>1,"déjà saisi",(IF(VLOOKUP(E67,edition,7)=1,E67,"Erreur Course"))),"inconnu")) -> 432
A68: =IF(OR(H68="inconnu",H68="déjà saisi",IF(F68="","FAUX",F68=F67)),A67,A67+1) -> 65 | B68: =VLOOKUP(E68,Dossard,2) -> #N/A | C68: =VLOOKUP(E68,Dossard,3) -> #N/A | D68: =VLOOKUP(E68,Dossard,5) -> #N/A | G68: =IF(F68="","",F68/VLOOKUP(E68,Dossard,6)) | H68: =IF(E68="","",IF(AND(E68<=dernier,E68>=premier),IF((COUNTIF(C:E,E68))>1,"déjà saisi",(IF(VLOOKUP(E68,edition,7)=1,E68,"Erreur Course"))),"inconnu"))
A69: =IF(OR(H69="inconnu",H69="déjà saisi",IF(F69="","FAUX",F69=F68)),A68,A68+1) -> 66 | B69: =VLOOKUP(E69,Dossard,2) -> #N/A | C69: =VLOOKUP(E69,Dossard,3) -> #N/A | D69: =VLOOKUP(E69,Dossard,5) -> #N/A | G69: =IF(F69="","",F69/VLOOKUP(E69,Dossard,6)) | H69: =IF(E69="","",IF(AND(E69<=dernier,E69>=premier),IF((COUNTIF(C:E,E69))>1,"déjà saisi",(IF(VLOOKUP(E69,edition,7)=1,E69,"Erreur Course"))),"inconnu"))
A70: =IF(OR(H70="inconnu",H70="déjà saisi",IF(F70="","FAUX",F70=F69)),A69,A69+1) -> 67 | B70: =VLOOKUP(E70,Dossard,2) -> #N/A | C70: =VLOOKUP(E70,Dossard,3) -> #N/A | D70: =VLOOKUP(E70,Dossard,5) -> #N/A | G70: =IF(F70="","",F70/VLOOKUP(E70,Dossard,6)) | H70: =IF(E70="","",IF(AND(E70<=dernier,E70>=premier),IF((COUNTIF(C:E,E70))>1,"déjà saisi",(IF(VLOOKUP(E70,edition,7)=1,E70,"Erreur Course"))),"inconnu"))
A71: =IF(OR(H71="inconnu",H71="déjà saisi",IF(F71="","FAUX",F71=F70)),A70,A70+1) -> 68 | B71: =VLOOKUP(E71,Dossard,2) -> #N/A | C71: =VLOOKUP(E71,Dossard,3) -> #N/A | D71: =VLOOKUP(E71,Dossard,5) -> #N/A | G71: =IF(F71="","",F71/VLOOKUP(E71,Dossard,6)) | H71: =IF(E71="","",IF(AND(E71<=dernier,E71>=premier),IF((COUNTIF(C:E,E71))>1,"déjà saisi",(IF(VLOOKUP(E71,edition,7)=1,E71,"Erreur Course"))),"inconnu"))
A72: =IF(OR(H72="inconnu",H72="déjà saisi",IF(F72="","FAUX",F72=F71)),A71,A71+1) -> 69 | B72: =VLOOKUP(E72,Dossard,2) -> #N/A | C72: =VLOOKUP(E72,Dossard,3) -> #N/A | D72: =VLOOKUP(E72,Dossard,5) -> #N/A | G72: =IF(F72="","",F72/VLOOKUP(E72,Dossard,6)) | H72: =IF(E72="","",IF(AND(E72<=dernier,E72>=premier),IF((COUNTIF(C:E,E72))>1,"déjà saisi",(IF(VLOOKUP(E72,edition,7)=1,E72,"Erreur Course"))),"inconnu"))
A73: =IF(OR(H73="inconnu",H73="déjà saisi",IF(F73="","FAUX",F73=F72)),A72,A72+1) -> 70 | B73: =VLOOKUP(E73,Dossard,2) -> #N/A | C73: =VLOOKUP(E73,Dossard,3) -> #N/A | D73: =VLOOKUP(E73,Dossard,5) -> #N/A | G73: =IF(F73="","",F73/VLOOKUP(E73,Dossard,6)) | H73: =IF(E73="","",IF(AND(E73<=dernier,E73>=premier),IF((COUNTIF(C:E,E73))>1,"déjà saisi",(IF(VLOOKUP(E73,edition,7)=1,E73,"Erreur Course"))),"inconnu"))
A74: =IF(OR(H74="inconnu",H74="déjà saisi",IF(F74="","FAUX",F74=F73)),A73,A73+1) -> 71 | B74: =VLOOKUP(E74,Dossard,2) -> #N/A | C74: =VLOOKUP(E74,Dossard,3) -> #N/A | D74: =VLOOKUP(E74,Dossard,5) -> #N/A | G74: =IF(F74="","",F74/VLOOKUP(E74,Dossard,6)) | H74: =IF(E74="","",IF(AND(E74<=dernier,E74>=premier),IF((COUNTIF(C:E,E74))>1,"déjà saisi",(IF(VLOOKUP(E74,edition,7)=1,E74,"Erreur Course"))),"inconnu"))
A75: =IF(OR(H75="inconnu",H75="déjà saisi",IF(F75="","FAUX",F75=F74)),A74,A74+1) -> 72 | B75: =VLOOKUP(E75,Dossard,2) -> #N/A | C75: =VLOOKUP(E75,Dossard,3) -> #N/A | D75: =VLOOKUP(E75,Dossard,5) -> #N/A | G75: =IF(F75="","",F75/VLOOKUP(E75,Dossard,6)) | H75: =IF(E75="","",IF(AND(E75<=dernier,E75>=premier),IF((COUNTIF(C:E,E75))>1,"déjà saisi",(IF(VLOOKUP(E75,edition,7)=1,E75,"Erreur Course"))),"inconnu"))
A76: =IF(OR(H76="inconnu",H76="déjà saisi",IF(F76="","FAUX",F76=F75)),A75,A75+1) -> 73 | B76: =VLOOKUP(E76,Dossard,2) -> #N/A | C76: =VLOOKUP(E76,Dossard,3) -> #N/A | D76: =VLOOKUP(E76,Dossard,5) -> #N/A | G76: =IF(F76="","",F76/VLOOKUP(E76,Dossard,6)) | H76: =IF(E76="","",IF(AND(E76<=dernier,E76>=premier),IF((COUNTIF(C:E,E76))>1,"déjà saisi",(IF(VLOOKUP(E76,edition,7)=1,E76,"Erreur Course"))),"inconnu"))
A77: =IF(OR(H77="inconnu",H77="déjà saisi",IF(F77="","FAUX",F77=F76)),A76,A76+1) -> 74 | B77: =VLOOKUP(E77,Dossard,2) -> #N/A | C77: =VLOOKUP(E77,Dossard,3) -> #N/A | D77: =VLOOKUP(E77,Dossard,5) -> #N/A | G77: =IF(F77="","",F77/VLOOKUP(E77,Dossard,6)) | H77: =IF(E77="","",IF(AND(E77<=dernier,E77>=premier),IF((COUNTIF(C:E,E77))>1,"déjà saisi",(IF(VLOOKUP(E77,edition,7)=1,E77,"Erreur Course"))),"inconnu"))
A78: =IF(OR(H78="inconnu",H78="déjà saisi",IF(F78="","FAUX",F78=F77)),A77,A77+1) -> 75 | B78: =VLOOKUP(E78,Dossard,2) -> #N/A | C78: =VLOOKUP(E78,Dossard,3) -> #N/A | D78: =VLOOKUP(E78,Dossard,5) -> #N/A | G78: =IF(F78="","",F78/VLOOKUP(E78,Dossard,6)) | H78: =IF(E78="","",IF(AND(E78<=dernier,E78>=premier),IF((COUNTIF(C:E,E78))>1,"déjà saisi",(IF(VLOOKUP(E78,edition,7)=1,E78,"Erreur Course"))),"inconnu"))
A79: =IF(OR(H79="inconnu",H79="déjà saisi",IF(F79="","FAUX",F79=F78)),A78,A78+1) -> 76 | B79: =VLOOKUP(E79,Dossard,2) -> #N/A | C79: =VLOOKUP(E79,Dossard,3) -> #N/A | D79: =VLOOKUP(E79,Dossard,5) -> #N/A | G79: =IF(F79="","",IF(F79>=F78,IF(H79=E79,F79/VLOOKUP(E79,Dossard,6),"nc"),"erreur tps")) | H79: =IF(E79="","",IF(AND(E79<=dernier,E79>=premier),IF((COUNTIF(C:E,E79))>1,"déjà saisi",(IF(VLOOKUP(E79,edition,7)=1,E79,"Erreur Course"))),"inconnu"))
A80: =IF(OR(H80="inconnu",H80="déjà saisi",IF(F80="","FAUX",F80=F79)),A79,A79+1) -> 77 | B80: =VLOOKUP(E80,Dossard,2) -> #N/A | C80: =VLOOKUP(E80,Dossard,3) -> #N/A | D80: =VLOOKUP(E80,Dossard,5) -> #N/A | G80: =IF(F80="","",IF(F80>=F79,IF(H80=E80,F80/VLOOKUP(E80,Dossard,6),"nc"),"erreur tps")) | H80: =IF(E80="","",IF(AND(E80<=dernier,E80>=premier),IF((COUNTIF(C:E,E80))>1,"déjà saisi",(IF(VLOOKUP(E80,edition,7)=1,E80,"Erreur Course"))),"inconnu"))
A81: =IF(OR(H81="inconnu",H81="déjà saisi",IF(F81="","FAUX",F81=F80)),A80,A80+1) -> 78 | B81: =VLOOKUP(E81,Dossard,2) -> #N/A | C81: =VLOOKUP(E81,Dossard,3) -> #N/A | D81: =VLOOKUP(E81,Dossard,5) -> #N/A | G81: =IF(F81="","",IF(F81>=F80,IF(H81=E81,F81/VLOOKUP(E81,Dossard,6),"nc"),"erreur tps")) | H81: =IF(E81="","",IF(AND(E81<=dernier,E81>=premier),IF((COUNTIF(C:E,E81))>1,"déjà saisi",(IF(VLOOKUP(E81,edition,7)=1,E81,"Erreur Course"))),"inconnu"))
A82: =IF(OR(H82="inconnu",H82="déjà saisi",IF(F82="","FAUX",F82=F81)),A81,A81+1) -> 79 | B82: =VLOOKUP(E82,Dossard,2) -> #N/A | C82: =VLOOKUP(E82,Dossard,3) -> #N/A | D82: =VLOOKUP(E82,Dossard,5) -> #N/A | G82: =IF(F82="","",IF(F82>=F81,IF(H82=E82,F82/VLOOKUP(E82,Dossard,6),"nc"),"erreur tps")) | H82: =IF(E82="","",IF(AND(E82<=dernier,E82>=premier),IF((COUNTIF(C:E,E82))>1,"déjà saisi",(IF(VLOOKUP(E82,edition,7)=1,E82,"Erreur Course"))),"inconnu"))
A83: =IF(OR(H83="inconnu",H83="déjà saisi",IF(F83="","FAUX",F83=F82)),A82,A82+1) -> 80 | B83: =VLOOKUP(E83,Dossard,2) -> #N/A | C83: =VLOOKUP(E83,Dossard,3) -> #N/A | D83: =VLOOKUP(E83,Dossard,5) -> #N/A | G83: =IF(F83="","",IF(F83>=F82,IF(H83=E83,F83/VLOOKUP(E83,Dossard,6),"nc"),"erreur tps")) | H83: =IF(E83="","",IF(AND(E83<=dernier,E83>=premier),IF((COUNTIF(C:E,E83))>1,"déjà saisi",(IF(VLOOKUP(E83,edition,7)=1,E83,"Erreur Course"))),"inconnu"))
A84: =IF(OR(H84="inconnu",H84="déjà saisi",IF(F84="","FAUX",F84=F83)),A83,A83+1) -> 81 | B84: =VLOOKUP(E84,Dossard,2) -> #N/A | C84: =VLOOKUP(E84,Dossard,3) -> #N/A | D84: =VLOOKUP(E84,Dossard,5) -> #N/A | G84: =IF(F84="","",IF(F84>=F83,IF(H84=E84,F84/VLOOKUP(E84,Dossard,6),"nc"),"erreur tps")) | H84: =IF(E84="","",IF(AND(E84<=dernier,E84>=premier),IF((COUNTIF(C:E,E84))>1,"déjà saisi",(IF(VLOOKUP(E84,edition,7)=1,E84,"Erreur Course"))),"inconnu"))
A85: =IF(OR(H85="inconnu",H85="déjà saisi",IF(F85="","FAUX",F85=F84)),A84,A84+1) -> 82 | B85: =VLOOKUP(E85,Dossard,2) -> #N/A | C85: =VLOOKUP(E85,Dossard,3) -> #N/A | D85: =VLOOKUP(E85,Dossard,5) -> #N/A | G85: =IF(F85="","",IF(F85>=F84,IF(H85=E85,F85/VLOOKUP(E85,Dossard,6),"nc"),"erreur tps")) | H85: =IF(E85="","",IF(AND(E85<=dernier,E85>=premier),IF((COUNTIF(C:E,E85))>1,"déjà saisi",(IF(VLOOKUP(E85,edition,7)=1,E85,"Erreur Course"))),"inconnu"))
A86: =IF(OR(H86="inconnu",H86="déjà saisi",IF(F86="","FAUX",F86=F85)),A85,A85+1) -> 83 | B86: =VLOOKUP(E86,Dossard,2) -> #N/A | C86: =VLOOKUP(E86,Dossard,3) -> #N/A | D86: =VLOOKUP(E86,Dossard,5) -> #N/A | G86: =IF(F86="","",IF(F86>=F85,IF(H86=E86,F86/VLOOKUP(E86,Dossard,6),"nc"),"erreur tps")) | H86: =IF(E86="","",IF(AND(E86<=dernier,E86>=premier),IF((COUNTIF(C:E,E86))>1,"déjà saisi",(IF(VLOOKUP(E86,edition,7)=1,E86,"Erreur Course"))),"inconnu"))
A87: =IF(OR(H87="inconnu",H87="déjà saisi",IF(F87="","FAUX",F87=F86)),A86,A86+1) -> 84 | B87: =VLOOKUP(E87,Dossard,2) -> #N/A | C87: =VLOOKUP(E87,Dossard,3) -> #N/A | D87: =VLOOKUP(E87,Dossard,5) -> #N/A | G87: =IF(F87="","",IF(F87>=F86,IF(H87=E87,F87/VLOOKUP(E87,Dossard,6),"nc"),"erreur tps")) | H87: =IF(E87="","",IF(AND(E87<=dernier,E87>=premier),IF((COUNTIF(C:E,E87))>1,"déjà saisi",(IF(VLOOKUP(E87,edition,7)=1,E87,"Erreur Course"))),"inconnu"))
A88: =IF(OR(H88="inconnu",H88="déjà saisi",IF(F88="","FAUX",F88=F87)),A87,A87+1) -> 85 | B88: =VLOOKUP(E88,Dossard,2) -> #N/A | C88: =VLOOKUP(E88,Dossard,3) -> #N/A | D88: =VLOOKUP(E88,Dossard,5) -> #N/A | G88: =IF(F88="","",IF(F88>=F87,IF(H88=E88,F88/VLOOKUP(E88,Dossard,6),"nc"),"erreur tps")) | H88: =IF(E88="","",IF(AND(E88<=dernier,E88>=premier),IF((COUNTIF(C:E,E88))>1,"déjà saisi",(IF(VLOOKUP(E88,edition,7)=1,E88,"Erreur Course"))),"inconnu"))
A89: =IF(OR(H89="inconnu",H89="déjà saisi",IF(F89="","FAUX",F89=F88)),A88,A88+1) -> 86 | B89: =VLOOKUP(E89,Dossard,2) -> #N/A | C89: =VLOOKUP(E89,Dossard,3) -> #N/A | D89: =VLOOKUP(E89,Dossard,5) -> #N/A | G89: =IF(F89="","",IF(F89>=F88,IF(H89=E89,F89/VLOOKUP(E89,Dossard,6),"nc"),"erreur tps")) | H89: =IF(E89="","",IF(AND(E89<=dernier,E89>=premier),IF((COUNTIF(C:E,E89))>1,"déjà saisi",(IF(VLOOKUP(E89,edition,7)=1,E89,"Erreur Course"))),"inconnu"))
A90: =IF(OR(H90="inconnu",H90="déjà saisi",IF(F90="","FAUX",F90=F89)),A89,A89+1) -> 87 | B90: =VLOOKUP(E90,Dossard,2) -> #N/A | C90: =VLOOKUP(E90,Dossard,3) -> #N/A | D90: =VLOOKUP(E90,Dossard,5) -> #N/A | G90: =IF(F90="","",IF(F90>=F89,IF(H90=E90,F90/VLOOKUP(E90,Dossard,6),"nc"),"erreur tps")) | H90: =IF(E90="","",IF(AND(E90<=dernier,E90>=premier),IF((COUNTIF(C:E,E90))>1,"déjà saisi",(IF(VLOOKUP(E90,edition,7)=1,E90,"Erreur Course"))),"inconnu"))
... A104: =IF(OR(H104="inconnu",H104="déjà saisi",IF(F104="","FAUX",F104=F103)),A103,A103+1) -> 101 | B104: =VLOOKUP(E104,Dossard,2) -> #N/A | C104: =VLOOKUP(E104,Dossard,3) -> #N/A | D104: =VLOOKUP(E104,Dossard,5) -> #N/A | G104: =IF(F104="","",IF(F104>=F103,IF(H104=E104,F104/VLOOKUP(E104,Dossard,6),"nc"),"erreur tps")) | H104: =IF(E104="","",IF(AND(E104<=dernier,E104>=premier),IF((COUNTIF(C:E,E104))>1,"déjà saisi",(IF(VLOOKUP(E104,edition,7)=1,E104,"Erreur Course"))),"inconnu"))

Sheet c2
A1: P | C1: Classement des garçons de 6ème | G1: 1300 m
A3: Arrivée | B3: Nom | C3: Prénom | D3: Classe | E3: Dossard | F3: Temps | G3: Temps moyen | H3: Erreur
A4: 1 | B4: =VLOOKUP(E4,Dossard,2) -> ROLIN | C4: =VLOOKUP(E4,Dossard,3) -> Mylann | D4: =VLOOKUP(E4,Dossard,5) -> 6 A | E4: 18 | F4: 0.003287037 | G4: =IF(F5="","",IF(F5>=F4,IF(H5=E5,F5/VLOOKUP(E5,Dossard,6),"nc"),"erreur tps")) -> 0.0033333333 | H4: =IF(E4="","",IF(OR(E4>dernier,E4<premier),"inconnu",IF(VLOOKUP(E4,edition,7)=2,E4,"Erreur Course"))) -> 18
A5: =IF(OR(H5="inconnu",H5="déjà saisi",IF(F5="","FAUX",F5=F4)),A4,A4+1) -> 2 | B5: =VLOOKUP(E5,Dossard,2) -> DOS SANTOS | C5: =VLOOKUP(E5,Dossard,3) -> Morgan | D5: =VLOOKUP(E5,Dossard,5) -> CM2 - REVILLON | E5: 454 | F5: 0.0033333333 | G5: =IF(F5="","",IF(F5>=F4,IF(H5=E5,F5/VLOOKUP(E5,Dossard,6),"nc"),"erreur tps")) -> 0.0033333333 | H5: =IF(E5="","",IF(AND(E5<=dernier,E5>=premier),IF((COUNTIF(C:E,E5))>1,"déjà saisi",(IF(VLOOKUP(E5,edition,7)=2,E5,"Erreur Course"))),"inconnu")) -> 454
A6: =IF(OR(H6="inconnu",H6="déjà saisi",IF(F6="","FAUX",F6=F5)),A5,A5+1) -> 3 | B6: =VLOOKUP(E6,Dossard,2) -> THIERY | C6: =VLOOKUP(E6,Dossard,3) -> Malone | D6: =VLOOKUP(E6,Dossard,5) -> 6 C | E6: 68 | F6: 0.0035069444 | G6: =IF(F6="","",IF(F6>=F5,IF(H6=E6,F6/VLOOKUP(E6,Dossard,6),"nc"),"erreur tps")) -> 0.0035069444 | H6: =IF(E6="","",IF(AND(E6<=dernier,E6>=premier),IF((COUNTIF(C:E,E6))>1,"déjà saisi",(IF(VLOOKUP(E6,edition,7)=2,E6,"Erreur Course"))),"inconnu")) -> 68
A7: =IF(OR(H7="inconnu",H7="déjà saisi",IF(F7="","FAUX",F7=F6)),A6,A6+1) -> 4 | B7: =VLOOKUP(E7,Dossard,2) -> OUSMANE | C7: =VLOOKUP(E7,Dossard,3) -> Nahim | D7: =VLOOKUP(E7,Dossard,5) -> 6 C | E7: 63 | F7: 0.0035648148 | G7: =IF(F7="","",IF(F7>=F6,IF(H7=E7,F7/VLOOKUP(E7,Dossard,6),"nc"),"erreur tps")) -> 0.0035648148 | H7: =IF(E7="","",IF(AND(E7<=dernier,E7>=premier),IF((COUNTIF(C:E,E7))>1,"déjà saisi",(IF(VLOOKUP(E7,edition,7)=2,E7,"Erreur Course"))),"inconnu")) -> 63
A8: =IF(OR(H8="inconnu",H8="déjà saisi",IF(F8="","FAUX",F8=F7)),A7,A7+1) -> 5 | B8: =VLOOKUP(E8,Dossard,2) -> GALLAIRE | C8: =VLOOKUP(E8,Dossard,3) -> Martin | D8: =VLOOKUP(E8,Dossard,5) -> CM1 - ST-AME | E8: 434 | F8: 0.0036111111 | G8: =IF(F8="","",IF(F8>=F7,IF(H8=E8,F8/VLOOKUP(E8,Dossard,6),"nc"),"erreur tps")) -> 0.0036111111 | H8: =IF(E8="","",IF(AND(E8<=dernier,E8>=premier),IF((COUNTIF(C:E,E8))>1,"déjà saisi",(IF(VLOOKUP(E8,edition,7)=2,E8,"Erreur Course"))),"inconnu")) -> 434
A9: =IF(OR(H9="inconnu",H9="déjà saisi",IF(F9="","FAUX",F9=F8)),A8,A8+1) -> 6 | B9: =VLOOKUP(E9,Dossard,2) -> PUGET | C9: =VLOOKUP(E9,Dossard,3) -> Romain | D9: =VLOOKUP(E9,Dossard,5) -> 6 C | E9: 65 | F9: 0.0036458333 | G9: =IF(F9="","",IF(F9>=F8,IF(H9=E9,F9/VLOOKUP(E9,Dossard,6),"nc"),"erreur tps")) -> 0.0036458333 | H9: =IF(E9="","",IF(AND(E9<=dernier,E9>=premier),IF((COUNTIF(C:E,E9))>1,"déjà saisi",(IF(VLOOKUP(E9,edition,7)=2,E9,"Erreur Course"))),"inconnu")) -> 65
A10: =IF(OR(H10="inconnu",H10="déjà saisi",IF(F10="","FAUX",F10=F9)),A9,A9+1) -> 7 | B10: =VLOOKUP(E10,Dossard,2) -> CHEVRIER | C10: =VLOOKUP(E10,Dossard,3) -> Mathias | D10: =VLOOKUP(E10,Dossard,5) -> 6 A | E10: 4 | F10: 0.0037268519 | G10: =IF(F10="","",IF(F10>=F9,IF(H10=E10,F10/VLOOKUP(E10,Dossard,6),"nc"),"erreur tps")) -> 0.0037268519 | H10: =IF(E10="","",IF(AND(E10<=dernier,E10>=premier),IF((COUNTIF(C:E,E10))>1,"déjà saisi",(IF(VLOOKUP(E10,edition,7)=2,E10,"Erreur Course"))),"inconnu")) -> 4
A11: =IF(OR(H11="inconnu",H11="déjà saisi",IF(F11="","FAUX",F11=F10)),A10,A10+1) -> 8 | B11: =VLOOKUP(E11,Dossard,2) -> CELERIER | C11: =VLOOKUP(E11,Dossard,3) -> Joseph | D11: =VLOOKUP(E11,Dossard,5) -> 6 B | E11: 27 | F11: 0.0037731481 | G11: =IF(F11="","",IF(F11>=F10,IF(H11=E11,F11/VLOOKUP(E11,Dossard,6),"nc"),"erreur tps")) -> 0.0037731481 | H11: =IF(E11="","",IF(AND(E11<=dernier,E11>=premier),IF((COUNTIF(C:E,E11))>1,"déjà saisi",(IF(VLOOKUP(E11,edition,7)=2,E11,"Erreur Course"))),"inconnu")) -> 27
A12: =IF(OR(H12="inconnu",H12="déjà saisi",IF(F12="","FAUX",F12=F11)),A11,A11+1) -> 9 | B12: =VLOOKUP(E12,Dossard,2) -> HOCQUARD | C12: =VLOOKUP(E12,Dossard,3) -> Emile | D12: =VLOOKUP(E12,Dossard,5) -> 6 C | E12: 55 | F12: 0.0038657407 | G12: =IF(F12="","",IF(F12>=F11,IF(H12=E12,F12/VLOOKUP(E12,Dossard,6),"nc"),"erreur tps")) -> 0.0038657407 | H12: =IF(E12="","",IF(AND(E12<=dernier,E12>=premier),IF((COUNTIF(C:E,E12))>1,"déjà saisi",(IF(VLOOKUP(E12,edition,7)=2,E12,"Erreur Course"))),"inconnu")) -> 55
A13: =IF(OR(H13="inconnu",H13="déjà saisi",IF(F13="","FAUX",F13=F12)),A12,A12+1) -> 10 | B13: =VLOOKUP(E13,Dossard,2) -> RATEAU | C13: =VLOOKUP(E13,Dossard,3) -> Axel | D13: =VLOOKUP(E13,Dossard,5) -> 6 B | E13: 42 | F13: 0.0039467593 | G13: =IF(F13="","",IF(F13>=F12,IF(H13=E13,F13/VLOOKUP(E13,Dossard,6),"nc"),"erreur tps")) -> 0.0039467593 | H13: =IF(E13="","",IF(AND(E13<=dernier,E13>=premier),IF((COUNTIF(C:E,E13))>1,"déjà saisi",(IF(VLOOKUP(E13,edition,7)=2,E13,"Erreur Course"))),"inconnu")) -> 42
A14: =IF(OR(H14="inconnu",H14="déjà saisi",IF(F14="","FAUX",F14=F13)),A13,A13+1) -> 11 | B14: =VLOOKUP(E14,Dossard,2) -> LELU | C14: =VLOOKUP(E14,Dossard,3) -> Arthur | D14: =VLOOKUP(E14,Dossard,5) -> CM1 - ST-AME | E14: 438 | F14: 0.0040046296 | G14: =IF(F14="","",IF(F14>=F13,IF(H14=E14,F14/VLOOKUP(E14,Dossard,6),"nc"),"erreur tps")) -> 0.0040046296 | H14: =IF(E14="","",IF(AND(E14<=dernier,E14>=premier),IF((COUNTIF(C:E,E14))>1,"déjà saisi",(IF(VLOOKUP(E14,edition,7)=2,E14,"Erreur Course"))),"inconnu")) -> 438
A15: =IF(OR(H15="inconnu",H15="déjà saisi",IF(F15="","FAUX",F15=F14)),A14,A14+1) -> 12 | B15: =VLOOKUP(E15,Dossard,2) -> CLAUMAN NARDIN | C15: =VLOOKUP(E15,Dossard,3) -> Nuno | D15: =VLOOKUP(E15,Dossard,5) -> 6 B | E15: 28 | F15: 0.0040509259 | G15: =IF(F15="","",IF(F15>=F14,IF(H15=E15,F15/VLOOKUP(E15,Dossard,6),"nc"),"erreur tps")) -> 0.0040509259 | H15: =IF(E15="","",IF(AND(E15<=dernier,E15>=premier),IF((COUNTIF(C:E,E15))>1,"déjà saisi",(IF(VLOOKUP(E15,edition,7)=2,E15,"Erreur Course"))),"inconnu")) -> 28
A16: =IF(OR(H16="inconnu",H16="déjà saisi",IF(F16="","FAUX",F16=F15)),A15,A15+1) -> 13 | B16: =VLOOKUP(E16,Dossard,2) -> ESSABBANE | C16: =VLOOKUP(E16,Dossard,3) -> Anass | D16: =VLOOKUP(E16,Dossard,5) -> 6 C | E16: 53 | F16: 0.0041087963 | G16: =IF(F16="","",IF(F16>=F15,IF(H16=E16,F16/VLOOKUP(E16,Dossard,6),"nc"),"erreur tps")) -> 0.0041087963 | H16: =IF(E16="","",IF(AND(E16<=dernier,E16>=premier),IF((COUNTIF(C:E,E16))>1,"déjà saisi",(IF(VLOOKUP(E16,edition,7)=2,E16,"Erreur Course"))),"inconnu")) -> 53
... A74: =IF(OR(H74="inconnu",H74="déjà saisi",IF(F74="","FAUX",F74=F73)),A73,A73+1) -> 71 | B74: =VLOOKUP(E74,Dossard,2) -> OUANNOUGHI | C74: =VLOOKUP(E74,Dossard,3) -> Camil | D74: =VLOOKUP(E74,Dossard,5) -> CM2 - REVILLON | E74: 460 | F74: 0.0067013889 | G74: =IF(F74="","",IF(F74>=F73,IF(H74=E74,F74/VLOOKUP(E74,Dossard,6),"nc"),"erreur tps")) -> 0.0067013889 | H74: =IF(E74="","",IF(AND(E74<=dernier,E74>=premier),IF((COUNTIF(C:E,E74))>1,"déjà saisi",(IF(VLOOKUP(E74,edition,7)=2,E74,"Erreur Course"))),"inconnu")) -> 460
A75: =IF(OR(H75="inconnu",H75="déjà saisi",IF(F75="","FAUX",F75=F74)),A74,A74+1) -> 72 | B75: =VLOOKUP(E75,Dossard,2) -> #N/A | C75: =VLOOKUP(E75,Dossard,3) -> #N/A | D75: =VLOOKUP(E75,Dossard,5) -> #N/A | G75: =IF(F75="","",IF(F75>=F74,IF(H75=E75,F75/VLOOKUP(E75,Dossard,6),"nc"),"erreur tps")) | H75: =IF(E75="","",IF(AND(E75<=dernier,E75>=premier),IF((COUNTIF(C:E,E75))>1,"déjà saisi",(IF(VLOOKUP(E75,edition,7)=2,E75,"Erreur Course"))),"inconnu"))
A76: =IF(OR(H76="inconnu",H76="déjà saisi",IF(F76="","FAUX",F76=F75)),A75,A75+1) -> 73 | B76: =VLOOKUP(E76,Dossard,2) -> #N/A | C76: =VLOOKUP(E76,Dossard,3) -> #N/A | D76: =VLOOKUP(E76,Dossard,5) -> #N/A | G76: =IF(F76="","",IF(F76>=F75,IF(H76=E76,F76/VLOOKUP(E76,Dossard,6),"nc"),"erreur tps")) | H76: =IF(E76="","",IF(AND(E76<=dernier,E76>=premier),IF((COUNTIF(C:E,E76))>1,"déjà saisi",(IF(VLOOKUP(E76,edition,7)=2,E76,"Erreur Course"))),"inconnu"))
A77: =IF(OR(H77="inconnu",H77="déjà saisi",IF(F77="","FAUX",F77=F76)),A76,A76+1) -> 74 | B77: =VLOOKUP(E77,Dossard,2) -> #N/A | C77: =VLOOKUP(E77,Dossard,3) -> #N/A | D77: =VLOOKUP(E77,Dossard,5) -> #N/A | G77: =IF(F77="","",IF(F77>=F76,IF(H77=E77,F77/VLOOKUP(E77,Dossard,6),"nc"),"erreur tps")) | H77: =IF(E77="","",IF(AND(E77<=dernier,E77>=premier),IF((COUNTIF(C:E,E77))>1,"déjà saisi",(IF(VLOOKUP(E77,edition,7)=2,E77,"Erreur Course"))),"inconnu"))
A78: =IF(OR(H78="inconnu",H78="déjà saisi",IF(F78="","FAUX",F78=F77)),A77,A77+1) -> 75 | B78: =VLOOKUP(E78,Dossard,2) -> #N/A | C78: =VLOOKUP(E78,Dossard,3) -> #N/A | D78: =VLOOKUP(E78,Dossard,5) -> #N/A | G78: =IF(F78="","",IF(F78>=F77,IF(H78=E78,F78/VLOOKUP(E78,Dossard,6),"nc"),"erreur tps")) | H78: =IF(E78="","",IF(AND(E78<=dernier,E78>=premier),IF((COUNTIF(C:E,E78))>1,"déjà saisi",(IF(VLOOKUP(E78,edition,7)=2,E78,"Erreur Course"))),"inconnu"))
A79: =IF(OR(H79="inconnu",H79="déjà saisi",IF(F79="","FAUX",F79=F78)),A78,A78+1) -> 76 | B79: =VLOOKUP(E79,Dossard,2) -> #N/A | C79: =VLOOKUP(E79,Dossard,3) -> #N/A | D79: =VLOOKUP(E79,Dossard,5) -> #N/A | G79: =IF(F79="","",IF(F79>=F78,IF(H79=E79,F79/VLOOKUP(E79,Dossard,6),"nc"),"erreur tps")) | H79: =IF(E79="","",IF(AND(E79<=dernier,E79>=premier),IF((COUNTIF(C:E,E79))>1,"déjà saisi",(IF(VLOOKUP(E79,edition,7)=2,E79,"Erreur Course"))),"inconnu"))
A80: =IF(OR(H80="inconnu",H80="déjà saisi",IF(F80="","FAUX",F80=F79)),A79,A79+1) -> 77 | B80: =VLOOKUP(E80,Dossard,2) -> #N/A | C80: =VLOOKUP(E80,Dossard,3) -> #N/A | D80: =VLOOKUP(E80,Dossard,5) -> #N/A | G80: =IF(F80="","",IF(F80>=F79,IF(H80=E80,F80/VLOOKUP(E80,Dossard,6),"nc"),"erreur tps")) | H80: =IF(E80="","",IF(AND(E80<=dernier,E80>=premier),IF((COUNTIF(C:E,E80))>1,"déjà saisi",(IF(VLOOKUP(E80,edition,7)=2,E80,"Erreur Course"))),"inconnu"))
A81: =IF(OR(H81="inconnu",H81="déjà saisi",IF(F81="","FAUX",F81=F80)),A80,A80+1) -> 78 | B81: =VLOOKUP(E81,Dossard,2) -> #N/A | C81: =VLOOKUP(E81,Dossard,3) -> #N/A | D81: =VLOOKUP(E81,Dossard,5) -> #N/A | G81: =IF(F81="","",IF(F81>=F80,IF(H81=E81,F81/VLOOKUP(E81,Dossard,6),"nc"),"erreur tps")) | H81: =IF(E81="","",IF(AND(E81<=dernier,E81>=premier),IF((COUNTIF(C:E,E81))>1,"déjà saisi",(IF(VLOOKUP(E81,edition,7)=2,E81,"Erreur Course"))),"inconnu"))
A82: =IF(OR(H82="inconnu",H82="déjà saisi",IF(F82="","FAUX",F82=F81)),A81,A81+1) -> 79 | B82: =VLOOKUP(E82,Dossard,2) -> #N/A | C82: =VLOOKUP(E82,Dossard,3) -> #N/A | D82: =VLOOKUP(E82,Dossard,5) -> #N/A | G82: =IF(F82="","",IF(F82>=F81,IF(H82=E82,F82/VLOOKUP(E82,Dossard,6),"nc"),"erreur tps")) | H82: =IF(E82="","",IF(AND(E82<=dernier,E82>=premier),IF((COUNTIF(C:E,E82))>1,"déjà saisi",(IF(VLOOKUP(E82,edition,7)=2,E82,"Erreur Course"))),"inconnu"))
A83: =IF(OR(H83="inconnu",H83="déjà saisi",IF(F83="","FAUX",F83=F82)),A82,A82+1) -> 80 | B83: =VLOOKUP(E83,Dossard,2) -> #N/A | C83: =VLOOKUP(E83,Dossard,3) -> #N/A | D83: =VLOOKUP(E83,Dossard,5) -> #N/A | G83: =IF(F83="","",IF(F83>=F82,IF(H83=E83,F83/VLOOKUP(E83,Dossard,6),"nc"),"erreur tps")) | H83: =IF(E83="","",IF(AND(E83<=dernier,E83>=premier),IF((COUNTIF(C:E,E83))>1,"déjà saisi",(IF(VLOOKUP(E83,edition,7)=2,E83,"Erreur Course"))),"inconnu"))
A84: =IF(OR(H84="inconnu",H84="déjà saisi",IF(F84="","FAUX",F84=F83)),A83,A83+1) -> 81 | B84: =VLOOKUP(E84,Dossard,2) -> #N/A | C84: =VLOOKUP(E84,Dossard,3) -> #N/A | D84: =VLOOKUP(E84,Dossard,5) -> #N/A | G84: =IF(F84="","",IF(F84>=F83,IF(H84=E84,F84/VLOOKUP(E84,Dossard,6),"nc"),"erreur tps")) | H84: =IF(E84="","",IF(AND(E84<=dernier,E84>=premier),IF((COUNTIF(C:E,E84))>1,"déjà saisi",(IF(VLOOKUP(E84,edition,7)=2,E84,"Erreur Course"))),"inconnu"))
A85: =IF(OR(H85="inconnu",H85="déjà saisi",IF(F85="","FAUX",F85=F84)),A84,A84+1) -> 82 | B85: =VLOOKUP(E85,Dossard,2) -> #N/A | C85: =VLOOKUP(E85,Dossard,3) -> #N/A | D85: =VLOOKUP(E85,Dossard,5) -> #N/A | G85: =IF(F85="","",IF(F85>=F84,IF(H85=E85,F85/VLOOKUP(E85,Dossard,6),"nc"),"erreur tps")) | H85: =IF(E85="","",IF(AND(E85<=dernier,E85>=premier),IF((COUNTIF(C:E,E85))>1,"déjà saisi",(IF(VLOOKUP(E85,edition,7)=2,E85,"Erreur Course"))),"inconnu"))
A86: =IF(OR(H86="inconnu",H86="déjà saisi",IF(F86="","FAUX",F86=F85)),A85,A85+1) -> 83 | B86: =VLOOKUP(E86,Dossard,2) -> #N/A | C86: =VLOOKUP(E86,Dossard,3) -> #N/A | D86: =VLOOKUP(E86,Dossard,5) -> #N/A | G86: =IF(F86="","",IF(F86>=F85,IF(H86=E86,F86/VLOOKUP(E86,Dossard,6),"nc"),"erreur tps")) | H86: =IF(E86="","",IF(AND(E86<=dernier,E86>=premier),IF((COUNTIF(C:E,E86))>1,"déjà saisi",(IF(VLOOKUP(E86,edition,7)=2,E86,"Erreur Course"))),"inconnu"))
... A104: =IF(OR(H104="inconnu",H104="déjà saisi",IF(F104="","FAUX",F104=F103)),A103,A103+1) -> 101 | B104: =VLOOKUP(E104,Dossard,2) -> #N/A | C104: =VLOOKUP(E104,Dossard,3) -> #N/A | D104: =VLOOKUP(E104,Dossard,5) -> #N/A | G104: =IF(F104="","",IF(F104>=F103,IF(H104=E104,F104/VLOOKUP(E104,Dossard,6),"nc"),"erreur tps")) | H104: =IF(E104="","",IF(AND(E104<=dernier,E104>=premier),IF((COUNTIF(C:E,E104))>1,"déjà saisi",(IF(VLOOKUP(E104,edition,7)=2,E104,"Erreur Course"))),"inconnu"))

Sheet c3
A1: 3 | C1: Classement des filles de 5ème | G1: 1300 m
A3: Arrivée | B3: Nom | C3: Prénom | D3: Classe | E3: Dossard | F3: Temps | G3: Temps moyen | H3: Erreur
A4: 1 | B4: =VLOOKUP(E4,Dossard,2) -> FONDERFLICK | C4: =VLOOKUP(E4,Dossard,3) -> Louise | D4: =VLOOKUP(E4,Dossard,5) -> 5 A | E4: 96 | F4: 0.0037384259 | G4: =IF(F4="","",F4/VLOOKUP(E4,Dossard,6)) -> 0.0037384259 | H4: =IF(E4="","",IF(OR(E4>dernier,E4<premier),"inconnu",IF(VLOOKUP(E4,edition,7)=3,E4,"Erreur Course"))) -> 96
A5: =IF(OR(H5="inconnu",H5="déjà saisi",IF(F5="","FAUX",F5=F4)),A4,A4+1) -> 2 | B5: =VLOOKUP(E5,Dossard,2) -> FEIVET | C5: =VLOOKUP(E5,Dossard,3) -> Candice | D5: =VLOOKUP(E5,Dossard,5) -> 5 D | E5: 170 | F5: 0.0037615741 | G5: =IF(F5="","",F5/VLOOKUP(E5,Dossard,6)) -> 0.0037615741 | H5: =IF(E5="","",IF(OR(E5>dernier,E5<premier),"inconnu",IF(VLOOKUP(E5,edition,7)=3,E5,"Erreur Course"))) -> 170
A6: =IF(OR(H6="inconnu",H6="déjà saisi",IF(F6="","FAUX",F6=F5)),A5,A5+1) -> 3 | B6: =VLOOKUP(E6,Dossard,2) -> HADJAHMED | C6: =VLOOKUP(E6,Dossard,3) -> Sawsen | D6: =VLOOKUP(E6,Dossard,5) -> 5 B | E6: 126 | F6: 0.0037847222 | G6: =IF(F6="","",F6/VLOOKUP(E6,Dossard,6)) -> 0.0037847222 | H6: =IF(E6="","",IF(OR(E6>dernier,E6<premier),"inconnu",IF(VLOOKUP(E6,edition,7)=3,E6,"Erreur Course"))) -> 126
A7: =IF(OR(H7="inconnu",H7="déjà saisi",IF(F7="","FAUX",F7=F6)),A6,A6+1) -> 4 | B7: =VLOOKUP(E7,Dossard,2) -> DIDIER | C7: =VLOOKUP(E7,Dossard,3) -> Olive | D7: =VLOOKUP(E7,Dossard,5) -> 5 B | E7: 123 | F7: 0.0038310185 | G7: =IF(F7="","",F7/VLOOKUP(E7,Dossard,6)) -> 0.0038310185 | H7: =IF(E7="","",IF(OR(E7>dernier,E7<premier),"inconnu",IF(VLOOKUP(E7,edition,7)=3,E7,"Erreur Course"))) -> 123
A8: =IF(OR(H8="inconnu",H8="déjà saisi",IF(F8="","FAUX",F8=F7)),A7,A7+1) -> 5 | B8: =VLOOKUP(E8,Dossard,2) -> LOUP | C8: =VLOOKUP(E8,Dossard,3) -> Maxine | D8: =VLOOKUP(E8,Dossard,5) -> 5 C | E8: 149 | F8: 0.0038425926 | G8: =IF(F8="","",F8/VLOOKUP(E8,Dossard,6)) -> 0.0038425926 | H8: =IF(E8="","",IF(OR(E8>dernier,E8<premier),"inconnu",IF(VLOOKUP(E8,edition,7)=3,E8,"Erreur Course"))) -> 149
A9: =IF(OR(H9="inconnu",H9="déjà saisi",IF(F9="","FAUX",F9=F8)),A8,A8+1) -> 6 | B9: =VLOOKUP(E9,Dossard,2) -> BONTEMS | C9: =VLOOKUP(E9,Dossard,3) -> Lucile | D9: =VLOOKUP(E9,Dossard,5) -> 5 B | E9: 116 | F9: 0.003912037 | G9: =IF(F9="","",F9/VLOOKUP(E9,Dossard,6)) -> 0.003912037 | H9: =IF(E9="","",IF(OR(E9>dernier,E9<premier),"inconnu",IF(VLOOKUP(E9,edition,7)=3,E9,"Erreur Course"))) -> 116
A10: =IF(OR(H10="inconnu",H10="déjà saisi",IF(F10="","FAUX",F10=F9)),A9,A9+1) -> 7 | B10: =VLOOKUP(E10,Dossard,2) -> BAUER | C10: =VLOOKUP(E10,Dossard,3) -> Anna | D10: =VLOOKUP(E10,Dossard,5) -> 5 A | E10: 91 | F10: 0.0040393519 | G10: =IF(F10="","",F10/VLOOKUP(E10,Dossard,6)) -> 0.0040393519 | H10: =IF(E10="","",IF(OR(E10>dernier,E10<premier),"inconnu",IF(VLOOKUP(E10,edition,7)=3,E10,"Erreur Course"))) -> 91
A11: =IF(OR(H11="inconnu",H11="déjà saisi",IF(F11="","FAUX",F11=F10)),A10,A10+1) -> 8 | B11: =VLOOKUP(E11,Dossard,2) -> CHARQANE | C11: =VLOOKUP(E11,Dossard,3) -> Basma | D11: =VLOOKUP(E11,Dossard,5) -> 5 D | E11: 166 | F11: 0.004224537 | G11: =IF(F11="","",F11/VLOOKUP(E11,Dossard,6)) -> 0.004224537 | H11: =IF(E11="","",IF(OR(E11>dernier,E11<premier),"inconnu",IF(VLOOKUP(E11,edition,7)=3,E11,"Erreur Course"))) -> 166
A12: =IF(OR(H12="inconnu",H12="déjà saisi",IF(F12="","FAUX",F12=F11)),A11,A11+1) -> 9 | B12: =VLOOKUP(E12,Dossard,2) -> VOIRIN | C12: =VLOOKUP(E12,Dossard,3) -> Emeline | D12: =VLOOKUP(E12,Dossard,5) -> 5 C | E12: 159 | F12: 0.0043055556 | G12: =IF(F12="","",F12/VLOOKUP(E12,Dossard,6)) -> 0.0043055556 | H12: =IF(E12="","",IF(OR(E12>dernier,E12<premier),"inconnu",IF(VLOOKUP(E12,edition,7)=3,E12,"Erreur Course"))) -> 159
A13: =IF(OR(H13="inconnu",H13="déjà saisi",IF(F13="","FAUX",F13=F12)),A12,A12+1) -> 10 | B13: =VLOOKUP(E13,Dossard,2) -> NOMINE | C13: =VLOOKUP(E13,Dossard,3) -> Marie | D13: =VLOOKUP(E13,Dossard,5) -> 5 E | E13: 198 | F13: 0.0043518519 | G13: =IF(F13="","",F13/VLOOKUP(E13,Dossard,6)) -> 0.0043518519 | H13: =IF(E13="","",IF(OR(E13>dernier,E13<premier),"inconnu",IF(VLOOKUP(E13,edition,7)=3,E13,"Erreur Course"))) -> 198
A14: =IF(OR(H14="inconnu",H14="déjà saisi",IF(F14="","FAUX",F14=F13)),A13,A13+1) -> 11 | B14: =VLOOKUP(E14,Dossard,2) -> NURDIN | C14: =VLOOKUP(E14,Dossard,3) -> Clémence | D14: =VLOOKUP(E14,Dossard,5) -> 5 C | E14: 151 | F14: 0.0043865741 | G14: =IF(F14="","",F14/VLOOKUP(E14,Dossard,6)) -> 0.0043865741 | H14: =IF(E14="","",IF(OR(E14>dernier,E14<premier),"inconnu",IF(VLOOKUP(E14,edition,7)=3,E14,"Erreur Course"))) -> 151
A15: =IF(OR(H15="inconnu",H15="déjà saisi",IF(F15="","FAUX",F15=F14)),A14,A14+1) -> 12 | B15: =VLOOKUP(E15,Dossard,2) -> GRAFF | C15: =VLOOKUP(E15,Dossard,3) -> Camille | D15: =VLOOKUP(E15,Dossard,5) -> 5 A | E15: 99 | F15: 0.0044675926 | G15: =IF(F15="","",F15/VLOOKUP(E15,Dossard,6)) -> 0.0044675926 | H15: =IF(E15="","",IF(OR(E15>dernier,E15<premier),"inconnu",IF(VLOOKUP(E15,edition,7)=3,E15,"Erreur Course"))) -> 99
A16: =IF(OR(H16="inconnu",H16="déjà saisi",IF(F16="","FAUX",F16=F15)),A15,A15+1) -> 13 | B16: =VLOOKUP(E16,Dossard,2) -> AGIRANEZA | C16: =VLOOKUP(E16,Dossard,3) -> Joy Life | D16: =VLOOKUP(E16,Dossard,5) -> 5 C | E16: 136 | F16: 0.0045023148 | G16: =IF(F16="","",F16/VLOOKUP(E16,Dossard,6)) -> 0.0045023148 | H16: =IF(E16="","",IF(OR(E16>dernier,E16<premier),"inconnu",IF(VLOOKUP(E16,edition,7)=3,E16,"Erreur Course"))) -> 136
... A45: =IF(OR(H45="inconnu",H45="déjà saisi",IF(F45="","FAUX",F45=F44)),A44,A44+1) -> 42 | B45: =VLOOKUP(E45,Dossard,2) -> CANAL | C45: =VLOOKUP(E45,Dossard,3) -> Léa | D45: =VLOOKUP(E45,Dossard,5) -> 5 A | E45: 487 | F45: 0.0069444444 | G45: =IF(F45="","",F45/VLOOKUP(E45,Dossard,6)) -> 0.0069444444 | H45: =IF(E45="","",IF(OR(E45>dernier,E45<premier),"inconnu",IF(VLOOKUP(E45,edition,7)=3,E45,"Erreur Course"))) -> 487
A46: =IF(OR(H46="inconnu",H46="déjà saisi",IF(F46="","FAUX",F46=F45)),A45,A45+1) -> 43 | B46: =VLOOKUP(E46,Dossard,2) -> #N/A | C46: =VLOOKUP(E46,Dossard,3) -> #N/A | D46: =VLOOKUP(E46,Dossard,5) -> #N/A | G46: =IF(F46="","",F46/VLOOKUP(E46,Dossard,6)) | H46: =IF(E46="","",IF(OR(E46>dernier,E46<premier),"inconnu",IF(VLOOKUP(E46,edition,7)=3,E46,"Erreur Course")))
A47: =IF(OR(H47="inconnu",H47="déjà saisi",IF(F47="","FAUX",F47=F46)),A46,A46+1) -> 44 | B47: =VLOOKUP(E47,Dossard,2) -> #N/A | C47: =VLOOKUP(E47,Dossard,3) -> #N/A | D47: =VLOOKUP(E47,Dossard,5) -> #N/A | G47: =IF(F47="","",F47/VLOOKUP(E47,Dossard,6)) | H47: =IF(E47="","",IF(OR(E47>dernier,E47<premier),"inconnu",IF(VLOOKUP(E47,edition,7)=3,E47,"Erreur Course")))
A48: =IF(OR(H48="inconnu",H48="déjà saisi",IF(F48="","FAUX",F48=F47)),A47,A47+1) -> 45 | B48: =VLOOKUP(E48,Dossard,2) -> #N/A | C48: =VLOOKUP(E48,Dossard,3) -> #N/A | D48: =VLOOKUP(E48,Dossard,5) -> #N/A | G48: =IF(F48="","",F48/VLOOKUP(E48,Dossard,6)) | H48: =IF(E48="","",IF(OR(E48>dernier,E48<premier),"inconnu",IF(VLOOKUP(E48,edition,7)=3,E48,"Erreur Course")))
A49: =IF(OR(H49="inconnu",H49="déjà saisi",IF(F49="","FAUX",F49=F48)),A48,A48+1) -> 46 | B49: =VLOOKUP(E49,Dossard,2) -> #N/A | C49: =VLOOKUP(E49,Dossard,3) -> #N/A | D49: =VLOOKUP(E49,Dossard,5) -> #N/A | G49: =IF(F49="","",F49/VLOOKUP(E49,Dossard,6)) | H49: =IF(E49="","",IF(OR(E49>dernier,E49<premier),"inconnu",IF(VLOOKUP(E49,edition,7)=3,E49,"Erreur Course")))
A50: =IF(OR(H50="inconnu",H50="déjà saisi",IF(F50="","FAUX",F50=F49)),A49,A49+1) -> 47 | B50: =VLOOKUP(E50,Dossard,2) -> #N/A | C50: =VLOOKUP(E50,Dossard,3) -> #N/A | D50: =VLOOKUP(E50,Dossard,5) -> #N/A | G50: =IF(F50="","",F50/VLOOKUP(E50,Dossard,6)) | H50: =IF(E50="","",IF(OR(E50>dernier,E50<premier),"inconnu",IF(VLOOKUP(E50,edition,7)=3,E50,"Erreur Course")))
A51: =IF(OR(H51="inconnu",H51="déjà saisi",IF(F51="","FAUX",F51=F50)),A50,A50+1) -> 48 | B51: =VLOOKUP(E51,Dossard,2) -> #N/A | C51: =VLOOKUP(E51,Dossard,3) -> #N/A | D51: =VLOOKUP(E51,Dossard,5) -> #N/A | G51: =IF(F51="","",F51/VLOOKUP(E51,Dossard,6)) | H51: =IF(E51="","",IF(OR(E51>dernier,E51<premier),"inconnu",IF(VLOOKUP(E51,edition,7)=3,E51,"Erreur Course")))
A52: =IF(OR(H52="inconnu",H52="déjà saisi",IF(F52="","FAUX",F52=F51)),A51,A51+1) -> 49 | B52: =VLOOKUP(E52,Dossard,2) -> #N/A | C52: =VLOOKUP(E52,Dossard,3) -> #N/A | D52: =VLOOKUP(E52,Dossard,5) -> #N/A | G52: =IF(F52="","",F52/VLOOKUP(E52,Dossard,6)) | H52: =IF(E52="","",IF(OR(E52>dernier,E52<premier),"inconnu",IF(VLOOKUP(E52,edition,7)=3,E52,"Erreur Course")))
A53: =IF(OR(H53="inconnu",H53="déjà saisi",IF(F53="","FAUX",F53=F52)),A52,A52+1) -> 50 | B53: =VLOOKUP(E53,Dossard,2) -> #N/A | C53: =VLOOKUP(E53,Dossard,3) -> #N/A | D53: =VLOOKUP(E53,Dossard,5) -> #N/A | G53: =IF(F53="","",F53/VLOOKUP(E53,Dossard,6)) | H53: =IF(E53="","",IF(OR(E53>dernier,E53<premier),"inconnu",IF(VLOOKUP(E53,edition,7)=3,E53,"Erreur Course")))
A54: =IF(OR(H54="inconnu",H54="déjà saisi",IF(F54="","FAUX",F54=F53)),A53,A53+1) -> 51 | B54: =VLOOKUP(E54,Dossard,2) -> #N/A | C54: =VLOOKUP(E54,Dossard,3) -> #N/A | D54: =VLOOKUP(E54,Dossard,5) -> #N/A | G54: =IF(F54="","",F54/VLOOKUP(E54,Dossard,6)) | H54: =IF(E54="","",IF(OR(E54>dernier,E54<premier),"inconnu",IF(VLOOKUP(E54,edition,7)=3,E54,"Erreur Course")))
A55: =IF(OR(H55="inconnu",H55="déjà saisi",IF(F55="","FAUX",F55=F54)),A54,A54+1) -> 52 | B55: =VLOOKUP(E55,Dossard,2) -> #N/A | C55: =VLOOKUP(E55,Dossard,3) -> #N/A | D55: =VLOOKUP(E55,Dossard,5) -> #N/A | G55: =IF(F55="","",F55/VLOOKUP(E55,Dossard,6)) | H55: =IF(E55="","",IF(OR(E55>dernier,E55<premier),"inconnu",IF(VLOOKUP(E55,edition,7)=3,E55,"Erreur Course")))
A56: =IF(OR(H56="inconnu",H56="déjà saisi",IF(F56="","FAUX",F56=F55)),A55,A55+1) -> 53 | B56: =VLOOKUP(E56,Dossard,2) -> #N/A | C56: =VLOOKUP(E56,Dossard,3) -> #N/A | D56: =VLOOKUP(E56,Dossard,5) -> #N/A | G56: =IF(F56="","",F56/VLOOKUP(E56,Dossard,6)) | H56: =IF(E56="","",IF(OR(E56>dernier,E56<premier),"inconnu",IF(VLOOKUP(E56,edition,7)=3,E56,"Erreur Course")))
A57: =IF(OR(H57="inconnu",H57="déjà saisi",IF(F57="","FAUX",F57=F56)),A56,A56+1) -> 54 | B57: =VLOOKUP(E57,Dossard,2) -> #N/A | C57: =VLOOKUP(E57,Dossard,3) -> #N/A | D57: =VLOOKUP(E57,Dossard,5) -> #N/A | G57: =IF(F57="","",F57/VLOOKUP(E57,Dossard,6)) | H57: =IF(E57="","",IF(OR(E57>dernier,E57<premier),"inconnu",IF(VLOOKUP(E57,edition,7)=3,E57,"Erreur Course")))
... A104: =IF(OR(H104="inconnu",H104="déjà saisi",IF(F104="","FAUX",F104=F103)),A103,A103+1) -> 101 | B104: =VLOOKUP(E104,Dossard,2) -> #N/A | C104: =VLOOKUP(E104,Dossard,3) -> #N/A | D104: =VLOOKUP(E104,Dossard,5) -> #N/A | G104: =IF(F104="","",F104/VLOOKUP(E104,Dossard,6)) | H104: =IF(E104="","",IF(OR(E104>dernier,E104<premier),"inconnu",IF(VLOOKUP(E104,edition,7)=3,E104,"Erreur Course")))

Sheet c4
A1: 4 | C1: Classement des garçons de 5ème | G1: 2600m
A3: Arrivée | B3: Nom | C3: Prénom | D3: Classe | E3: Dossard | F3: Temps | G3: Temps moyen | H3: Erreur
