Workbook
Name classes: #REF!
Name derndossel: inscript!$O$5
Name dernier: inscript!$O$4
Name dosc1: 'c1'!$E$5:$E$104
Name dosc2: 'c2'!$E$4:$E$104
Name dosc3: 'c3'!$E$5:$E$104
Name dosc4: 'c4'!$E$5:$E$104
Name dosc5: 'c5'!$E$5:$E$104
Name dosc6: 'c6'!$E$5:$E$104
Name dosc7: 'c7'!$E$5:$E$104
Name dosc8: 'c8'!$E$5:$E$104
Name Dossard: inscript!$A$2:$F$1005
Name edition: inscript!$A$1:$G$1005
Name inscriptions: inscript!$A$2:$F$1005
Name maxc1: 'c1'!$G$4:$G$200
Name maxc2: 'c2'!$G$4:$G$200
Name maxc3: 'c3'!$G$4:$G$200
Name maxc4: 'c4'!$G$4:$G$200
Name maxc5: 'c5'!$G$4:$G$200
Name maxc6: 'c6'!$G$4:$G$200
Name maxc7: 'c7'!$G$4:$G$200
Name maxc8: 'c8'!$G$4:$G$200
Name NBT: inscript!$P$14:$Q$22
Name numdossard: inscript!$A$1:$A$1005
Name premier: inscript!$O$3
Name Print_Area: 'c1'!$A$1:$G$104
Name Print_Area: 'c2'!$A$1:$H$104
Name Print_Area: 'c3'!$A$1:$G$104
Name Print_Area: 'c5'!$A$1:$G$104
Name Print_Area: 'c6'!$A$1:$G$104
Name Print_Area: 'c7'!$A$1:$G$104
Name Print_Area: 'c8'!$A$1:$G$104
Name Print_Area: challenge!$A$1:$N$20
Name tabl_classes: inscript!$K$2:$K$700
Name tabl_couru: inscript!$J$2:$J$700
Name tabl_temps: inscript!$L$2:$L$700
Name tabl_tout_classes: inscript!$E$2:$E$700
Name temps3eme: challenge!$M$13:$M$18
Name temps4eme: challenge!$F$13:$F$18
Name temps5eme: challenge!$M$5:$M$10
Name temps6eme: challenge!$M$23:$M$30
Name tempsCM2: challenge!$F$23:$F$26
Name tps6emeseuls: challenge!$F$5:$F$10
Name tpsc1: 'c1'!$F$5:$F$104
Name tpsc2: 'c2'!$F$4:$F$104
Name tpsc3: 'c3'!$F$5:$F$104
Name tpsc4: 'c4'!$F$5:$F$104
Name tpsc5: 'c5'!$F$5:$F$104
Name tpsc6: 'c6'!$F$5:$F$104
Name tpsc7: 'c7'!$F$5:$F$104
Name tpsc8: 'c8'!$F$5:$F$104
Name tss: #REF!

Sheet inscript
A1: Dossard | B1: Nom | C1: Prénom | D1: Date de naissance | E1: Classe | F1: NBT | G1: N° course | H1: D | I1: Absent | J1: Couru | K1: Classe | L1: Temps | S1: place
A2: 1 | B2: ABSALON | C2: Alicia | D2: 42000 | E2: 6 A | F2: =VLOOKUP(G2,NBT,2) -> 1 | G2: 1 | I2: =IF(AND(J2=0,H2<>"D"),"ABS","") | J2: =COUNTIF(INDIRECT(CONCATENATE("'c",G2,"'!E:E")),A2) -> 1 | K2: =IF(OR(J2=1,I2="ABS"),E2,"") -> 6 A | L2: =IF(I2="ABS",MAX(INDIRECT(CONCATENATE("maxc",G2))),S2) -> 0.0065972222 | S2: =VLOOKUP(inscript!A2,INDIRECT(CONCATENATE("'c",G2,"'!E:G")),3,0) -> 0.0065972222
A3: 2 | B3: ANSEL | C3: Rosalie | D3: 42134 | E3: 6 A | F3: =VLOOKUP(G3,NBT,2) -> 1 | G3: 1 | H3: D | I3: =IF(AND(J3=0,H3<>"D"),"ABS","") | J3: =COUNTIF(INDIRECT(CONCATENATE("'c",G3,"'!E:E")),A3) -> 0 | K3: =IF(OR(J3=1,I3="ABS"),E3,"") | L3: =IF(I3="ABS",MAX(INDIRECT(CONCATENATE("maxc",G3))),S3) -> #N/A | N3: premier dos | O3: 1 | S3: =VLOOKUP(inscript!A3,INDIRECT(CONCATENATE("'c",G3,"'!E:G")),3,0) -> #N/A
A4: 3 | B4: BONNARD | C4: Laure | D4: 42311 | E4: 6 A | F4: =VLOOKUP(G4,NBT,2) -> 1 | G4: 1 | I4: =IF(AND(J4=0,H4<>"D"),"ABS","") | J4: =COUNTIF(INDIRECT(CONCATENATE("'c",G4,"'!E:E")),A4) -> 1 | K4: =IF(OR(J4=1,I4="ABS"),E4,"") -> 6 A | L4: =IF(I4="ABS",MAX(INDIRECT(CONCATENATE("maxc",G4))),S4) -> 0.0062384259 | N4: dernier dos | O4: 487 | S4: =VLOOKUP(inscript!A4,INDIRECT(CONCATENATE("'c",G4,"'!E:G")),3,0) -> 0.0062384259
A5: 4 | B5: CHEVRIER | C5: Mathias | D5: 42220 | E5: 6 A | F5: =VLOOKUP(G5,NBT,2) -> 1 | G5: 2 | I5: =IF(AND(J5=0,H5<>"D"),"ABS","") | J5: =COUNTIF(INDIRECT(CONCATENATE("'c",G5,"'!E:E")),A5) -> 1 | K5: =IF(OR(J5=1,I5="ABS"),E5,"") -> 6 A | L5: =IF(I5="ABS",MAX(INDIRECT(CONCATENATE("maxc",G5))),S5) -> 0.0037268519 | N5: dernier dos el | O5: 487 | S5: =VLOOKUP(inscript!A5,INDIRECT(CONCATENATE("'c",G5,"'!E:G")),3,0) -> 0.0037268519
A6: 5 | B6: CUNY | C6: Dario | D6: 42237 | E6: 6 A | F6: =VLOOKUP(G6,NBT,2) -> 1 | G6: 2 | I6: =IF(AND(J6=0,H6<>"D"),"ABS","") | J6: =COUNTIF(INDIRECT(CONCATENATE("'c",G6,"'!E:E")),A6) -> 1 | K6: =IF(OR(J6=1,I6="ABS"),E6,"") -> 6 A | L6: =IF(I6="ABS",MAX(INDIRECT(CONCATENATE("maxc",G6))),S6) -> 0.0061805556 | S6: =VLOOKUP(inscript!A6,INDIRECT(CONCATENATE("'c",G6,"'!E:G")),3,0) -> 0.0061805556
A7: 6 | B7: DESSEIN | C7: Solene | D7: 42342 | E7: 6 A | F7: =VLOOKUP(G7,NBT,2) -> 1 | G7: 1 | I7: =IF(AND(J7=0,H7<>"D"),"ABS","") | J7: =COUNTIF(INDIRECT(CONCATENATE("'c",G7,"'!E:E")),A7) -> 1 | K7: =IF(OR(J7=1,I7="ABS"),E7,"") -> 6 A | L7: =IF(I7="ABS",MAX(INDIRECT(CONCATENATE("maxc",G7))),S7) -> 0.0049074074 | S7: =VLOOKUP(inscript!A7,INDIRECT(CONCATENATE("'c",G7,"'!E:G")),3,0) -> 0.0049074074
A8: 7 | B8: DUCHANOIS | C8: Loup | D8: 42496 | E8: 6 A | F8: =VLOOKUP(G8,NBT,2) -> 1 | G8: 2 | I8: =IF(AND(J8=0,H8<>"D"),"ABS","") | J8: =COUNTIF(INDIRECT(CONCATENATE("'c",G8,"'!E:E")),A8) -> 1 | K8: =IF(OR(J8=1,I8="ABS"),E8,"") -> 6 A | L8: =IF(I8="ABS",MAX(INDIRECT(CONCATENATE("maxc",G8))),S8) -> 0.0054861111 | S8: =VLOOKUP(inscript!A8,INDIRECT(CONCATENATE("'c",G8,"'!E:G")),3,0) -> 0.0054861111
A9: 8 | B9: DUPON | C9: Emma | D9: 42118 | E9: 6 A | F9: =VLOOKUP(G9,NBT,2) -> 1 | G9: 1 | I9: =IF(AND(J9=0,H9<>"D"),"ABS","") | J9: =COUNTIF(INDIRECT(CONCATENATE("'c",G9,"'!E:E")),A9) -> 1 | K9: =IF(OR(J9=1,I9="ABS"),E9,"") -> 6 A | L9: =IF(I9="ABS",MAX(INDIRECT(CONCATENATE("maxc",G9))),S9) -> 0.0062615741 | S9: =VLOOKUP(inscript!A9,INDIRECT(CONCATENATE("'c",G9,"'!E:G")),3,0) -> 0.0062615741
A10: 9 | B10: FREDERIC | C10: Léna | D10: 42064 | E10: 6 A | F10: =VLOOKUP(G10,NBT,2) -> 1 | G10: 1 | I10: =IF(AND(J10=0,H10<>"D"),"ABS","") | J10: =COUNTIF(INDIRECT(CONCATENATE("'c",G10,"'!E:E")),A10) -> 1 | K10: =IF(OR(J10=1,I10="ABS"),E10,"") -> 6 A | L10: =IF(I10="ABS",MAX(INDIRECT(CONCATENATE("maxc",G10))),S10) -> 0.0040972222 | S10: =VLOOKUP(inscript!A10,INDIRECT(CONCATENATE("'c",G10,"'!E:G")),3,0) -> 0.0040972222
A11: 10 | B11: GALIFFET | C11: Wendy | D11: 42038 | E11: 6 A | F11: =VLOOKUP(G11,NBT,2) -> 1 | G11: 1 | I11: =IF(AND(J11=0,H11<>"D"),"ABS","") | J11: =COUNTIF(INDIRECT(CONCATENATE("'c",G11,"'!E:E")),A11) -> 1 | K11: =IF(OR(J11=1,I11="ABS"),E11,"") -> 6 A | L11: =IF(I11="ABS",MAX(INDIRECT(CONCATENATE("maxc",G11))),S11) -> 0.0036805556 | S11: =VLOOKUP(inscript!A11,INDIRECT(CONCATENATE("'c",G11,"'!E:G")),3,0) -> 0.0036805556
A12: 11 | B12: GERARD | C12: Tim | D12: 42071 | E12: 6 A | F12: =VLOOKUP(G12,NBT,2) -> 1 | G12: 2 | I12: =IF(AND(J12=0,H12<>"D"),"ABS","") | J12: =COUNTIF(INDIRECT(CONCATENATE("'c",G12,"'!E:E")),A12) -> 1 | K12: =IF(OR(J12=1,I12="ABS"),E12,"") -> 6 A | L12: =IF(I12="ABS",MAX(INDIRECT(CONCATENATE("maxc",G12))),S12) -> 0.0045949074 | S12: =VLOOKUP(inscript!A12,INDIRECT(CONCATENATE("'c",G12,"'!E:G")),3,0) -> 0.0045949074
A13: 12 | B13: MATHIEU | C13: Marcelin | D13: 42085 | E13: 6 A | F13: =VLOOKUP(G13,NBT,2) -> 1 | G13: 2 | I13: =IF(AND(J13=0,H13<>"D"),"ABS","") | J13: =COUNTIF(INDIRECT(CONCATENATE("'c",G13,"'!E:E")),A13) -> 1 | K13: =IF(OR(J13=1,I13="ABS"),E13,"") -> 6 A | L13: =IF(I13="ABS",MAX(INDIRECT(CONCATENATE("maxc",G13))),S13) -> 0.0043055556 | S13: =VLOOKUP(inscript!A13,INDIRECT(CONCATENATE("'c",G13,"'!E:G")),3,0) -> 0.0043055556
A14: 13 | B14: MAURY | C14: Amaël | D14: 42329 | E14: 6 A | F14: =VLOOKUP(G14,NBT,2) -> 1 | G14: 2 | I14: =IF(AND(J14=0,H14<>"D"),"ABS","") | J14: =COUNTIF(INDIRECT(CONCATENATE("'c",G14,"'!E:E")),A14) -> 1 | K14: =IF(OR(J14=1,I14="ABS"),E14,"") -> 6 A | L14: =IF(I14="ABS",MAX(INDIRECT(CONCATENATE("maxc",G14))),S14) -> 0.0047916667 | N14: Modification | O14: Effectif | P14: course | Q14: NBT | S14: =VLOOKUP(inscript!A14,INDIRECT(CONCATENATE("'c",G14,"'!E:G")),3,0) -> 0.0047916667
A15: 14 | B15: MAXANT | C15: Arsène | D15: 42058 | E15: 6 A | F15: =VLOOKUP(G15,NBT,2) -> 1 | G15: 2 | I15: =IF(AND(J15=0,H15<>"D"),"ABS","") | J15: =COUNTIF(INDIRECT(CONCATENATE("'c",G15,"'!E:E")),A15) -> 1 | K15: =IF(OR(J15=1,I15="ABS"),E15,"") -> 6 A | L15: =IF(I15="ABS",MAX(INDIRECT(CONCATENATE("maxc",G15))),S15) -> 0.0042361111 | N15: =IF(O15>104,CONCATENATE("Modifier plage tpsc",C1),"OK") -> OK | O15: =COUNTIF(G:G,P15) -> 71 | P15: 1 | Q15: 1 | S15: =VLOOKUP(inscript!A15,INDIRECT(CONCATENATE("'c",G15,"'!E:G")),3,0) -> 0.0042361111
A16: 15 | B16: MERGUIN | C16: Léa | D16: 41814 | E16: 6 A | F16: =VLOOKUP(G16,NBT,2) -> 1 | G16: 1 | I16: =IF(AND(J16=0,H16<>"D"),"ABS","") | J16: =COUNTIF(INDIRECT(CONCATENATE("'c",G16,"'!E:E")),A16) -> 1 | K16: =IF(OR(J16=1,I16="ABS"),E16,"") -> 6 A | L16: =IF(I16="ABS",MAX(INDIRECT(CONCATENATE("maxc",G16))),S16) -> 0.0043171296 | N16: =IF(O16>104,CONCATENATE("Modifier plage tpsc",C2),"OK") -> OK | O16: =COUNTIF(G:G,P16) -> 75 | P16: 2 | Q16: 1 | S16: =VLOOKUP(inscript!A16,INDIRECT(CONCATENATE("'c",G16,"'!E:G")),3,0) -> 0.0043171296
A17: 16 | B17: ODILLE | C17: Maxime | D17: 42049 | E17: 6 A | F17: =VLOOKUP(G17,NBT,2) -> 1 | G17: 2 | I17: =IF(AND(J17=0,H17<>"D"),"ABS","") | J17: =COUNTIF(INDIRECT(CONCATENATE("'c",G17,"'!E:E")),A17) -> 1 | K17: =IF(OR(J17=1,I17="ABS"),E17,"") -> 6 A | L17: =IF(I17="ABS",MAX(INDIRECT(CONCATENATE("maxc",G17))),S17) -> 0.004537037 | N17: =IF(O17>104,CONCATENATE("Modifier plage tpsc",C3),"OK") -> OK | O17: =COUNTIF(G:G,P17) -> 47 | P17: 3 | Q17: 1 | S17: =VLOOKUP(inscript!A17,INDIRECT(CONCATENATE("'c",G17,"'!E:G")),3,0) -> 0.004537037
A18: 17 | B18: PAGELOT BRUCKERT | C18: Cameron | D18: 41685 | E18: 6 A | F18: =VLOOKUP(G18,NBT,2) -> 1 | G18: 2 | I18: =IF(AND(J18=0,H18<>"D"),"ABS","") | J18: =COUNTIF(INDIRECT(CONCATENATE("'c",G18,"'!E:E")),A18) -> 1 | K18: =IF(OR(J18=1,I18="ABS"),E18,"") -> 6 A | L18: =IF(I18="ABS",MAX(INDIRECT(CONCATENATE("maxc",G18))),S18) -> 0.0057291667 | N18: =IF(O18>104,CONCATENATE("Modifier plage tpsc",C4),"OK") -> OK | O18: =COUNTIF(G:G,P18) -> 67 | P18: 4 | Q18: 2 | S18: =VLOOKUP(inscript!A18,INDIRECT(CONCATENATE("'c",G18,"'!E:G")),3,0) -> 0.0057291667
A19: 18 | B19: ROLIN | C19: Mylann | D19: 42080 | E19: 6 A | F19: =VLOOKUP(G19,NBT,2) -> 1 | G19: 2 | I19: =IF(AND(J19=0,H19<>"D"),"ABS","") | J19: =COUNTIF(INDIRECT(CONCATENATE("'c",G19,"'!E:E")),A19) -> 1 | K19: =IF(OR(J19=1,I19="ABS"),E19,"") -> 6 A | L19: =IF(I19="ABS",MAX(INDIRECT(CONCATENATE("maxc",G19))),S19) -> 0.0033333333 | N19: =IF(O19>104,CONCATENATE("Modifier plage tpsc",C5),"OK") -> OK | O19: =COUNTIF(G:G,P19) -> 57 | P19: 5 | Q19: 2 | S19: =VLOOKUP(inscript!A19,INDIRECT(CONCATENATE("'c",G19,"'!E:G")),3,0) -> 0.0033333333
A20: 19 | B20: STASIAK | C20: Kelly | D20: 42185 | E20: 6 A | F20: =VLOOKUP(G20,NBT,2) -> 1 | G20: 1 | I20: =IF(AND(J20=0,H20<>"D"),"ABS","") | J20: =COUNTIF(INDIRECT(CONCATENATE("'c",G20,"'!E:E")),A20) -> 1 | K20: =IF(OR(J20=1,I20="ABS"),E20,"") -> 6 A | L20: =IF(I20="ABS",MAX(INDIRECT(CONCATENATE("maxc",G20))),S20) -> 0.0058680556 | N20: =IF(O20>104,CONCATENATE("Modifier plage tpsc",C6),"OK") -> OK | O20: =COUNTIF(G:G,P20) -> 51 | P20: 6 | Q20: 2 | S20: =VLOOKUP(inscript!A20,INDIRECT(CONCATENATE("'c",G20,"'!E:G")),3,0) -> 0.0058680556
A21: 20 | B21: VALENTIN | C21: Luce | D21: 42031 | E21: 6 A | F21: =VLOOKUP(G21,NBT,2) -> 1 | G21: 1 | I21: =IF(AND(J21=0,H21<>"D"),"ABS","") | J21: =COUNTIF(INDIRECT(CONCATENATE("'c",G21,"'!E:E")),A21) -> 1 | K21: =IF(OR(J21=1,I21="ABS"),E21,"") -> 6 A | L21: =IF(I21="ABS",MAX(INDIRECT(CONCATENATE("maxc",G21))),S21) -> 0.0058449074 | N21: =IF(O21>104,CONCATENATE("Modifier plage tpsc",C7),"OK") -> OK | O21: =COUNTIF(G:G,P21) -> 71 | P21: 7 | Q21: 2 | S21: =VLOOKUP(inscript!A21,INDIRECT(CONCATENATE("'c",G21,"'!E:G")),3,0) -> 0.0058449074
A22: 21 | B22: VANÇON | C22: Joana | D22: 42216 | E22: 6 A | F22: =VLOOKUP(G22,NBT,2) -> 1 | G22: 1 | I22: =IF(AND(J22=0,H22<>"D"),"ABS","") | J22: =COUNTIF(INDIRECT(CONCATENATE("'c",G22,"'!E:E")),A22) -> 1 | K22: =IF(OR(J22=1,I22="ABS"),E22,"") -> 6 A | L22: =IF(I22="ABS",MAX(INDIRECT(CONCATENATE("maxc",G22))),S22) -> 0.0042013889 | N22: =IF(O22>104,CONCATENATE("Modifier plage tpsc",C8),"OK") -> OK | O22: =COUNTIF(G:G,P22) -> 48 | P22: 8 | Q22: 3 | S22: =VLOOKUP(inscript!A22,INDIRECT(CONCATENATE("'c",G22,"'!E:G")),3,0) -> 0.0042013889
A23: 22 | B23: VAUTHIER | C23: Abby | D23: 42225 | E23: 6 A | F23: =VLOOKUP(G23,NBT,2) -> 1 | G23: 1 | I23: =IF(AND(J23=0,H23<>"D"),"ABS","") | J23: =COUNTIF(INDIRECT(CONCATENATE("'c",G23,"'!E:E")),A23) -> 1 | K23: =IF(OR(J23=1,I23="ABS"),E23,"") -> 6 A | L23: =IF(I23="ABS",MAX(INDIRECT(CONCATENATE("maxc",G23))),S23) -> 0.0062037037 | N23: TOTAL | O23: =SUM(O15:O22) -> 487 | S23: =VLOOKUP(inscript!A23,INDIRECT(CONCATENATE("'c",G23,"'!E:G")),3,0) -> 0.0062037037
A24: 23 | B24: ALBERT-BRAGA | C24: Sophie | D24: 42020 | E24: 6 B | F24: =VLOOKUP(G24,NBT,2) -> 1 | G24: 1 | I24: =IF(AND(J24=0,H24<>"D"),"ABS","") -> ABS | J24: =COUNTIF(INDIRECT(CONCATENATE("'c",G24,"'!E:E")),A24) -> 0 | K24: =IF(OR(J24=1,I24="ABS"),E24,"") -> 6 B | L24: =IF(I24="ABS",MAX(INDIRECT(CONCATENATE("maxc",G24))),S24) -> 0.0081134259 | S24: =VLOOKUP(inscript!A24,INDIRECT(CONCATENATE("'c",G24,"'!E:G")),3,0) -> #N/A
A25: 24 | B25: BARREIROS | C25: Masha | D25: 42222 | E25: 6 B | F25: =VLOOKUP(G25,NBT,2) -> 1 | G25: 1 | H25: D | I25: =IF(AND(J25=0,H25<>"D"),"ABS","") | J25: =COUNTIF(INDIRECT(CONCATENATE("'c",G25,"'!E:E")),A25) -> 0 | K25: =IF(OR(J25=1,I25="ABS"),E25,"") | L25: =IF(I25="ABS",MAX(INDIRECT(CONCATENATE("maxc",G25))),S25) -> #N/A | S25: =VLOOKUP(inscript!A25,INDIRECT(CONCATENATE("'c",G25,"'!E:G")),3,0) -> #N/A
A26: 25 | B26: BELL | C26: Lucas | D26: 41965 | E26: 6 B | F26: =VLOOKUP(G26,NBT,2) -> 1 | G26: 2 | H26: D | I26: =IF(AND(J26=0,H26<>"D"),"ABS","") | J26: =COUNTIF(INDIRECT(CONCATENATE("'c",G26,"'!E:E")),A26) -> 0 | K26: =IF(OR(J26=1,I26="ABS"),E26,"") | L26: =IF(I26="ABS",MAX(INDIRECT(CONCATENATE("maxc",G26))),S26) -> #N/A | S26: =VLOOKUP(inscript!A26,INDIRECT(CONCATENATE("'c",G26,"'!E:G")),3,0) -> #N/A
A27: 26 | B27: BOURGEOIS | C27: Jade | D27: 42059 | E27: 6 B | F27: =VLOOKUP(G27,NBT,2) -> 1 | G27: 1 | I27: =IF(AND(J27=0,H27<>"D"),"ABS","") | J27: =COUNTIF(INDIRECT(CONCATENATE("'c",G27,"'!E:E")),A27) -> 1 | K27: =IF(OR(J27=1,I27="ABS"),E27,"") -> 6 B | L27: =IF(I27="ABS",MAX(INDIRECT(CONCATENATE("maxc",G27))),S27) -> 0.0048726852 | S27: =VLOOKUP(inscript!A27,INDIRECT(CONCATENATE("'c",G27,"'!E:G")),3,0) -> 0.0048726852
A28: 27 | B28: CELERIER | C28: Joseph | D28: 42020 | E28: 6 B | F28: =VLOOKUP(G28,NBT,2) -> 1 | G28: 2 | I28: =IF(AND(J28=0,H28<>"D"),"ABS","") | J28: =COUNTIF(INDIRECT(CONCATENATE("'c",G28,"'!E:E")),A28) -> 1 | K28: =IF(OR(J28=1,I28="ABS"),E28,"") -> 6 B | L28: =IF(I28="ABS",MAX(INDIRECT(CONCATENATE("maxc",G28))),S28) -> 0.0037731481 | S28: =VLOOKUP(inscript!A28,INDIRECT(CONCATENATE("'c",G28,"'!E:G")),3,0) -> 0.0037731481
A29: 28 | B29: CLAUMAN NARDIN | C29: Nuno | D29: 42248 | E29: 6 B | F29: =VLOOKUP(G29,NBT,2) -> 1 | G29: 2 | I29: =IF(AND(J29=0,H29<>"D"),"ABS","") | J29: =COUNTIF(INDIRECT(CONCATENATE("'c",G29,"'!E:E")),A29) -> 1 | K29: =IF(OR(J29=1,I29="ABS"),E29,"") -> 6 B | L29: =IF(I29="ABS",MAX(INDIRECT(CONCATENATE("maxc",G29))),S29) -> 0.0040509259 | S29: =VLOOKUP(inscript!A29,INDIRECT(CONCATENATE("'c",G29,"'!E:G")),3,0) -> 0.0040509259
A30: 29 | B30: DESSAINT | C30: Maëlys | D30: 42286 | E30: 6 B | F30: =VLOOKUP(G30,NBT,2) -> 1 | G30: 1 | I30: =IF(AND(J30=0,H30<>"D"),"ABS","") | J30: =COUNTIF(INDIRECT(CONCATENATE("'c",G30,"'!E:E")),A30) -> 1 | K30: =IF(OR(J30=1,I30="ABS"),E30,"") -> 6 B | L30: =IF(I30="ABS",MAX(INDIRECT(CONCATENATE("maxc",G30))),S30) -> 0.0037847222 | S30: =VLOOKUP(inscript!A30,INDIRECT(CONCATENATE("'c",G30,"'!E:G")),3,0) -> 0.0037847222
A31: 30 | B31: DURAND | C31: Eléanor | D31: 42204 | E31: 6 B | F31: =VLOOKUP(G31,NBT,2) -> 1 | G31: 1 | I31: =IF(AND(J31=0,H31<>"D"),"ABS","") | J31: =COUNTIF(INDIRECT(CONCATENATE("'c",G31,"'!E:E")),A31) -> 1 | K31: =IF(OR(J31=1,I31="ABS"),E31,"") -> 6 B | L31: =IF(I31="ABS",MAX(INDIRECT(CONCATENATE("maxc",G31))),S31) -> 0.0066319444 | S31: =VLOOKUP(inscript!A31,INDIRECT(CONCATENATE("'c",G31,"'!E:G")),3,0) -> 0.0066319444
A32: 31 | B32: HENRY | C32: Elena | D32: 42269 | E32: 6 B | F32: =VLOOKUP(G32,NBT,2) -> 1 | G32: 1 | I32: =IF(AND(J32=0,H32<>"D"),"ABS","") | J32: =COUNTIF(INDIRECT(CONCATENATE("'c",G32,"'!E:E")),A32) -> 1 | K32: =IF(OR(J32=1,I32="ABS"),E32,"") -> 6 B | L32: =IF(I32="ABS",MAX(INDIRECT(CONCATENATE("maxc",G32))),S32) -> 0.0059837963 | S32: =VLOOKUP(inscript!A32,INDIRECT(CONCATENATE("'c",G32,"'!E:G")),3,0) -> 0.0059837963
A33: 32 | B33: HENRY | C33: Solhan | D33: 42201 | E33: 6 B | F33: =VLOOKUP(G33,NBT,2) -> 1 | G33: 2 | I33: =IF(AND(J33=0,H33<>"D"),"ABS","") | J33: =COUNTIF(INDIRECT(CONCATENATE("'c",G33,"'!E:E")),A33) -> 1 | K33: =IF(OR(J33=1,I33="ABS"),E33,"") -> 6 B | L33: =IF(I33="ABS",MAX(INDIRECT(CONCATENATE("maxc",G33))),S33) -> 0.0059143519 | S33: =VLOOKUP(inscript!A33,INDIRECT(CONCATENATE("'c",G33,"'!E:G")),3,0) -> 0.0059143519
A34: 33 | B34: HOVAKIMYAN | C34: Gabriella | D34: 42184 | E34: 6 B | F34: =VLOOKUP(G34,NBT,2) -> 1 | G34: 1 | I34: =IF(AND(J34=0,H34<>"D"),"ABS","") | J34: =COUNTIF(INDIRECT(CONCATENATE("'c",G34,"'!E:E")),A34) -> 1 | K34: =IF(OR(J34=1,I34="ABS"),E34,"") -> 6 B | L34: =IF(I34="ABS",MAX(INDIRECT(CONCATENATE("maxc",G34))),S34) -> 0.0075462963 | S34: =VLOOKUP(inscript!A34,INDIRECT(CONCATENATE("'c",G34,"'!E:G")),3,0) -> 0.0075462963
A35: 34 | B35: KHOUANI | C35: Islem | D35: 42156 | E35: 6 B | F35: =VLOOKUP(G35,NBT,2) -> 1 | G35: 2 | H35: D | I35: =IF(AND(J35=0,H35<>"D"),"ABS","") | J35: =COUNTIF(INDIRECT(CONCATENATE("'c",G35,"'!E:E")),A35) -> 0 | K35: =IF(OR(J35=1,I35="ABS"),E35,"") | L35: =IF(I35="ABS",MAX(INDIRECT(CONCATENATE("maxc",G35))),S35) -> #N/A | S35: =VLOOKUP(inscript!A35,INDIRECT(CONCATENATE("'c",G35,"'!E:G")),3,0) -> #N/A
A36: 35 | B36: LIAIGRE AUBERT | C36: Achille | D36: 42215 | E36: 6 B | F36: =VLOOKUP(G36,NBT,2) -> 1 | G36: 2 | I36: =IF(AND(J36=0,H36<>"D"),"ABS","") | J36: =COUNTIF(INDIRECT(CONCATENATE("'c",G36,"'!E:E")),A36) -> 1 | K36: =IF(OR(J36=1,I36="ABS"),E36,"") -> 6 B | L36: =IF(I36="ABS",MAX(INDIRECT(CONCATENATE("maxc",G36))),S36) -> 0.0055439815 | S36: =VLOOKUP(inscript!A36,INDIRECT(CONCATENATE("'c",G36,"'!E:G")),3,0) -> 0.0055439815
A37: 36 | B37: MAHIAOUI | C37: Adnane | D37: 42104 | E37: 6 B | F37: =VLOOKUP(G37,NBT,2) -> 1 | G37: 2 | I37: =IF(AND(J37=0,H37<>"D"),"ABS","") | J37: =COUNTIF(INDIRECT(CONCATENATE("'c",G37,"'!E:E")),A37) -> 1 | K37: =IF(OR(J37=1,I37="ABS"),E37,"") -> 6 B | L37: =IF(I37="ABS",MAX(INDIRECT(CONCATENATE("maxc",G37))),S37) -> 0.0064814815 | S37: =VLOOKUP(inscript!A37,INDIRECT(CONCATENATE("'c",G37,"'!E:G")),3,0) -> 0.0064814815
A38: 37 | B38: MANGEL | C38: Marcel | D38: 42050 | E38: 6 B | F38: =VLOOKUP(G38,NBT,2) -> 1 | G38: 2 | H38: D | I38: =IF(AND(J38=0,H38<>"D"),"ABS","") | J38: =COUNTIF(INDIRECT(CONCATENATE("'c",G38,"'!E:E")),A38) -> 0 | K38: =IF(OR(J38=1,I38="ABS"),E38,"") | L38: =IF(I38="ABS",MAX(INDIRECT(CONCATENATE("maxc",G38))),S38) -> #N/A | S38: =VLOOKUP(inscript!A38,INDIRECT(CONCATENATE("'c",G38,"'!E:G")),3,0) -> #N/A
A39: 38 | B39: MASSON CONDOLF | C39: Lylou | D39: 42215 | E39: 6 B | F39: =VLOOKUP(G39,NBT,2) -> 1 | G39: 1 | I39: =IF(AND(J39=0,H39<>"D"),"ABS","") | J39: =COUNTIF(INDIRECT(CONCATENATE("'c",G39,"'!E:E")),A39) -> 1 | K39: =IF(OR(J39=1,I39="ABS"),E39,"") -> 6 B | L39: =IF(I39="ABS",MAX(INDIRECT(CONCATENATE("maxc",G39))),S39) -> 0.006087963 | S39: =VLOOKUP(inscript!A39,INDIRECT(CONCATENATE("'c",G39,"'!E:G")),3,0) -> 0.006087963
A40: 39 | B40: NDOJ | C40: Sebastian | D40: 42245 | E40: 6 B | F40: =VLOOKUP(G40,NBT,2) -> 1 | G40: 2 | H40: D | I40: =IF(AND(J40=0,H40<>"D"),"ABS","") | J40: =COUNTIF(INDIRECT(CONCATENATE("'c",G40,"'!E:E")),A40) -> 0 | K40: =IF(OR(J40=1,I40="ABS"),E40,"") | L40: =IF(I40="ABS",MAX(INDIRECT(CONCATENATE("maxc",G40))),S40) -> #N/A | S40: =VLOOKUP(inscript!A40,INDIRECT(CONCATENATE("'c",G40,"'!E:G")),3,0) -> #N/A
A41: 40 | B41: PAULEZ MATHIOT | C41: Logan | D41: 42034 | E41: 6 B | F41: =VLOOKUP(G41,NBT,2) -> 1 | G41: 2 | I41: =IF(AND(J41=0,H41<>"D"),"ABS","") | J41: =COUNTIF(INDIRECT(CONCATENATE("'c",G41,"'!E:E")),A41) -> 1 | K41: =IF(OR(J41=1,I41="ABS"),E41,"") -> 6 B | L41: =IF(I41="ABS",MAX(INDIRECT(CONCATENATE("maxc",G41))),S41) -> 0.0055092593 | S41: =VLOOKUP(inscript!A41,INDIRECT(CONCATENATE("'c",G41,"'!E:G")),3,0) -> 0.0055092593
A42: 41 | B42: PIERRE | C42: Zoé | D42: 42254 | E42: 6 B | F42: =VLOOKUP(G42,NBT,2) -> 1 | G42: 1 | I42: =IF(AND(J42=0,H42<>"D"),"ABS","") | J42: =COUNTIF(INDIRECT(CONCATENATE("'c",G42,"'!E:E")),A42) -> 1 | K42: =IF(OR(J42=1,I42="ABS"),E42,"") -> 6 B | L42: =IF(I42="ABS",MAX(INDIRECT(CONCATENATE("maxc",G42))),S42) -> 0.0039699074 | S42: =VLOOKUP(inscript!A42,INDIRECT(CONCATENATE("'c",G42,"'!E:G")),3,0) -> 0.0039699074
A43: 42 | B43: RATEAU | C43: Axel | D43: 41843 | E43: 6 B | F43: =VLOOKUP(G43,NBT,2) -> 1 | G43: 2 | I43: =IF(AND(J43=0,H43<>"D"),"ABS","") | J43: =COUNTIF(INDIRECT(CONCATENATE("'c",G43,"'!E:E")),A43) -> 1 | K43: =IF(OR(J43=1,I43="ABS"),E43,"") -> 6 B | L43: =IF(I43="ABS",MAX(INDIRECT(CONCATENATE("maxc",G43))),S43) -> 0.0039467593 | S43: =VLOOKUP(inscript!A43,INDIRECT(CONCATENATE("'c",G43,"'!E:G")),3,0) -> 0.0039467593
A44: 43 | B44: ROLIN | C44: Lana | D44: 42159 | E44: 6 B | F44: =VLOOKUP(G44,NBT,2) -> 1 | G44: 1 | I44: =IF(AND(J44=0,H44<>"D"),"ABS","") | J44: =COUNTIF(INDIRECT(CONCATENATE("'c",G44,"'!E:E")),A44) -> 1 | K44: =IF(OR(J44=1,I44="ABS"),E44,"") -> 6 B | L44: =IF(I44="ABS",MAX(INDIRECT(CONCATENATE("maxc",G44))),S44) -> 0.0070833333 | S44: =VLOOKUP(inscript!A44,INDIRECT(CONCATENATE("'c",G44,"'!E:G")),3,0) -> 0.0070833333
A45: 44 | B45: SOARES | C45: Giulia | D45: 42268 | E45: 6 B | F45: =VLOOKUP(G45,NBT,2) -> 1 | G45: 1 | I45: =IF(AND(J45=0,H45<>"D"),"ABS","") | J45: =COUNTIF(INDIRECT(CONCATENATE("'c",G45,"'!E:E")),A45) -> 1 | K45: =IF(OR(J45=1,I45="ABS"),E45,"") -> 6 B | L45: =IF(I45="ABS",MAX(INDIRECT(CONCATENATE("maxc",G45))),S45) -> 0.0052777778 | S45: =VLOOKUP(inscript!A45,INDIRECT(CONCATENATE("'c",G45,"'!E:G")),3,0) -> 0.0052777778
A46: 45 | B46: VINCENT VERDENAL | C46: Liya | D46: 42129 | E46: 6 B | F46: =VLOOKUP(G46,NBT,2) -> 1 | G46: 1 | I46: =IF(AND(J46=0,H46<>"D"),"ABS","") | J46: =COUNTIF(INDIRECT(CONCATENATE("'c",G46,"'!E:E")),A46) -> 1 | K46: =IF(OR(J46=1,I46="ABS"),E46,"") -> 6 B | L46: =IF(I46="ABS",MAX(INDIRECT(CONCATENATE("maxc",G46))),S46) -> 0.0044097222 | S46: =VLOOKUP(inscript!A46,INDIRECT(CONCATENATE("'c",G46,"'!E:G")),3,0) -> 0.0044097222
A47: 46 | B47: AMANIEU | C47: Léo | D47: 42160 | E47: 6 C | F47: =VLOOKUP(G47,NBT,2) -> 1 | G47: 2 | I47: =IF(AND(J47=0,H47<>"D"),"ABS","") | J47: =COUNTIF(INDIRECT(CONCATENATE("'c",G47,"'!E:E")),A47) -> 1 | K47: =IF(OR(J47=1,I47="ABS"),E47,"") -> 6 C | L47: =IF(I47="ABS",MAX(INDIRECT(CONCATENATE("maxc",G47))),S47) -> 0.0051041667 | S47: =VLOOKUP(inscript!A47,INDIRECT(CONCATENATE("'c",G47,"'!E:G")),3,0) -> 0.0051041667
A48: 47 | B48: BALOGH | C48: Katalin | D48: 42060 | E48: 6 C | F48: =VLOOKUP(G48,NBT,2) -> 1 | G48: 1 | H48: D | I48: =IF(AND(J48=0,H48<>"D"),"ABS","") | J48: =COUNTIF(INDIRECT(CONCATENATE("'c",G48,"'!E:E")),A48) -> 0 | K48: =IF(OR(J48=1,I48="ABS"),E48,"") | L48: =IF(I48="ABS",MAX(INDIRECT(CONCATENATE("maxc",G48))),S48) -> #N/A | S48: =VLOOKUP(inscript!A48,INDIRECT(CONCATENATE("'c",G48,"'!E:G")),3,0) -> #N/A
A49: 48 | B49: BAUDOIN | C49: Ewan | D49: 42343 | E49: 6 C | F49: =VLOOKUP(G49,NBT,2) -> 1 | G49: 2 | I49: =IF(AND(J49=0,H49<>"D"),"ABS","") | J49: =COUNTIF(INDIRECT(CONCATENATE("'c",G49,"'!E:E")),A49) -> 1 | K49: =IF(OR(J49=1,I49="ABS"),E49,"") -> 6 C | L49: =IF(I49="ABS",MAX(INDIRECT(CONCATENATE("maxc",G49))),S49) -> 0.0048958333 | S49: =VLOOKUP(inscript!A49,INDIRECT(CONCATENATE("'c",G49,"'!E:G")),3,0) -> 0.0048958333
A50: 49 | B50: BOLMONT | C50: Gabriel | D50: 42130 | E50: 6 C | F50: =VLOOKUP(G50,NBT,2) -> 1 | G50: 2 | I50: =IF(AND(J50=0,H50<>"D"),"ABS","") | J50: =COUNTIF(INDIRECT(CONCATENATE("'c",G50,"'!E:E")),A50) -> 1 | K50: =IF(OR(J50=1,I50="ABS"),E50,"") -> 6 C | L50: =IF(I50="ABS",MAX(INDIRECT(CONCATENATE("maxc",G50))),S50) -> 0.006412037 | S50: =VLOOKUP(inscript!A50,INDIRECT(CONCATENATE("'c",G50,"'!E:G")),3,0) -> 0.006412037
A51: 50 | B51: DEMBCZINSKI | C51: Chloé | D51: 42072 | E51: 6 C | F51: =VLOOKUP(G51,NBT,2) -> 1 | G51: 1 | I51: =IF(AND(J51=0,H51<>"D"),"ABS","") | J51: =COUNTIF(INDIRECT(CONCATENATE("'c",G51,"'!E:E")),A51) -> 1 | K51: =IF(OR(J51=1,I51="ABS"),E51,"") -> 6 C | L51: =IF(I51="ABS",MAX(INDIRECT(CONCATENATE("maxc",G51))),S51) -> 0.0054513889 | S51: =VLOOKUP(inscript!A51,INDIRECT(CONCATENATE("'c",G51,"'!E:G")),3,0) -> 0.0054513889
A52: 51 | B52: DI TOMASO | C52: Tania | D52: 41645 | E52: 6 C | F52: =VLOOKUP(G52,NBT,2) -> 1 | G52: 1 | I52: =IF(AND(J52=0,H52<>"D"),"ABS","") | J52: =COUNTIF(INDIRECT(CONCATENATE("'c",G52,"'!E:E")),A52) -> 1 | K52: =IF(OR(J52=1,I52="ABS"),E52,"") -> 6 C | L52: =IF(I52="ABS",MAX(INDIRECT(CONCATENATE("maxc",G52))),S52) -> 0.0069560185 | S52: =VLOOKUP(inscript!A52,INDIRECT(CONCATENATE("'c",G52,"'!E:G")),3,0) -> 0.0069560185
A53: 52 | B53: EMANOV | C53: Alexei | D53: 41742 | E53: 6 C | F53: =VLOOKUP(G53,NBT,2) -> 1 | G53: 2 | I53: =IF(AND(J53=0,H53<>"D"),"ABS","") | J53: =COUNTIF(INDIRECT(CONCATENATE("'c",G53,"'!E:E")),A53) -> 1 | K53: =IF(OR(J53=1,I53="ABS"),E53,"") -> 6 C | L53: =IF(I53="ABS",MAX(INDIRECT(CONCATENATE("maxc",G53))),S53) -> 0.0063310185 | S53: =VLOOKUP(inscript!A53,INDIRECT(CONCATENATE("'c",G53,"'!E:G")),3,0) -> 0.0063310185
A54: 53 | B54: ESSABBANE | C54: Anass | D54: 42315 | E54: 6 C | F54: =VLOOKUP(G54,NBT,2) -> 1 | G54: 2 | I54: =IF(AND(J54=0,H54<>"D"),"ABS","") | J54: =COUNTIF(INDIRECT(CONCATENATE("'c",G54,"'!E:E")),A54) -> 1 | K54: =IF(OR(J54=1,I54="ABS"),E54,"") -> 6 C | L54: =IF(I54="ABS",MAX(INDIRECT(CONCATENATE("maxc",G54))),S54) -> 0.0041087963 | S54: =VLOOKUP(inscript!A54,INDIRECT(CONCATENATE("'c",G54,"'!E:G")),3,0) -> 0.0041087963
A55: 54 | B55: GALVEZ | C55: Adrien | D55: 42224 | E55: 6 C | F55: =VLOOKUP(G55,NBT,2) -> 1 | G55: 2 | I55: =IF(AND(J55=0,H55<>"D"),"ABS","") | J55: =COUNTIF(INDIRECT(CONCATENATE("'c",G55,"'!E:E")),A55) -> 1 | K55: =IF(OR(J55=1,I55="ABS"),E55,"") -> 6 C | L55: =IF(I55="ABS",MAX(INDIRECT(CONCATENATE("maxc",G55))),S55) -> 0.0061921296 | S55: =VLOOKUP(inscript!A55,INDIRECT(CONCATENATE("'c",G55,"'!E:G")),3,0) -> 0.0061921296
A56: 55 | B56: HOCQUARD | C56: Emile | D56: 42132 | E56: 6 C | F56: =VLOOKUP(G56,NBT,2) -> 1 | G56: 2 | I56: =IF(AND(J56=0,H56<>"D"),"ABS","") | J56: =COUNTIF(INDIRECT(CONCATENATE("'c",G56,"'!E:E")),A56) -> 1 | K56: =IF(OR(J56=1,I56="ABS"),E56,"") -> 6 C | L56: =IF(I56="ABS",MAX(INDIRECT(CONCATENATE("maxc",G56))),S56) -> 0.0038657407 | S56: =VLOOKUP(inscript!A56,INDIRECT(CONCATENATE("'c",G56,"'!E:G")),3,0) -> 0.0038657407
A57: 56 | B57: HOUG | C57: Mélina | D57: 42208 | E57: 6 C | F57: =VLOOKUP(G57,NBT,2) -> 1 | G57: 1 | I57: =IF(AND(J57=0,H57<>"D"),"ABS","") | J57: =COUNTIF(INDIRECT(CONCATENATE("'c",G57,"'!E:E")),A57) -> 1 | K57: =IF(OR(J57=1,I57="ABS"),E57,"") -> 6 C | L57: =IF(I57="ABS",MAX(INDIRECT(CONCATENATE("maxc",G57))),S57) -> 0.0059490741 | S57: =VLOOKUP(inscript!A57,INDIRECT(CONCATENATE("'c",G57,"'!E:G")),3,0) -> 0.0059490741
A58: 57 | B58: HOUTMANN ALTHOFFER | C58: Victoria | D58: 42115 | E58: 6 C | F58: =VLOOKUP(G58,NBT,2) -> 1 | G58: 1 | I58: =IF(AND(J58=0,H58<>"D"),"ABS","") | J58: =COUNTIF(INDIRECT(CONCATENATE("'c",G58,"'!E:E")),A58) -> 1 | K58: =IF(OR(J58=1,I58="ABS"),E58,"") -> 6 C | L58: =IF(I58="ABS",MAX(INDIRECT(CONCATENATE("maxc",G58))),S58) -> 0.0052430556 | S58: =VLOOKUP(inscript!A58,INDIRECT(CONCATENATE("'c",G58,"'!E:G")),3,0) -> 0.0052430556
A59: 58 | B59: KONATE | C59: Neyla | D59: 42259 | E59: 6 C | F59: =VLOOKUP(G59,NBT,2) -> 1 | G59: 1 | I59: =IF(AND(J59=0,H59<>"D"),"ABS","") | J59: =COUNTIF(INDIRECT(CONCATENATE("'c",G59,"'!E:E")),A59) -> 1 | K59: =IF(OR(J59=1,I59="ABS"),E59,"") -> 6 C | L59: =IF(I59="ABS",MAX(INDIRECT(CONCATENATE("maxc",G59))),S59) -> 0.0046296296 | S59: =VLOOKUP(inscript!A59,INDIRECT(CONCATENATE("'c",G59,"'!E:G")),3,0) -> 0.0046296296
A60: 59 | B60: KOUMMA | C60: Adam | D60: 42300 | E60: 6 C | F60: =VLOOKUP(G60,NBT,2) -> 1 | G60: 2 | I60: =IF(AND(J60=0,H60<>"D"),"ABS","") | J60: =COUNTIF(INDIRECT(CONCATENATE("'c",G60,"'!E:E")),A60) -> 1 | K60: =IF(OR(J60=1,I60="ABS"),E60,"") -> 6 C | L60: =IF(I60="ABS",MAX(INDIRECT(CONCATENATE("maxc",G60))),S60) -> 0.0043402778 | S60: =VLOOKUP(inscript!A60,INDIRECT(CONCATENATE("'c",G60,"'!E:G")),3,0) -> 0.0043402778
... A79: 78 | B79: FAGNOT | C79: Emma | D79: 42090 | E79: 6 D | F79: =VLOOKUP(G79,NBT,2) -> 1 | G79: 1 | I79: =IF(AND(J79=0,H79<>"D"),"ABS","") | J79: =COUNTIF(INDIRECT(CONCATENATE("'c",G79,"'!E:E")),A79) -> 1 | K79: =IF(OR(J79=1,I79="ABS"),E79,"") -> 6 D | L79: =IF(I79="ABS",MAX(INDIRECT(CONCATENATE("maxc",G79))),S79) -> 0.0054166667 | S79: =VLOOKUP(inscript!A79,INDIRECT(CONCATENATE("'c",G79,"'!E:G")),3,0) -> 0.0054166667
A80: 79 | B80: GRANDJEAN | C80: Elsa | D80: 42124 | E80: 6 D | F80: =VLOOKUP(G80,NBT,2) -> 1 | G80: 1 | H80: D | I80: =IF(AND(J80=0,H80<>"D"),"ABS","") | J80: =COUNTIF(INDIRECT(CONCATENATE("'c",G80,"'!E:E")),A80) -> 0 | K80: =IF(OR(J80=1,I80="ABS"),E80,"") | L80: =IF(I80="ABS",MAX(INDIRECT(CONCATENATE("maxc",G80))),S80) -> #N/A | S80: =VLOOKUP(inscript!A80,INDIRECT(CONCATENATE("'c",G80,"'!E:G")),3,0) -> #N/A
A81: 80 | B81: GROSJEAN | C81: Lola | D81: 42214 | E81: 6 D | F81: =VLOOKUP(G81,NBT,2) -> 1 | G81: 1 | I81: =IF(AND(J81=0,H81<>"D"),"ABS","") | J81: =COUNTIF(INDIRECT(CONCATENATE("'c",G81,"'!E:E")),A81) -> 1 | K81: =IF(OR(J81=1,I81="ABS"),E81,"") -> 6 D | L81: =IF(I81="ABS",MAX(INDIRECT(CONCATENATE("maxc",G81))),S81) -> 0.0069212963 | S81: =VLOOKUP(inscript!A81,INDIRECT(CONCATENATE("'c",G81,"'!E:G")),3,0) -> 0.0069212963
A82: 81 | B82: HACHET | C82: Emy | D82: 42296 | E82: 6 D | F82: =VLOOKUP(G82,NBT,2) -> 1 | G82: 1 | H82: D | I82: =IF(AND(J82=0,H82<>"D"),"ABS","") | J82: =COUNTIF(INDIRECT(CONCATENATE("'c",G82,"'!E:E")),A82) -> 0 | K82: =IF(OR(J82=1,I82="ABS"),E82,"") | L82: =IF(I82="ABS",MAX(INDIRECT(CONCATENATE("maxc",G82))),S82) -> #N/A | S82: =VLOOKUP(inscript!A82,INDIRECT(CONCATENATE("'c",G82,"'!E:G")),3,0) -> #N/A
A83: 82 | B83: JACQUOT | C83: Andy | D83: 42333 | E83: 6 D | F83: =VLOOKUP(G83,NBT,2) -> 1 | G83: 2 | I83: =IF(AND(J83=0,H83<>"D"),"ABS","") | J83: =COUNTIF(INDIRECT(CONCATENATE("'c",G83,"'!E:E")),A83) -> 1 | K83: =IF(OR(J83=1,I83="ABS"),E83,"") -> 6 D | L83: =IF(I83="ABS",MAX(INDIRECT(CONCATENATE("maxc",G83))),S83) -> 0.0059490741 | S83: =VLOOKUP(inscript!A83,INDIRECT(CONCATENATE("'c",G83,"'!E:G")),3,0) -> 0.0059490741
A84: 83 | B84: MOREAU | C84: Loïc | D84: 42090 | E84: 6 D | F84: =VLOOKUP(G84,NBT,2) -> 1 | G84: 2 | I84: =IF(AND(J84=0,H84<>"D"),"ABS","") | J84: =COUNTIF(INDIRECT(CONCATENATE("'c",G84,"'!E:E")),A84) -> 1 | K84: =IF(OR(J84=1,I84="ABS"),E84,"") -> 6 D | L84: =IF(I84="ABS",MAX(INDIRECT(CONCATENATE("maxc",G84))),S84) -> 0.0053240741 | S84: =VLOOKUP(inscript!A84,INDIRECT(CONCATENATE("'c",G84,"'!E:G")),3,0) -> 0.0053240741
A85: 84 | B85: OUCHEN | C85: Malak | D85: 41856 | E85: 6 D | F85: =VLOOKUP(G85,NBT,2) -> 1 | G85: 1 | I85: =IF(AND(J85=0,H85<>"D"),"ABS","") | J85: =COUNTIF(INDIRECT(CONCATENATE("'c",G85,"'!E:E")),A85) -> 1 | K85: =IF(OR(J85=1,I85="ABS"),E85,"") -> 6 D | L85: =IF(I85="ABS",MAX(INDIRECT(CONCATENATE("maxc",G85))),S85) -> 0.0071296296 | S85: =VLOOKUP(inscript!A85,INDIRECT(CONCATENATE("'c",G85,"'!E:G")),3,0) -> 0.0071296296
A86: 85 | B86: ROSAYE | C86: Gaby | D86: 42349 | E86: 6 D | F86: =VLOOKUP(G86,NBT,2) -> 1 | G86: 2 | I86: =IF(AND(J86=0,H86<>"D"),"ABS","") | J86: =COUNTIF(INDIRECT(CONCATENATE("'c",G86,"'!E:E")),A86) -> 1 | K86: =IF(OR(J86=1,I86="ABS"),E86,"") -> 6 D | L86: =IF(I86="ABS",MAX(INDIRECT(CONCATENATE("maxc",G86))),S86) -> 0.004375 | S86: =VLOOKUP(inscript!A86,INDIRECT(CONCATENATE("'c",G86,"'!E:G")),3,0) -> 0.004375
A87: 86 | B87: SALVADOR | C87: Léo | D87: 42061 | E87: 6 D | F87: =VLOOKUP(G87,NBT,2) -> 1 | G87: 2 | I87: =IF(AND(J87=0,H87<>"D"),"ABS","") | J87: =COUNTIF(INDIRECT(CONCATENATE("'c",G87,"'!E:E")),A87) -> 1 | K87: =IF(OR(J87=1,I87="ABS"),E87,"") -> 6 D | L87: =IF(I87="ABS",MAX(INDIRECT(CONCATENATE("maxc",G87))),S87) -> 0.005787037 | S87: =VLOOKUP(inscript!A87,INDIRECT(CONCATENATE("'c",G87,"'!E:G")),3,0) -> 0.005787037
A88: 87 | B88: TOURE | C88: Oumar | D88: 41680 | E88: 6 D | F88: =VLOOKUP(G88,NBT,2) -> 1 | G88: 2 | I88: =IF(AND(J88=0,H88<>"D"),"ABS","") | J88: =COUNTIF(INDIRECT(CONCATENATE("'c",G88,"'!E:E")),A88) -> 1 | K88: =IF(OR(J88=1,I88="ABS"),E88,"") -> 6 D | L88: =IF(I88="ABS",MAX(INDIRECT(CONCATENATE("maxc",G88))),S88) -> 0.0059837963 | S88: =VLOOKUP(inscript!A88,INDIRECT(CONCATENATE("'c",G88,"'!E:G")),3,0) -> 0.0059837963
A89: 88 | B89: ABONOU | C89: Mathis | D89: 41838 | E89: 5 A | F89: =VLOOKUP(G89,NBT,2) -> 2 | G89: 4 | I89: =IF(AND(J89=0,H89<>"D"),"ABS","") | J89: =COUNTIF(INDIRECT(CONCATENATE("'c",G89,"'!E:E")),A89) -> 1 | K89: =IF(OR(J89=1,I89="ABS"),E89,"") -> 5 A | L89: =IF(I89="ABS",MAX(INDIRECT(CONCATENATE("maxc",G89))),S89) -> 0.0042939815 | S89: =VLOOKUP(inscript!A89,INDIRECT(CONCATENATE("'c",G89,"'!E:G")),3,0) -> 0.0042939815
A90: 89 | B90: ALLUIN-LAFUE | C90: Virginie | D90: 41928 | E90: 5 A | F90: =VLOOKUP(G90,NBT,2) -> 1 | G90: 3 | I90: =IF(AND(J90=0,H90<>"D"),"ABS","") | J90: =COUNTIF(INDIRECT(CONCATENATE("'c",G90,"'!E:E")),A90) -> 1 | K90: =IF(OR(J90=1,I90="ABS"),E90,"") -> 5 A | L90: =IF(I90="ABS",MAX(INDIRECT(CONCATENATE("maxc",G90))),S90) -> 0.005787037 | S90: =VLOOKUP(inscript!A90,INDIRECT(CONCATENATE("'c",G90,"'!E:G")),3,0) -> 0.005787037
A91: 90 | B91: BAILLY | C91: Noa | D91: 41649 | E91: 5 A | F91: =VLOOKUP(G91,NBT,2) -> 2 | G91: 4 | I91: =IF(AND(J91=0,H91<>"D"),"ABS","") | J91: =COUNTIF(INDIRECT(CONCATENATE("'c",G91,"'!E:E")),A91) -> 1 | K91: =IF(OR(J91=1,I91="ABS"),E91,"") -> 5 A | L91: =IF(I91="ABS",MAX(INDIRECT(CONCATENATE("maxc",G91))),S91) -> 0.0048726852 | S91: =VLOOKUP(inscript!A91,INDIRECT(CONCATENATE("'c",G91,"'!E:G")),3,0) -> 0.0048726852
A92: 91 | B92: BAUER | C92: Anna | D92: 41855 | E92: 5 A | F92: =VLOOKUP(G92,NBT,2) -> 1 | G92: 3 | I92: =IF(AND(J92=0,H92<>"D"),"ABS","") | J92: =COUNTIF(INDIRECT(CONCATENATE("'c",G92,"'!E:E")),A92) -> 1 | K92: =IF(OR(J92=1,I92="ABS"),E92,"") -> 5 A | L92: =IF(I92="ABS",MAX(INDIRECT(CONCATENATE("maxc",G92))),S92) -> 0.0040393519 | S92: =VLOOKUP(inscript!A92,INDIRECT(CONCATENATE("'c",G92,"'!E:G")),3,0) -> 0.0040393519
A93: 92 | B93: CHAMAK | C93: Kahil | D93: 41860 | E93: 5 A | F93: =VLOOKUP(G93,NBT,2) -> 2 | G93: 4 | I93: =IF(AND(J93=0,H93<>"D"),"ABS","") -> ABS | J93: =COUNTIF(INDIRECT(CONCATENATE("'c",G93,"'!E:E")),A93) -> 0 | K93: =IF(OR(J93=1,I93="ABS"),E93,"") -> 5 A | L93: =IF(I93="ABS",MAX(INDIRECT(CONCATENATE("maxc",G93))),S93) -> 0.0093055556 | S93: =VLOOKUP(inscript!A93,INDIRECT(CONCATENATE("'c",G93,"'!E:G")),3,0) -> #N/A
A94: 93 | B94: CLAUDEL | C94: Tom | D94: 41646 | E94: 5 A | F94: =VLOOKUP(G94,NBT,2) -> 2 | G94: 4 | I94: =IF(AND(J94=0,H94<>"D"),"ABS","") | J94: =COUNTIF(INDIRECT(CONCATENATE("'c",G94,"'!E:E")),A94) -> 1 | K94: =IF(OR(J94=1,I94="ABS"),E94,"") -> 5 A | L94: =IF(I94="ABS",MAX(INDIRECT(CONCATENATE("maxc",G94))),S94) -> 0.0042766204 | S94: =VLOOKUP(inscript!A94,INDIRECT(CONCATENATE("'c",G94,"'!E:G")),3,0) -> 0.0042766204
A95: 94 | B95: DEFRANOUX | C95: Mathias | D95: 41745 | E95: 5 A | F95: =VLOOKUP(G95,NBT,2) -> 2 | G95: 4 | H95: D | I95: =IF(AND(J95=0,H95<>"D"),"ABS","") | J95: =COUNTIF(INDIRECT(CONCATENATE("'c",G95,"'!E:E")),A95) -> 0 | K95: =IF(OR(J95=1,I95="ABS"),E95,"") | L95: =IF(I95="ABS",MAX(INDIRECT(CONCATENATE("maxc",G95))),S95) -> #N/A | S95: =VLOOKUP(inscript!A95,INDIRECT(CONCATENATE("'c",G95,"'!E:G")),3,0) -> #N/A
A96: 95 | B96: DIDIER ORY | C96: Gabriel | D96: 41990 | E96: 5 A | F96: =VLOOKUP(G96,NBT,2) -> 2 | G96: 4 | I96: =IF(AND(J96=0,H96<>"D"),"ABS","") | J96: =COUNTIF(INDIRECT(CONCATENATE("'c",G96,"'!E:E")),A96) -> 1 | K96: =IF(OR(J96=1,I96="ABS"),E96,"") -> 5 A | L96: =IF(I96="ABS",MAX(INDIRECT(CONCATENATE("maxc",G96))),S96) -> 0.0056655093 | S96: =VLOOKUP(inscript!A96,INDIRECT(CONCATENATE("'c",G96,"'!E:G")),3,0) -> 0.0056655093
A97: 96 | B97: FONDERFLICK | C97: Louise | D97: 41794 | E97: 5 A | F97: =VLOOKUP(G97,NBT,2) -> 1 | G97: 3 | I97: =IF(AND(J97=0,H97<>"D"),"ABS","") | J97: =COUNTIF(INDIRECT(CONCATENATE("'c",G97,"'!E:E")),A97) -> 1 | K97: =IF(OR(J97=1,I97="ABS"),E97,"") -> 5 A | L97: =IF(I97="ABS",MAX(INDIRECT(CONCATENATE("maxc",G97))),S97) -> 0.0037384259 | S97: =VLOOKUP(inscript!A97,INDIRECT(CONCATENATE("'c",G97,"'!E:G")),3,0) -> 0.0037384259
A98: 97 | B98: FORM | C98: Edgar | D98: 41822 | E98: 5 A | F98: =VLOOKUP(G98,NBT,2) -> 2 | G98: 4 | I98: =IF(AND(J98=0,H98<>"D"),"ABS","") | J98: =COUNTIF(INDIRECT(CONCATENATE("'c",G98,"'!E:E")),A98) -> 1 | K98: =IF(OR(J98=1,I98="ABS"),E98,"") -> 5 A | L98: =IF(I98="ABS",MAX(INDIRECT(CONCATENATE("maxc",G98))),S98) -> 0.0091435185 | S98: =VLOOKUP(inscript!A98,INDIRECT(CONCATENATE("'c",G98,"'!E:G")),3,0) -> 0.0091435185
A99: 98 | B99: GODEFROY | C99: Erwan | D99: 41820 | E99: 5 A | F99: =VLOOKUP(G99,NBT,2) -> 2 | G99: 4 | H99: D | I99: =IF(AND(J99=0,H99<>"D"),"ABS","") | J99: =COUNTIF(INDIRECT(CONCATENATE("'c",G99,"'!E:E")),A99) -> 0 | K99: =IF(OR(J99=1,I99="ABS"),E99,"") | L99: =IF(I99="ABS",MAX(INDIRECT(CONCATENATE("maxc",G99))),S99) -> #N/A | S99: =VLOOKUP(inscript!A99,INDIRECT(CONCATENATE("'c",G99,"'!E:G")),3,0) -> #N/A
A100: 99 | B100: GRAFF | C100: Camille | D100: 41906 | E100: 5 A | F100: =VLOOKUP(G100,NBT,2) -> 1 | G100: 3 | I100: =IF(AND(J100=0,H100<>"D"),"ABS","") | J100: =COUNTIF(INDIRECT(CONCATENATE("'c",G100,"'!E:E")),A100) -> 1 | K100: =IF(OR(J100=1,I100="ABS"),E100,"") -> 5 A | L100: =IF(I100="ABS",MAX(INDIRECT(CONCATENATE("maxc",G100))),S100) -> 0.0044675926 | S100: =VLOOKUP(inscript!A100,INDIRECT(CONCATENATE("'c",G100,"'!E:G")),3,0) -> 0.0044675926
A101: 100 | B101: HOLLEVOET | C101: Teiva | D101: 41582 | E101: 5 A | F101: =VLOOKUP(G101,NBT,2) -> 2 | G101: 4 | I101: =IF(AND(J101=0,H101<>"D"),"ABS","") | J101: =COUNTIF(INDIRECT(CONCATENATE("'c",G101,"'!E:E")),A101) -> 1 | K101: =IF(OR(J101=1,I101="ABS"),E101,"") -> 5 A | L101: =IF(I101="ABS",MAX(INDIRECT(CONCATENATE("maxc",G101))),S101) -> 0.0058333333 | S101: =VLOOKUP(inscript!A101,INDIRECT(CONCATENATE("'c",G101,"'!E:G")),3,0) -> 0.0058333333
A102: 101 | B102: LAMZEL | C102: Aya | D102: 41772 | E102: 5 A | F102: =VLOOKUP(G102,NBT,2) -> 1 | G102: 3 | I102: =IF(AND(J102=0,H102<>"D"),"ABS","") | J102: =COUNTIF(INDIRECT(CONCATENATE("'c",G102,"'!E:E")),A102) -> 1 | K102: =IF(OR(J102=1,I102="ABS"),E102,"") -> 5 A | L102: =IF(I102="ABS",MAX(INDIRECT(CONCATENATE("maxc",G102))),S102) -> 0.0063194444 | S102: =VLOOKUP(inscript!A102,INDIRECT(CONCATENATE("'c",G102,"'!E:G")),3,0) -> 0.0063194444
A103: 102 | B103: MULLER | C103: Lucien | D103: 42020 | E103: 5 A | F103: =VLOOKUP(G103,NBT,2) -> 2 | G103: 4 | I103: =IF(AND(J103=0,H103<>"D"),"ABS","") | J103: =COUNTIF(INDIRECT(CONCATENATE("'c",G103,"'!E:E")),A103) -> 1 | K103: =IF(OR(J103=1,I103="ABS"),E103,"") -> 5 A | L103: =IF(I103="ABS",MAX(INDIRECT(CONCATENATE("maxc",G103))),S103) -> 0.0045949074 | S103: =VLOOKUP(inscript!A103,INDIRECT(CONCATENATE("'c",G103,"'!E:G")),3,0) -> 0.0045949074
A104: 103 | B104: REMY | C104: Louis | D104: 41697 | E104: 5 A | F104: =VLOOKUP(G104,NBT,2) -> 2 | G104: 4 | I104: =IF(AND(J104=0,H104<>"D"),"ABS","") | J104: =COUNTIF(INDIRECT(CONCATENATE("'c",G104,"'!E:E")),A104) -> 1 | K104: =IF(OR(J104=1,I104="ABS"),E104,"") -> 5 A | L104: =IF(I104="ABS",MAX(INDIRECT(CONCATENATE("maxc",G104))),S104) -> 0.0066261574 | S104: =VLOOKUP(inscript!A104,INDIRECT(CONCATENATE("'c",G104,"'!E:G")),3,0) -> 0.0066261574
A105: 104 | B105: ROBERT | C105: Mathew | D105: 41291 | E105: 5 A | F105: =VLOOKUP(G105,NBT,2) -> 2 | G105: 4 | I105: =IF(AND(J105=0,H105<>"D"),"ABS","") | J105: =COUNTIF(INDIRECT(CONCATENATE("'c",G105,"'!E:E")),A105) -> 1 | K105: =IF(OR(J105=1,I105="ABS"),E105,"") -> 5 A | L105: =IF(I105="ABS",MAX(INDIRECT(CONCATENATE("maxc",G105))),S105) -> 0.004693287 | S105: =VLOOKUP(inscript!A105,INDIRECT(CONCATENATE("'c",G105,"'!E:G")),3,0) -> 0.004693287
A106: 105 | B106: SCHUBNEL | C106: Valentine | D106: 41702 | E106: 5 A | F106: =VLOOKUP(G106,NBT,2) -> 1 | G106: 3 | I106: =IF(AND(J106=0,H106<>"D"),"ABS","") | J106: =COUNTIF(INDIRECT(CONCATENATE("'c",G106,"'!E:E")),A106) -> 1 | K106: =IF(OR(J106=1,I106="ABS"),E106,"") -> 5 A | L106: =IF(I106="ABS",MAX(INDIRECT(CONCATENATE("maxc",G106))),S106) -> 0.0048263889 | S106: =VLOOKUP(inscript!A106,INDIRECT(CONCATENATE("'c",G106,"'!E:G")),3,0) -> 0.0048263889
A107: 106 | B107: SILLARI | C107: Clémence | D107: 41712 | E107: 5 A | F107: =VLOOKUP(G107,NBT,2) -> 1 | G107: 3 | I107: =IF(AND(J107=0,H107<>"D"),"ABS","") | J107: =COUNTIF(INDIRECT(CONCATENATE("'c",G107,"'!E:E")),A107) -> 1 | K107: =IF(OR(J107=1,I107="ABS"),E107,"") -> 5 A | L107: =IF(I107="ABS",MAX(INDIRECT(CONCATENATE("maxc",G107))),S107) -> 0.0068055556 | S107: =VLOOKUP(inscript!A107,INDIRECT(CONCATENATE("'c",G107,"'!E:G")),3,0) -> 0.0068055556
A108: 107 | B108: SILLARI | C108: Naomi | D108: 41687 | E108: 5 A | F108: =VLOOKUP(G108,NBT,2) -> 1 | G108: 3 | I108: =IF(AND(J108=0,H108<>"D"),"ABS","") | J108: =COUNTIF(INDIRECT(CONCATENATE("'c",G108,"'!E:E")),A108) -> 1 | K108: =IF(OR(J108=1,I108="ABS"),E108,"") -> 5 A | L108: =IF(I108="ABS",MAX(INDIRECT(CONCATENATE("maxc",G108))),S108) -> 0.0047685185 | S108: =VLOOKUP(inscript!A108,INDIRECT(CONCATENATE("'c",G108,"'!E:G")),3,0) -> 0.0047685185
A109: 108 | B109: SINGH | C109: Charly | D109: 41963 | E109: 5 A | F109: =VLOOKUP(G109,NBT,2) -> 2 | G109: 4 | H109: D | I109: =IF(AND(J109=0,H109<>"D"),"ABS","") | J109: =COUNTIF(INDIRECT(CONCATENATE("'c",G109,"'!E:E")),A109) -> 0 | K109: =IF(OR(J109=1,I109="ABS"),E109,"") | L109: =IF(I109="ABS",MAX(INDIRECT(CONCATENATE("maxc",G109))),S109) -> #N/A | S109: =VLOOKUP(inscript!A109,INDIRECT(CONCATENATE("'c",G109,"'!E:G")),3,0) -> #N/A
A110: 109 | B110: SLABY | C110: Malo | D110: 41910 | E110: 5 A | F110: =VLOOKUP(G110,NBT,2) -> 2 | G110: 4 | H110: D | I110: =IF(AND(J110=0,H110<>"D"),"ABS","") | J110: =COUNTIF(INDIRECT(CONCATENATE("'c",G110,"'!E:E")),A110) -> 0 | K110: =IF(OR(J110=1,I110="ABS"),E110,"") | L110: =IF(I110="ABS",MAX(INDIRECT(CONCATENATE("maxc",G110))),S110) -> #N/A | S110: =VLOOKUP(inscript!A110,INDIRECT(CONCATENATE("'c",G110,"'!E:G")),3,0) -> #N/A
A111: 110 | B111: THINET | C111: Arthur | D111: 41651 | E111: 5 A | F111: =VLOOKUP(G111,NBT,2) -> 2 | G111: 4 | I111: =IF(AND(J111=0,H111<>"D"),"ABS","") | J111: =COUNTIF(INDIRECT(CONCATENATE("'c",G111,"'!E:E")),A111) -> 1 | K111: =IF(OR(J111=1,I111="ABS"),E111,"") -> 5 A | L111: =IF(I111="ABS",MAX(INDIRECT(CONCATENATE("maxc",G111))),S111) -> 0.0039236111 | S111: =VLOOKUP(inscript!A111,INDIRECT(CONCATENATE("'c",G111,"'!E:G")),3,0) -> 0.0039236111
A112: 111 | B112: ABATE | C112: Alessio | D112: 41914 | E112: 5 B | F112: =VLOOKUP(G112,NBT,2) -> 2 | G112: 4 | I112: =IF(AND(J112=0,H112<>"D"),"ABS","") | J112: =COUNTIF(INDIRECT(CONCATENATE("'c",G112,"'!E:E")),A112) -> 1 | K112: =IF(OR(J112=1,I112="ABS"),E112,"") -> 5 B | L112: =IF(I112="ABS",MAX(INDIRECT(CONCATENATE("maxc",G112))),S112) -> 0.0066087963 | S112: =VLOOKUP(inscript!A112,INDIRECT(CONCATENATE("'c",G112,"'!E:G")),3,0) -> 0.0066087963
A113: 112 | B113: ANSEL | C113: Basile | D113: 41678 | E113: 5 B | F113: =VLOOKUP(G113,NBT,2) -> 2 | G113: 4 | I113: =IF(AND(J113=0,H113<>"D"),"ABS","") | J113: =COUNTIF(INDIRECT(CONCATENATE("'c",G113,"'!E:E")),A113) -> 1 | K113: =IF(OR(J113=1,I113="ABS"),E113,"") -> 5 B | L113: =IF(I113="ABS",MAX(INDIRECT(CONCATENATE("maxc",G113))),S113) -> 0.0061226852 | S113: =VLOOKUP(inscript!A113,INDIRECT(CONCATENATE("'c",G113,"'!E:G")),3,0) -> 0.0061226852
A114: 113 | B114: AUBRY | C114: Louisa | D114: 41646 | E114: 5 B | F114: =VLOOKUP(G114,NBT,2) -> 1 | G114: 3 | I114: =IF(AND(J114=0,H114<>"D"),"ABS","") | J114: =COUNTIF(INDIRECT(CONCATENATE("'c",G114,"'!E:E")),A114) -> 1 | K114: =IF(OR(J114=1,I114="ABS"),E114,"") -> 5 B | L114: =IF(I114="ABS",MAX(INDIRECT(CONCATENATE("maxc",G114))),S114) -> 0.006412037 | S114: =VLOOKUP(inscript!A114,INDIRECT(CONCATENATE("'c",G114,"'!E:G")),3,0) -> 0.006412037
A115: 114 | B115: BARTAL GALLET | C115: Isem | D115: 41568 | E115: 5 B | F115: =VLOOKUP(G115,NBT,2) -> 2 | G115: 4 | I115: =IF(AND(J115=0,H115<>"D"),"ABS","") | J115: =COUNTIF(INDIRECT(CONCATENATE("'c",G115,"'!E:E")),A115) -> 1 | K115: =IF(OR(J115=1,I115="ABS"),E115,"") -> 5 B | L115: =IF(I115="ABS",MAX(INDIRECT(CONCATENATE("maxc",G115))),S115) -> 0.0093055556 | S115: =VLOOKUP(inscript!A115,INDIRECT(CONCATENATE("'c",G115,"'!E:G")),3,0) -> 0.0093055556
A116: 115 | B116: BELLINI | C116: Mathys | D116: 41905 | E116: 5 B | F116: =VLOOKUP(G116,NBT,2) -> 2 | G116: 4 | I116: =IF(AND(J116=0,H116<>"D"),"ABS","") | J116: =COUNTIF(INDIRECT(CONCATENATE("'c",G116,"'!E:E")),A116) -> 1 | K116: =IF(OR(J116=1,I116="ABS"),E116,"") -> 5 B | L116: =IF(I116="ABS",MAX(INDIRECT(CONCATENATE("maxc",G116))),S116) -> 0.0035416667 | S116: =VLOOKUP(inscript!A116,INDIRECT(CONCATENATE("'c",G116,"'!E:G")),3,0) -> 0.0035416667
A117: 116 | B117: BONTEMS | C117: Lucile | D117: 41755 | E117: 5 B | F117: =VLOOKUP(G117,NBT,2) -> 1 | G117: 3 | I117: =IF(AND(J117=0,H117<>"D"),"ABS","") | J117: =COUNTIF(INDIRECT(CONCATENATE("'c",G117,"'!E:E")),A117) -> 1 | K117: =IF(OR(J117=1,I117="ABS"),E117,"") -> 5 B | L117: =IF(I117="ABS",MAX(INDIRECT(CONCATENATE("maxc",G117))),S117) -> 0.003912037 | S117: =VLOOKUP(inscript!A117,INDIRECT(CONCATENATE("'c",G117,"'!E:G")),3,0) -> 0.003912037
A118: 117 | B118: BREVILLE | C118: Benoit | D118: 41722 | E118: 5 B | F118: =VLOOKUP(G118,NBT,2) -> 2 | G118: 4 | I118: =IF(AND(J118=0,H118<>"D"),"ABS","") | J118: =COUNTIF(INDIRECT(CONCATENATE("'c",G118,"'!E:E")),A118) -> 1 | K118: =IF(OR(J118=1,I118="ABS"),E118,"") -> 5 B | L118: =IF(I118="ABS",MAX(INDIRECT(CONCATENATE("maxc",G118))),S118) -> 0.0038773148 | S118: =VLOOKUP(inscript!A118,INDIRECT(CONCATENATE("'c",G118,"'!E:G")),3,0) -> 0.0038773148
...

Sheet c1
A1: 1 | C1: Classement des Filles de 6ème | F1: 1300 m | K1: =MAX(maxc1) -> 0.0081134259
A3: Arrivée | B3: Nom | C3: Prénom | D3: Classe | E3: Dossard | F3: Temps | G3: Temps moyen | H3: Erreur
A4: 1 | B4: =VLOOKUP(E4,Dossard,2) -> GALIFFET | C4: =VLOOKUP(E4,Dossard,3) -> Wendy | D4: =VLOOKUP(E4,Dossard,5) -> 6 A | E4: 10 | F4: 0.0036805556 | G4: =IF(F4="","",F4/VLOOKUP(E4,Dossard,6)) -> 0.0036805556 | H4: =IF(E4="","",IF(OR(E4>dernier,E4<premier),"inconnu",IF(VLOOKUP(E4,edition,7)=1,E4,"Erreur Course"))) -> 10
A5: =IF(OR(H5="inconnu",H5="déjà saisi",IF(F5="","FAUX",F5=F4)),A4,A4+1) -> 2 | B5: =VLOOKUP(E5,Dossard,2) -> DESSAINT | C5: =VLOOKUP(E5,Dossard,3) -> Maëlys | D5: =VLOOKUP(E5,Dossard,5) -> 6 B | E5: 29 | F5: 0.0037847222 | G5: =IF(F5="","",F5/VLOOKUP(E5,Dossard,6)) -> 0.0037847222 | H5: =IF(E5="","",IF(AND(E5<=dernier,E5>=premier),IF((COUNTIF(C:E,E5))>1,"déjà saisi",(IF(VLOOKUP(E5,edition,7)=1,E5,"Erreur Course"))),"inconnu")) -> 29
A6: =IF(OR(H6="inconnu",H6="déjà saisi",IF(F6="","FAUX",F6=F5)),A5,A5+1) -> 3 | B6: =VLOOKUP(E6,Dossard,2) -> ADRIAN | C6: =VLOOKUP(E6,Dossard,3) -> Louise | D6: =VLOOKUP(E6,Dossard,5) -> CM2 - REVILLON | E6: 448 | F6: 0.0038773148 | G6: =IF(F6="","",F6/VLOOKUP(E6,Dossard,6)) -> 0.0038773148 | H6: =IF(E6="","",IF(AND(E6<=dernier,E6>=premier),IF((COUNTIF(C:E,E6))>1,"déjà saisi",(IF(VLOOKUP(E6,edition,7)=1,E6,"Erreur Course"))),"inconnu")) -> 448
A7: =IF(OR(H7="inconnu",H7="déjà saisi",IF(F7="","FAUX",F7=F6)),A6,A6+1) -> 4 | B7: =VLOOKUP(E7,Dossard,2) -> PIERRE | C7: =VLOOKUP(E7,Dossard,3) -> Zoé | D7: =VLOOKUP(E7,Dossard,5) -> 6 B | E7: 41 | F7: 0.0039699074 | G7: =IF(F7="","",F7/VLOOKUP(E7,Dossard,6)) -> 0.0039699074 | H7: =IF(E7="","",IF(AND(E7<=dernier,E7>=premier),IF((COUNTIF(C:E,E7))>1,"déjà saisi",(IF(VLOOKUP(E7,edition,7)=1,E7,"Erreur Course"))),"inconnu")) -> 41
A8: =IF(OR(H8="inconnu",H8="déjà saisi",IF(F8="","FAUX",F8=F7)),A7,A7+1) -> 5 | B8: =VLOOKUP(E8,Dossard,2) -> FREDERIC | C8: =VLOOKUP(E8,Dossard,3) -> Léna | D8: =VLOOKUP(E8,Dossard,5) -> 6 A | E8: 9 | F8: 0.0040972222 | G8: =IF(F8="","",F8/VLOOKUP(E8,Dossard,6)) -> 0.0040972222 | H8: =IF(E8="","",IF(AND(E8<=dernier,E8>=premier),IF((COUNTIF(C:E,E8))>1,"déjà saisi",(IF(VLOOKUP(E8,edition,7)=1,E8,"Erreur Course"))),"inconnu")) -> 9
A9: =IF(OR(H9="inconnu",H9="déjà saisi",IF(F9="","FAUX",F9=F8)),A8,A8+1) -> 6 | B9: =VLOOKUP(E9,Dossard,2) -> VANÇON | C9: =VLOOKUP(E9,Dossard,3) -> Joana | D9: =VLOOKUP(E9,Dossard,5) -> 6 A | E9: 21 | F9: 0.0042013889 | G9: =IF(F9="","",F9/VLOOKUP(E9,Dossard,6)) -> 0.0042013889 | H9: =IF(E9="","",IF(AND(E9<=dernier,E9>=premier),IF((COUNTIF(C:E,E9))>1,"déjà saisi",(IF(VLOOKUP(E9,edition,7)=1,E9,"Erreur Course"))),"inconnu")) -> 21
A10: =IF(OR(H10="inconnu",H10="déjà saisi",IF(F10="","FAUX",F10=F9)),A9,A9+1) -> 7 | B10: =VLOOKUP(E10,Dossard,2) -> MERGUIN | C10: =VLOOKUP(E10,Dossard,3) -> Léa | D10: =VLOOKUP(E10,Dossard,5) -> 6 A | E10: 15 | F10: 0.0043171296 | G10: =IF(F10="","",F10/VLOOKUP(E10,Dossard,6)) -> 0.0043171296 | H10: =IF(E10="","",IF(AND(E10<=dernier,E10>=premier),IF((COUNTIF(C:E,E10))>1,"déjà saisi",(IF(VLOOKUP(E10,edition,7)=1,E10,"Erreur Course"))),"inconnu")) -> 15
A11: =IF(OR(H11="inconnu",H11="déjà saisi",IF(F11="","FAUX",F11=F10)),A10,A10+1) -> 8 | B11: =VLOOKUP(E11,Dossard,2) -> VINCENT VERDENAL | C11: =VLOOKUP(E11,Dossard,3) -> Liya | D11: =VLOOKUP(E11,Dossard,5) -> 6 B | E11: 45 | F11: 0.0044097222 | G11: =IF(F11="","",F11/VLOOKUP(E11,Dossard,6)) -> 0.0044097222 | H11: =IF(E11="","",IF(AND(E11<=dernier,E11>=premier),IF((COUNTIF(C:E,E11))>1,"déjà saisi",(IF(VLOOKUP(E11,edition,7)=1,E11,"Erreur Course"))),"inconnu")) -> 45
A12: =IF(OR(H12="inconnu",H12="déjà saisi",IF(F12="","FAUX",F12=F11)),A11,A11+1) -> 9 | B12: =VLOOKUP(E12,Dossard,2) -> PETITJEAN GUIMBERT | C12: =VLOOKUP(E12,Dossard,3) -> Judith | D12: =VLOOKUP(E12,Dossard,5) -> CM2 - DOMMARTIN | E12: 472 | F12: 0.0044560185 | G12: =IF(F12="","",F12/VLOOKUP(E12,Dossard,6)) -> 0.0044560185 | H12: =IF(E12="","",IF(AND(E12<=dernier,E12>=premier),IF((COUNTIF(C:E,E12))>1,"déjà saisi",(IF(VLOOKUP(E12,edition,7)=1,E12,"Erreur Course"))),"inconnu")) -> 472
A13: =IF(OR(H13="inconnu",H13="déjà saisi",IF(F13="","FAUX",F13=F12)),A12,A12+1) -> 10 | B13: =VLOOKUP(E13,Dossard,2) -> JOUIRA | C13: =VLOOKUP(E13,Dossard,3) -> Ayah | D13: =VLOOKUP(E13,Dossard,5) -> CM2 - DOMMARTIN | E13: 471 | F13: 0.0045833333 | G13: =IF(F13="","",F13/VLOOKUP(E13,Dossard,6)) -> 0.0045833333 | H13: =IF(E13="","",IF(AND(E13<=dernier,E13>=premier),IF((COUNTIF(C:E,E13))>1,"déjà saisi",(IF(VLOOKUP(E13,edition,7)=1,E13,"Erreur Course"))),"inconnu")) -> 471
A14: =IF(OR(H14="inconnu",H14="déjà saisi",IF(F14="","FAUX",F14=F13)),A13,A13+1) -> 11 | B14: =VLOOKUP(E14,Dossard,2) -> KONATE | C14: =VLOOKUP(E14,Dossard,3) -> Neyla | D14: =VLOOKUP(E14,Dossard,5) -> 6 C | E14: 58 | F14: 0.0046296296 | G14: =IF(F14="","",F14/VLOOKUP(E14,Dossard,6)) -> 0.0046296296 | H14: =IF(E14="","",IF(AND(E14<=dernier,E14>=premier),IF((COUNTIF(C:E,E14))>1,"déjà saisi",(IF(VLOOKUP(E14,edition,7)=1,E14,"Erreur Course"))),"inconnu")) -> 58
A15: =IF(OR(H15="inconnu",H15="déjà saisi",IF(F15="","FAUX",F15=F14)),A14,A14+1) -> 12 | B15: =VLOOKUP(E15,Dossard,2) -> SÉSÉ | C15: =VLOOKUP(E15,Dossard,3) -> Léana | D15: =VLOOKUP(E15,Dossard,5) -> CM2 - DOMMARTIN | E15: 473 | F15: 0.0047685185 | G15: =IF(F15="","",F15/VLOOKUP(E15,Dossard,6)) -> 0.0047685185 | H15: =IF(E15="","",IF(AND(E15<=dernier,E15>=premier),IF((COUNTIF(C:E,E15))>1,"déjà saisi",(IF(VLOOKUP(E15,edition,7)=1,E15,"Erreur Course"))),"inconnu")) -> 473
A16: =IF(OR(H16="inconnu",H16="déjà saisi",IF(F16="","FAUX",F16=F15)),A15,A15+1) -> 13 | B16: =VLOOKUP(E16,Dossard,2) -> COLNEL | C16: =VLOOKUP(E16,Dossard,3) -> Louise | D16: =VLOOKUP(E16,Dossard,5) -> CM2 - DOMMARTIN | E16: 469 | F16: 0.0048263889 | G16: =IF(F16="","",F16/VLOOKUP(E16,Dossard,6)) -> 0.0048263889 | H16: =IF(E16="","",IF(AND(E16<=dernier,E16>=premier),IF((COUNTIF(C:E,E16))>1,"déjà saisi",(IF(VLOOKUP(E16,edition,7)=1,E16,"Erreur Course"))),"inconnu")) -> 469
... A67: =IF(OR(H67="inconnu",H67="déjà saisi",IF(F67="","FAUX",F67=F66)),A66,A66+1) -> 64 | B67: =VLOOKUP(E67,Dossard,2) -> DEFRANOUX | C67: =VLOOKUP(E67,Dossard,3) -> Alix | D67: =VLOOKUP(E67,Dossard,5) -> CM1 - ST-AME | E67: 432 | F67: 0.0081134259 | G67: =IF(F67="","",F67/VLOOKUP(E67,Dossard,6)) -> 0.0081134259 | H67: =IF(E67="","",IF(AND(E67<=dernier,E67>=premier),IF((COUNTIF(C:E,E67))>1,"déjà saisi",(IF(VLOOKUP(E67,edition,7)=1,E67,"Erreur Course"))),"inconnu")) -> 432
A68: =IF(OR(H68="inconnu",H68="déjà saisi",IF(F68="","FAUX",F68=F67)),A67,A67+1) -> 65 | B68: =VLOOKUP(E68,Dossard,2) -> #N/A | C68: =VLOOKUP(E68,Dossard,3) -> #N/A | D68: =VLOOKUP(E68,Dossard,5) -> #N/A | G68: =IF(F68="","",F68/VLOOKUP(E68,Dossard,6)) | H68: =IF(E68="","",IF(AND(E68<=dernier,E68>=premier),IF((COUNTIF(C:E,E68))>1,"déjà saisi",(IF(VLOOKUP(E68,edition,7)=1,E68,"Erreur Course"))),"inconnu"))
A69: =IF(OR(H69="inconnu",H69="déjà saisi",IF(F69="","FAUX",F69=F68)),A68,A68+1) -> 66 | B69: =VLOOKUP(E69,Dossard,2) -> #N/A | C69: =VLOOKUP(E69,Dossard,3) -> #N/A | D69: =VLOOKUP(E69,Dossard,5) -> #N/A | G69: =IF(F69="","",F69/VLOOKUP(E69,Dossard,6)) | H69: =IF(E69="","",IF(AND(E69<=dernier,E69>=premier),IF((COUNTIF(C:E,E69))>1,"déjà saisi",(IF(VLOOKUP(E69,edition,7)=1,E69,"Erreur Course"))),"inconnu"))
A70: =IF(OR(H70="inconnu",H70="déjà saisi",IF(F70="","FAUX",F70=F69)),A69,A69+1) -> 67 | B70: =VLOOKUP(E70,Dossard,2) -> #N/A | C70: =VLOOKUP(E70,Dossard,3) -> #N/A | D70: =VLOOKUP(E70,Dossard,5) -> #N/A | G70: =IF(F70="","",F70/VLOOKUP(E70,Dossard,6)) | H70: =IF(E70="","",IF(AND(E70<=dernier,E70>=premier),IF((COUNTIF(C:E,E70))>1,"déjà saisi",(IF(VLOOKUP(E70,edition,7)=1,E70,"Erreur Course"))),"inconnu"))
A71: =IF(OR(H71="inconnu",H71="déjà saisi",IF(F71="","FAUX",F71=F70)),A70,A70+1) -> 68 | B71: =VLOOKUP(E71,Dossard,2) -> #N/A | C71: =VLOOKUP(E71,Dossard,3) -> #N/A | D71: =VLOOKUP(E71,Dossard,5) -> #N/A | G71: =IF(F71="","",F71/VLOOKUP(E71,Dossard,6)) | H71: =IF(E71="","",IF(AND(E71<=dernier,E71>=premier),IF((COUNTIF(C:E,E71))>1,"déjà saisi",(IF(VLOOKUP(E71,edition,7)=1,E71,"Erreur Course"))),"inconnu"))
A72: =IF(OR(H72="inconnu",H72="déjà saisi",IF(F72="","FAUX",F72=F71)),A71,A71+1) -> 69 | B72: =VLOOKUP(E72,Dossard,2) -> #N/A | C72: =VLOOKUP(E72,Dossard,3) -> #N/A | D72: =VLOOKUP(E72,Dossard,5) -> #N/A | G72: =IF(F72="","",F72/VLOOKUP(E72,Dossard,6)) | H72: =IF(E72="","",IF(AND(E72<=dernier,E72>=premier),IF((COUNTIF(C:E,E72))>1,"déjà saisi",(IF(VLOOKUP(E72,edition,7)=1,E72,"Erreur Course"))),"inconnu"))
A73: =IF(OR(H73="inconnu",H73="déjà saisi",IF(F73="","FAUX",F73=F72)),A72,A72+1) -> 70 | B73: =VLOOKUP(E73,Dossard,2) -> #N/A | C73: =VLOOKUP(E73,Dossard,3) -> #N/A | D73: =VLOOKUP(E73,Dossard,5) -> #N/A | G73: =IF(F73="","",F73/VLOOKUP(E73,Dossard,6)) | H73: =IF(E73="","",IF(AND(E73<=dernier,E73>=premier),IF((COUNTIF(C:E,E73))>1,"déjà saisi",(IF(VLOOKUP(E73,edition,7)=1,E73,"Erreur Course"))),"inconnu"))
A74: =IF(OR(H74="inconnu",H74="déjà saisi",IF(F74="","FAUX",F74=F73)),A73,A73+1) -> 71 | B74: =VLOOKUP(E74,Dossard,2) -> #N/A | C74: =VLOOKUP(E74,Dossard,3) -> #N/A | D74: =VLOOKUP(E74,Dossard,5) -> #N/A | G74: =IF(F74="","",F74/VLOOKUP(E74,Dossard,6)) | H74: =IF(E74="","",IF(AND(E74<=dernier,E74>=premier),IF((COUNTIF(C:E,E74))>1,"déjà saisi",(IF(VLOOKUP(E74,edition,7)=1,E74,"Erreur Course"))),"inconnu"))
A75: =IF(OR(H75="inconnu",H75="déjà saisi",IF(F75="","FAUX",F75=F74)),A74,A74+1) -> 72 | B75: =VLOOKUP(E75,Dossard,2) -> #N/A | C75: =VLOOKUP(E75,Dossard,3) -> #N/A | D75: =VLOOKUP(E75,Dossard,5) -> #N/A | G75: =IF(F75="","",F75/VLOOKUP(E75,Dossard,6)) | H75: =IF(E75="","",IF(AND(E75<=dernier,E75>=premier),IF((COUNTIF(C:E,E75))>1,"déjà saisi",(IF(VLOOKUP(E75,edition,7)=1,E75,"Erreur Course"))),"inconnu"))
A76: =IF(OR(H76="inconnu",H76="déjà saisi",IF(F76="","FAUX",F76=F75)),A75,A75+1) -> 73 | B76: =VLOOKUP(E76,Dossard,2) -> #N/A | C76: =VLOOKUP(E76,Dossard,3) -> #N/A | D76: =VLOOKUP(E76,Dossard,5) -> #N/A | G76: =IF(F76="","",F76/VLOOKUP(E76,Dossard,6)) | H76: =IF(E76="","",IF(AND(E76<=dernier,E76>=premier),IF((COUNTIF(C:E,E76))>1,"déjà saisi",(IF(VLOOKUP(E76,edition,7)=1,E76,"Erreur Course"))),"inconnu"))
A77: =IF(OR(H77="inconnu",H77="déjà saisi",IF(F77="","FAUX",F77=F76)),A76,A76+1) -> 74 | B77: =VLOOKUP(E77,Dossard,2) -> #N/A | C77: =VLOOKUP(E77,Dossard,3) -> #N/A | D77: =VLOOKUP(E77,Dossard,5) -> #N/A | G77: =IF(F77="","",F77/VLOOKUP(E77,Dossard,6)) | H77: =IF(E77="","",IF(AND(E77<=dernier,E77>=premier),IF((COUNTIF(C:E,E77))>1,"déjà saisi",(IF(VLOOKUP(E77,edition,7)=1,E77,"Erreur Course"))),"inconnu"))
A78: =IF(OR(H78="inconnu",H78="déjà saisi",IF(F78="","FAUX",F78=F77)),A77,A77+1) -> 75 | B78: =VLOOKUP(E78,Dossard,2) -> #N/A | C78: =VLOOKUP(E78,Dossard,3) -> #N/A | D78: =VLOOKUP(E78,Dossard,5) -> #N/A | G78: =IF(F78="","",F78/VLOOKUP(E78,Dossard,6)) | H78: =IF(E78="","",IF(AND(E78<=dernier,E78>=premier),IF((COUNTIF(C:E,E78))>1,"déjà saisi",(IF(VLOOKUP(E78,edition,7)=1,E78,"Erreur Course"))),"inconnu"))
A79: =IF(OR(H79="inconnu",H79="déjà saisi",IF(F79="","FAUX",F79=F78)),A78,A78+1) -> 76 | B79: =VLOOKUP(E79,Dossard,2) -> #N/A | C79: =VLOOKUP(E79,Dossard,3) -> #N/A | D79: =VLOOKUP(E79,Dossard,5) -> #N/A | G79: =IF(F79="","",IF(F79>=F78,IF(H79=E79,F79/VLOOKUP(E79,Dossard,6),"nc"),"erreur tps")) | H79: =IF(E79="","",IF(AND(E79<=dernier,E79>=premier),IF((COUNTIF(C:E,E79))>1,"déjà saisi",(IF(VLOOKUP(E79,edition,7)=1,E79,"Erreur Course"))),"inconnu"))
A80: =IF(OR(H80="inconnu",H80="déjà saisi",IF(F80="","FAUX",F80=F79)),A79,A79+1) -> 77 | B80: =VLOOKUP(E80,Dossard,2) -> #N/A | C80: =VLOOKUP(E80,Dossard,3) -> #N/A | D80: =VLOOKUP(E80,Dossard,5) -> #N/A | G80: =IF(F80="","",IF(F80>=F79,IF(H80=E80,F80/VLOOKUP(E80,Dossard,6),"nc"),"erreur tps")) | H80: =IF(E80="","",IF(AND(E80<=dernier,E80>=premier),IF((COUNTIF(C:E,E80))>1,"déjà saisi",(IF(VLOOKUP(E80,edition,7)=1,E80,"Erreur Course"))),"inconnu"))
A81: =IF(OR(H81="inconnu",H81="déjà saisi",IF(F81="","FAUX",F81=F80)),A80,A80+1) -> 78 | B81: =VLOOKUP(E81,Dossard,2) -> #N/A | C81: =VLOOKUP(E81,Dossard,3) -> #N/A | D81: =VLOOKUP(E81,Dossard,5) -> #N/A | G81: =IF(F81="","",IF(F81>=F80,IF(H81=E81,F81/VLOOKUP(E81,Dossard,6),"nc"),"erreur tps")) | H81: =IF(E81="","",IF(AND(E81<=dernier,E81>=premier),IF((COUNTIF(C:E,E81))>1,"déjà saisi",(IF(VLOOKUP(E81,edition,7)=1,E81,"Erreur Course"))),"inconnu"))
A82: =IF(OR(H82="inconnu",H82="déjà saisi",IF(F82="","FAUX",F82=F81)),A81,A81+1) -> 79 | B82: =VLOOKUP(E82,Dossard,2) -> #N/A | C82: =VLOOKUP(E82,Dossard,3) -> #N/A | D82: =VLOOKUP(E82,Dossard,5) -> #N/A | G82: =IF(F82="","",IF(F82>=F81,IF(H82=E82,F82/VLOOKUP(E82,Dossard,6),"nc"),"erreur tps")) | H82: =IF(E82="","",IF(AND(E82<=dernier,E82>=premier),IF((COUNTIF(C:E,E82))>1,"déjà saisi",(IF(VLOOKUP(E82,edition,7)=1,E82,"Erreur Course"))),"inconnu"))
A83: =IF(OR(H83="inconnu",H83="déjà saisi",IF(F83="","FAUX",F83=F82)),A82,A82+1) -> 80 | B83: =VLOOKUP(E83,Dossard,2) -> #N/A | C83: =VLOOKUP(E83,Dossard,3) -> #N/A | D83: =VLOOKUP(E83,Dossard,5) -> #N/A | G83: =IF(F83="","",IF(F83>=F82,IF(H83=E83,F83/VLOOKUP(E83,Dossard,6),"nc"),"erreur tps")) | H83: =IF(E83="","",IF(AND(E83<=dernier,E83>=premier),IF((COUNTIF(C:E,E83))>1,"déjà saisi",(IF(VLOOKUP(E83,edition,7)=1,E83,"Erreur Course"))),"inconnu"))
A84: =IF(OR(H84="inconnu",H84="déjà saisi",IF(F84="","FAUX",F84=F83)),A83,A83+1) -> 81 | B84: =VLOOKUP(E84,Dossard,2) -> #N/A | C84: =VLOOKUP(E84,Dossard,3) -> #N/A | D84: =VLOOKUP(E84,Dossard,5) -> #N/A | G84: =IF(F84="","",IF(F84>=F83,IF(H84=E84,F84/VLOOKUP(E84,Dossard,6),"nc"),"erreur tps")) | H84: =IF(E84="","",IF(AND(E84<=dernier,E84>=premier),IF((COUNTIF(C:E,E84))>1,"déjà saisi",(IF(VLOOKUP(E84,edition,7)=1,E84,"Erreur Course"))),"inconnu"))
A85: =IF(OR(H85="inconnu",H85="déjà saisi",IF(F85="","FAUX",F85=F84)),A84,A84+1) -> 82 | B85: =VLOOKUP(E85,Dossard,2) -> #N/A | C85: =VLOOKUP(E85,Dossard,3) -> #N/A | D85: =VLOOKUP(E85,Dossard,5) -> #N/A | G85: =IF(F85="","",IF(F85>=F84,IF(H85=E85,F85/VLOOKUP(E85,Dossard,6),"nc"),"erreur tps")) | H85: =IF(E85="","",IF(AND(E85<=dernier,E85>=premier),IF((COUNTIF(C:E,E85))>1,"déjà saisi",(IF(VLOOKUP(E85,edition,7)=1,E85,"Erreur Course"))),"inconnu"))
A86: =IF(OR(H86="inconnu",H86="déjà saisi",IF(F86="","FAUX",F86=F85)),A85,A85+1) -> 83 | B86: =VLOOKUP(E86,Dossard,2) -> #N/A | C86: =VLOOKUP(E86,Dossard,3) -> #N/A | D86: =VLOOKUP(E86,Dossard,5) -> #N/A | G86: =IF(F86="","",IF(F86>=F85,IF(H86=E86,F86/VLOOKUP(E86,Dossard,6),"nc"),"erreur tps")) | H86: =IF(E86="","",IF(AND(E86<=dernier,E86>=premier),IF((COUNTIF(C:E,E86))>1,"déjà saisi",(IF(VLOOKUP(E86,edition,7)=1,E86,"Erreur Course"))),"inconnu"))
A87: =IF(OR(H87="inconnu",H87="déjà saisi",IF(F87="","FAUX",F87=F86)),A86,A86+1) -> 84 | B87: =VLOOKUP(E87,Dossard,2) -> #N/A | C87: =VLOOKUP(E87,Dossard,3) -> #N/A | D87: =VLOOKUP(E87,Dossard,5) -> #N/A | G87: =IF(F87="","",IF(F87>=F86,IF(H87=E87,F87/VLOOKUP(E87,Dossard,6),"nc"),"erreur tps")) | H87: =IF(E87="","",IF(AND(E87<=dernier,E87>=premier),IF((COUNTIF(C:E,E87))>1,"déjà saisi",(IF(VLOOKUP(E87,edition,7)=1,E87,"Erreur Course"))),"inconnu"))
A88: =IF(OR(H88="inconnu",H88="déjà saisi",IF(F88="","FAUX",F88=F87)),A87,A87+1) -> 85 | B88: =VLOOKUP(E88,Dossard,2) -> #N/A | C88: =VLOOKUP(E88,Dossard,3) -> #N/A | D88: =VLOOKUP(E88,Dossard,5) -> #N/A | G88: =IF(F88="","",IF(F88>=F87,IF(H88=E88,F88/VLOOKUP(E88,Dossard,6),"nc"),"erreur tps")) | H88: =IF(E88="","",IF(AND(E88<=dernier,E88>=premier),IF((COUNTIF(C:E,E88))>1,"déjà saisi",(IF(VLOOKUP(E88,edition,7)=1,E88,"Erreur Course"))),"inconnu"))
A89: =IF(OR(H89="inconnu",H89="déjà saisi",IF(F89="","FAUX",F89=F88)),A88,A88+1) -> 86 | B89: =VLOOKUP(E89,Dossard,2) -> #N/A | C89: =VLOOKUP(E89,Dossard,3) -> #N/A | D89: =VLOOKUP(E89,Dossard,5) -> #N/A | G89: =IF(F89="","",IF(F89>=F88,IF(H89=E89,F89/VLOOKUP(E89,Dossard,6),"nc"),"erreur tps")) | H89: =IF(E89="","",IF(AND(E89<=dernier,E89>=premier),IF((COUNTIF(C:E,E89))>1,"déjà saisi",(IF(VLOOKUP(E89,edition,7)=1,E89,"Erreur Course"))),"inconnu"))
A90: =IF(OR(H90="inconnu",H90="déjà saisi",IF(F90="","FAUX",F90=F89)),A89,A89+1) -> 87 | B90: =VLOOKUP(E90,Dossard,2) -> #N/A | C90: =VLOOKUP(E90,Dossard,3) -> #N/A | D90: =VLOOKUP(E90,Dossard,5) -> #N/A | G90: =IF(F90="","",IF(F90>=F89,IF(H90=E90,F90/VLOOKUP(E90,Dossard,6),"nc"),"erreur tps")) | H90: =IF(E90="","",IF(AND(E90<=dernier,E90>=premier),IF((COUNTIF(C:E,E90))>1,"déjà saisi",(IF(VLOOKUP(E90,edition,7)=1,E90,"Erreur Course"))),"inconnu"))
... A104: =IF(OR(H104="inconnu",H104="déjà saisi",IF(F104="","FAUX",F104=F103)),A103,A103+1) -> 101 | B104: =VLOOKUP(E104,Dossard,2) -> #N/A | C104: =VLOOKUP(E104,Dossard,3) -> #N/A | D104: =VLOOKUP(E104,Dossard,5) -> #N/A | G104: =IF(F104="","",IF(F104>=F103,IF(H104=E104,F104/VLOOKUP(E104,Dossard,6),"nc"),"erreur tps")) | H104: =IF(E104="","",IF(AND(E104<=dernier,E104>=premier),IF((COUNTIF(C:E,E104))>1,"déjà saisi",(IF(VLOOKUP(E104,edition,7)=1,E104,"Erreur Course"))),"inconnu"))

Sheet c2
A1: P | C1: Classement des garçons de 6ème | G1: 1300 m
A3: Arrivée | B3: Nom | C3: Prénom | D3: Classe | E3: Dossard | F3: Temps | G3: Temps moyen | H3: Erreur
A4: 1 | B4: =VLOOKUP(E4,Dossard,2) -> ROLIN | C4: =VLOOKUP(E4,Dossard,3) -> Mylann | D4: =VLOOKUP(E4,Dossard,5) -> 6 A | E4: 18 | F4: 0.003287037 | G4: =IF(F5="","",IF(F5>=F4,IF(H5=E5,F5/VLOOKUP(E5,Dossard,6),"nc"),"erreur tps")) -> 0.0033333333 | H4: =IF(E4="","",IF(OR(E4>dernier,E4<premier),"inconnu",IF(VLOOKUP(E4,edition,7)=2,E4,"Erreur Course"))) -> 18
A5: =IF(OR(H5="inconnu",H5="déjà saisi",IF(F5="","FAUX",F5=F4)),A4,A4+1) -> 2 | B5: =VLOOKUP(E5,Dossard,2) -> DOS SANTOS | C5: =VLOOKUP(E5,Dossard,3) -> Morgan | D5: =VLOOKUP(E5,Dossard,5) -> CM2 - REVILLON | E5: 454 | F5: 0.0033333333 | G5: =IF(F5="","",IF(F5>=F4,IF(H5=E5,F5/VLOOKUP(E5,Dossard,6),"nc"),"erreur tps")) -> 0.0033333333 | H5: =IF(E5="","",IF(AND(E5<=dernier,E5>=premier),IF((COUNTIF(C:E,E5))>1,"déjà saisi",(IF(VLOOKUP(E5,edition,7)=2,E5,"Erreur Course"))),"inconnu")) -> 454
A6: =IF(OR(H6="inconnu",H6="déjà saisi",IF(F6="","FAUX",F6=F5)),A5,A5+1) -> 3 | B6: =VLOOKUP(E6,Dossard,2) -> THIERY | C6: =VLOOKUP(E6,Dossard,3) -> Malone | D6: =VLOOKUP(E6,Dossard,5) -> 6 C | E6: 68 | F6: 0.0035069444 | G6: =IF(F6="","",IF(F6>=F5,IF(H6=E6,F6/VLOOKUP(E6,Dossard,6),"nc"),"erreur tps")) -> 0.0035069444 | H6: =IF(E6="","",IF(AND(E6<=dernier,E6>=premier),IF((COUNTIF(C:E,E6))>1,"déjà saisi",(IF(VLOOKUP(E6,edition,7)=2,E6,"Erreur Course"))),"inconnu")) -> 68
A7: =IF(OR(H7="inconnu",H7="déjà saisi",IF(F7="","FAUX",F7=F6)),A6,A6+1) -> 4 | B7: =VLOOKUP(E7,Dossard,2) -> OUSMANE | C7: =VLOOKUP(E7,Dossard,3) -> Nahim | D7: =VLOOKUP(E7,Dossard,5) -> 6 C | E7: 63 | F7: 0.0035648148 | G7: =IF(F7="","",IF(F7>=F6,IF(H7=E7,F7/VLOOKUP(E7,Dossard,6),"nc"),"erreur tps")) -> 0.0035648148 | H7: =IF(E7="","",IF(AND(E7<=dernier,E7>=premier),IF((COUNTIF(C:E,E7))>1,"déjà saisi",(IF(VLOOKUP(E7,edition,7)=2,E7,"Erreur Course"))),"inconnu")) -> 63
A8: =IF(OR(H8="inconnu",H8="déjà saisi",IF(F8="","FAUX",F8=F7)),A7,A7+1) -> 5 | B8: =VLOOKUP(E8,Dossard,2) -> GALLAIRE | C8: =VLOOKUP(E8,Dossard,3) -> Martin | D8: =VLOOKUP(E8,Dossard,5) -> CM1 - ST-AME | E8: 434 | F8: 0.0036111111 | G8: =IF(F8="","",IF(F8>=F7,IF(H8=E8,F8/VLOOKUP(E8,Dossard,6),"nc"),"erreur tps")) -> 0.0036111111 | H8: =IF(E8="","",IF(AND(E8<=dernier,E8>=premier),IF((COUNTIF(C:E,E8))>1,"déjà saisi",(IF(VLOOKUP(E8,edition,7)=2,E8,"Erreur Course"))),"inconnu")) -> 434
A9: =IF(OR(H9="inconnu",H9="déjà saisi",IF(F9="","FAUX",F9=F8)),A8,A8+1) -> 6 | B9: =VLOOKUP(E9,Dossard,2) -> PUGET | C9: =VLOOKUP(E9,Dossard,3) -> Romain | D9: =VLOOKUP(E9,Dossard,5) -> 6 C | E9: 65 | F9: 0.0036458333 | G9: =IF(F9="","",IF(F9>=F8,IF(H9=E9,F9/VLOOKUP(E9,Dossard,6),"nc"),"erreur tps")) -> 0.0036458333 | H9: =IF(E9="","",IF(AND(E9<=dernier,E9>=premier),IF((COUNTIF(C:E,E9))>1,"déjà saisi",(IF(VLOOKUP(E9,edition,7)=2,E9,"Erreur Course"))),"inconnu")) -> 65
A10: =IF(OR(H10="inconnu",H10="déjà saisi",IF(F10="","FAUX",F10=F9)),A9,A9+1) -> 7 | B10: =VLOOKUP(E10,Dossard,2) -> CHEVRIER | C10: =VLOOKUP(E10,Dossard,3) -> Mathias | D10: =VLOOKUP(E10,Dossard,5) -> 6 A | E10: 4 | F10: 0.0037268519 | G10: =IF(F10="","",IF(F10>=F9,IF(H10=E10,F10/VLOOKUP(E10,Dossard,6),"nc"),"erreur tps")) -> 0.0037268519 | H10: =IF(E10="","",IF(AND(E10<=dernier,E10>=premier),IF((COUNTIF(C:E,E10))>1,"déjà saisi",(IF(VLOOKUP(E10,edition,7)=2,E10,"Erreur Course"))),"inconnu")) -> 4
A11: =IF(OR(H11="inconnu",H11="déjà saisi",IF(F11="","FAUX",F11=F10)),A10,A10+1) -> 8 | B11: =VLOOKUP(E11,Dossard,2) -> CELERIER | C11: =VLOOKUP(E11,Dossard,3) -> Joseph | D11: =VLOOKUP(E11,Dossard,5) -> 6 B | E11: 27 | F11: 0.0037731481 | G11: =IF(F11="","",IF(F11>=F10,IF(H11=E11,F11/VLOOKUP(E11,Dossard,6),"nc"),"erreur tps")) -> 0.0037731481 | H11: =IF(E11="","",IF(AND(E11<=dernier,E11>=premier),IF((COUNTIF(C:E,E11))>1,"déjà saisi",(IF(VLOOKUP(E11,edition,7)=2,E11,"Erreur Course"))),"inconnu")) -> 27
A12: =IF(OR(H12="inconnu",H12="déjà saisi",IF(F12="","FAUX",F12=F11)),A11,A11+1) -> 9 | B12: =VLOOKUP(E12,Dossard,2) -> HOCQUARD | C12: =VLOOKUP(E12,Dossard,3) -> Emile | D12: =VLOOKUP(E12,Dossard,5) -> 6 C | E12: 55 | F12: 0.0038657407 | G12: =IF(F12="","",IF(F12>=F11,IF(H12=E12,F12/VLOOKUP(E12,Dossard,6),"nc"),"erreur tps")) -> 0.0038657407 | H12: =IF(E12="","",IF(AND(E12<=dernier,E12>=premier),IF((COUNTIF(C:E,E12))>1,"déjà saisi",(IF(VLOOKUP(E12,edition,7)=2,E12,"Erreur Course"))),"inconnu")) -> 55
A13: =IF(OR(H13="inconnu",H13="déjà saisi",IF(F13="","FAUX",F13=F12)),A12,A12+1) -> 10 | B13: =VLOOKUP(E13,Dossard,2) -> RATEAU | C13: =VLOOKUP(E13,Dossard,3) -> Axel | D13: =VLOOKUP(E13,Dossard,5) -> 6 B | E13: 42 | F13: 0.0039467593 | G13: =IF(F13="","",IF(F13>=F12,IF(H13=E13,F13/VLOOKUP(E13,Dossard,6),"nc"),"erreur tps")) -> 0.0039467593 | H13: =IF(E13="","",IF(AND(E13<=dernier,E13>=premier),IF((COUNTIF(C:E,E13))>1,"déjà saisi",(IF(VLOOKUP(E13,edition,7)=2,E13,"Erreur Course"))),"inconnu")) -> 42
A14: =IF(OR(H14="inconnu",H14="déjà saisi",IF(F14="","FAUX",F14=F13)),A13,A13+1) -> 11 | B14: =VLOOKUP(E14,Dossard,2) -> LELU | C14: =VLOOKUP(E14,Dossard,3) -> Arthur | D14: =VLOOKUP(E14,Dossard,5) -> CM1 - ST-AME | E14: 438 | F14: 0.0040046296 | G14: =IF(F14="","",IF(F14>=F13,IF(H14=E14,F14/VLOOKUP(E14,Dossard,6),"nc"),"erreur tps")) -> 0.0040046296 | H14: =IF(E14="","",IF(AND(E14<=dernier,E14>=premier),IF((COUNTIF(C:E,E14))>1,"déjà saisi",(IF(VLOOKUP(E14,edition,7)=2,E14,"Erreur Course"))),"inconnu")) -> 438
A15: =IF(OR(H15="inconnu",H15="déjà saisi",IF(F15="","FAUX",F15=F14)),A14,A14+1) -> 12 | B15: =VLOOKUP(E15,Dossard,2) -> CLAUMAN NARDIN | C15: =VLOOKUP(E15,Dossard,3) -> Nuno | D15: =VLOOKUP(E15,Dossard,5) -> 6 B | E15: 28 | F15: 0.0040509259 | G15: =IF(F15="","",IF(F15>=F14,IF(H15=E15,F15/VLOOKUP(E15,Dossard,6),"nc"),"erreur tps")) -> 0.0040509259 | H15: =IF(E15="","",IF(AND(E15<=dernier,E15>=premier),IF((COUNTIF(C:E,E15))>1,"déjà saisi",(IF(VLOOKUP(E15,edition,7)=2,E15,"Erreur Course"))),"inconnu")) -> 28
A16: =IF(OR(H16="inconnu",H16="déjà saisi",IF(F16="","FAUX",F16=F15)),A15,A15+1) -> 13 | B16: =VLOOKUP(E16,Dossard,2) -> ESSABBANE | C16: =VLOOKUP(E16,Dossard,3) -> Anass | D16: =VLOOKUP(E16,Dossard,5) -> 6 C | E16: 53 | F16: 0.0041087963 | G16: =IF(F16="","",IF(F16>=F15,IF(H16=E16,F16/VLOOKUP(E16,Dossard,6),"nc"),"erreur tps")) -> 0.0041087963 | H16: =IF(E16="","",IF(AND(E16<=dernier,E16>=premier),IF((COUNTIF(C:E,E16))>1,"déjà saisi",(IF(VLOOKUP(E16,edition,7)=2,E16,"Erreur Course"))),"inconnu")) -> 53
... A74: =IF(OR(H74="inconnu",H74="déjà saisi",IF(F74="","FAUX",F74=F73)),A73,A73+1) -> 71 | B74: =VLOOKUP(E74,Dossard,2) -> OUANNOUGHI | C74: =VLOOKUP(E74,Dossard,3) -> Camil | D74: =VLOOKUP(E74,Dossard,5) -> CM2 - REVILLON | E74: 460 | F74: 0.0067013889 | G74: =IF(F74="","",IF(F74>=F73,IF(H74=E74,F74/VLOOKUP(E74,Dossard,6),"nc"),"erreur tps")) -> 0.0067013889 | H74: =IF(E74="","",IF(AND(E74<=dernier,E74>=premier),IF((COUNTIF(C:E,E74))>1,"déjà saisi",(IF(VLOOKUP(E74,edition,7)=2,E74,"Erreur Course"))),"inconnu")) -> 460
A75: =IF(OR(H75="inconnu",H75="déjà saisi",IF(F75="","FAUX",F75=F74)),A74,A74+1) -> 72 | B75: =VLOOKUP(E75,Dossard,2) -> #N/A | C75: =VLOOKUP(E75,Dossard,3) -> #N/A | D75: =VLOOKUP(E75,Dossard,5) -> #N/A | G75: =IF(F75="","",IF(F75>=F74,IF(H75=E75,F75/VLOOKUP(E75,Dossard,6),"nc"),"erreur tps")) | H75: =IF(E75="","",IF(AND(E75<=dernier,E75>=premier),IF((COUNTIF(C:E,E75))>1,"déjà saisi",(IF(VLOOKUP(E75,edition,7)=2,E75,"Erreur Course"))),"inconnu"))
A76: =IF(OR(H76="inconnu",H76="déjà saisi",IF(F76="","FAUX",F76=F75)),A75,A75+1) -> 73 | B76: =VLOOKUP(E76,Dossard,2) -> #N/A | C76: =VLOOKUP(E76,Dossard,3) -> #N/A | D76: =VLOOKUP(E76,Dossard,5) -> #N/A | G76: =IF(F76="","",IF(F76>=F75,IF(H76=E76,F76/VLOOKUP(E76,Dossard,6),"nc"),"erreur tps")) | H76: =IF(E76="","",IF(AND(E76<=dernier,E76>=premier),IF((COUNTIF(C:E,E76))>1,"déjà saisi",(IF(VLOOKUP(E76,edition,7)=2,E76,"Erreur Course"))),"inconnu"))
A77: =IF(OR(H77="inconnu",H77="déjà saisi",IF(F77="","FAUX",F77=F76)),A76,A76+1) -> 74 | B77: =VLOOKUP(E77,Dossard,2) -> #N/A | C77: =VLOOKUP(E77,Dossard,3) -> #N/A | D77: =VLOOKUP(E77,Dossard,5) -> #N/A | G77: =IF(F77="","",IF(F77>=F76,IF(H77=E77,F77/VLOOKUP(E77,Dossard,6),"nc"),"erreur tps")) | H77: =IF(E77="","",IF(AND(E77<=dernier,E77>=premier),IF((COUNTIF(C:E,E77))>1,"déjà saisi",(IF(VLOOKUP(E77,edition,7)=2,E77,"Erreur Course"))),"inconnu"))
A78: =IF(OR(H78="inconnu",H78="déjà saisi",IF(F78="","FAUX",F78=F77)),A77,A77+1) -> 75 | B78: =VLOOKUP(E78,Dossard,2) -> #N/A | C78: =VLOOKUP(E78,Dossard,3) -> #N/A | D78: =VLOOKUP(E78,Dossard,5) -> #N/A | G78: =IF(F78="","",IF(F78>=F77,IF(H78=E78,F78/VLOOKUP(E78,Dossard,6),"nc"),"erreur tps")) | H78: =IF(E78="","",IF(AND(E78<=dernier,E78>=premier),IF((COUNTIF(C:E,E78))>1,"déjà saisi",(IF(VLOOKUP(E78,edition,7)=2,E78,"Erreur Course"))),"inconnu"))
A79: =IF(OR(H79="inconnu",H79="déjà saisi",IF(F79="","FAUX",F79=F78)),A78,A78+1) -> 76 | B79: =VLOOKUP(E79,Dossard,2) -> #N/A | C79: =VLOOKUP(E79,Dossard,3) -> #N/A | D79: =VLOOKUP(E79,Dossard,5) -> #N/A | G79: =IF(F79="","",IF(F79>=F78,IF(H79=E79,F79/VLOOKUP(E79,Dossard,6),"nc"),"erreur tps")) | H79: =IF(E79="","",IF(AND(E79<=dernier,E79>=premier),IF((COUNTIF(C:E,E79))>1,"déjà saisi",(IF(VLOOKUP(E79,edition,7)=2,E79,"Erreur Course"))),"inconnu"))
A80: =IF(OR(H80="inconnu",H80="déjà saisi",IF(F80="","FAUX",F80=F79)),A79,A79+1) -> 77 | B80: =VLOOKUP(E80,Dossard,2) -> #N/A | C80: =VLOOKUP(E80,Dossard,3) -> #N/A | D80: =VLOOKUP(E80,Dossard,5) -> #N/A | G80: =IF(F80="","",IF(F80>=F79,IF(H80=E80,F80/VLOOKUP(E80,Dossard,6),"nc"),"erreur tps")) | H80: =IF(E80="","",IF(AND(E80<=dernier,E80>=premier),IF((COUNTIF(C:E,E80))>1,"déjà saisi",(IF(VLOOKUP(E80,edition,7)=2,E80,"Erreur Course"))),"inconnu"))
A81: =IF(OR(H81="inconnu",H81="déjà saisi",IF(F81="","FAUX",F81=F80)),A80,A80+1) -> 78 | B81: =VLOOKUP(E81,Dossard,2) -> #N/A | C81: =VLOOKUP(E81,Dossard,3) -> #N/A | D81: =VLOOKUP(E81,Dossard,5) -> #N/A | G81: =IF(F81="","",IF(F81>=F80,IF(H81=E81,F81/VLOOKUP(E81,Dossard,6),"nc"),"erreur tps")) | H81: =IF(E81="","",IF(AND(E81<=dernier,E81>=premier),IF((COUNTIF(C:E,E81))>1,"déjà saisi",(IF(VLOOKUP(E81,edition,7)=2,E81,"Erreur Course"))),"inconnu"))
A82: =IF(OR(H82="inconnu",H82="déjà saisi",IF(F82="","FAUX",F82=F81)),A81,A81+1) -> 79 | B82: =VLOOKUP(E82,Dossard,2) -> #N/A | C82: =VLOOKUP(E82,Dossard,3) -> #N/A | D82: =VLOOKUP(E82,Dossard,5) -> #N/A | G82: =IF(F82="","",IF(F82>=F81,IF(H82=E82,F82/VLOOKUP(E82,Dossard,6),"nc"),"erreur tps")) | H82: =IF(E82="","",IF(AND(E82<=dernier,E82>=premier),IF((COUNTIF(C:E,E82))>1,"déjà saisi",(IF(VLOOKUP(E82,edition,7)=2,E82,"Erreur Course"))),"inconnu"))
A83: =IF(OR(H83="inconnu",H83="déjà saisi",IF(F83="","FAUX",F83=F82)),A82,A82+1) -> 80 | B83: =VLOOKUP(E83,Dossard,2) -> #N/A | C83: =VLOOKUP(E83,Dossard,3) -> #N/A | D83: =VLOOKUP(E83,Dossard,5) -> #N/A | G83: =IF(F83="","",IF(F83>=F82,IF(H83=E83,F83/VLOOKUP(E83,Dossard,6),"nc"),"erreur tps")) | H83: =IF(E83="","",IF(AND(E83<=dernier,E83>=premier),IF((COUNTIF(C:E,E83))>1,"déjà saisi",(IF(VLOOKUP(E83,edition,7)=2,E83,"Erreur Course"))),"inconnu"))
A84: =IF(OR(H84="inconnu",H84="déjà saisi",IF(F84="","FAUX",F84=F83)),A83,A83+1) -> 81 | B84: =VLOOKUP(E84,Dossard,2) -> #N/A | C84: =VLOOKUP(E84,Dossard,3) -> #N/A | D84: =VLOOKUP(E84,Dossard,5) -> #N/A | G84: =IF(F84="","",IF(F84>=F83,IF(H84=E84,F84/VLOOKUP(E84,Dossard,6),"nc"),"erreur tps")) | H84: =IF(E84="","",IF(AND(E84<=dernier,E84>=premier),IF((COUNTIF(C:E,E84))>1,"déjà saisi",(IF(VLOOKUP(E84,edition,7)=2,E84,"Erreur Course"))),"inconnu"))
A85: =IF(OR(H85="inconnu",H85="déjà saisi",IF(F85="","FAUX",F85=F84)),A84,A84+1) -> 82 | B85: =VLOOKUP(E85,Dossard,2) -> #N/A | C85: =VLOOKUP(E85,Dossard,3) -> #N/A | D85: =VLOOKUP(E85,Dossard,5) -> #N/A | G85: =IF(F85="","",IF(F85>=F84,IF(H85=E85,F85/VLOOKUP(E85,Dossard,6),"nc"),"erreur tps")) | H85: =IF(E85="","",IF(AND(E85<=dernier,E85>=premier),IF((COUNTIF(C:E,E85))>1,"déjà saisi",(IF(VLOOKUP(E85,edition,7)=2,E85,"Erreur Course"))),"inconnu"))
A86: =IF(OR(H86="inconnu",H86="déjà saisi",IF(F86="","FAUX",F86=F85)),A85,A85+1) -> 83 | B86: =VLOOKUP(E86,Dossard,2) -> #N/A | C86: =VLOOKUP(E86,Dossard,3) -> #N/A | D86: =VLOOKUP(E86,Dossard,5) -> #N/A | G86: =IF(F86="","",IF(F86>=F85,IF(H86=E86,F86/VLOOKUP(E86,Dossard,6),"nc"),"erreur tps")) | H86: =IF(E86="","",IF(AND(E86<=dernier,E86>=premier),IF((COUNTIF(C:E,E86))>1,"déjà saisi",(IF(VLOOKUP(E86,edition,7)=2,E86,"Erreur Course"))),"inconnu"))
... A104: =IF(OR(H104="inconnu",H104="déjà saisi",IF(F104="","FAUX",F104=F103)),A103,A103+1) -> 101 | B104: =VLOOKUP(E104,Dossard,2) -> #N/A | C104: =VLOOKUP(E104,Dossard,3) -> #N/A | D104: =VLOOKUP(E104,Dossard,5) -> #N/A | G104: =IF(F104="","",IF(F104>=F103,IF(H104=E104,F104/VLOOKUP(E104,Dossard,6),"nc"),"erreur tps")) | H104: =IF(E104="","",IF(AND(E104<=dernier,E104>=premier),IF((COUNTIF(C:E,E104))>1,"déjà saisi",(IF(VLOOKUP(E104,edition,7)=2,E104,"Erreur Course"))),"inconnu"))

Sheet c3
A1: 3 | C1: Classement des filles de 5ème | G1: 1300 m
A3: Arrivée | B3: Nom | C3: Prénom | D3: Classe | E3: Dossard | F3: Temps | G3: Temps moyen | H3: Erreur
A4: 1 | B4: =VLOOKUP(E4,Dossard,2) -> FONDERFLICK | C4: =VLOOKUP(E4,Dossard,3) -> Louise | D4: =VLOOKUP(E4,Dossard,5) -> 5 A | E4: 96 | F4: 0.0037384259 | G4: =IF(F4="","",F4/VLOOKUP(E4,Dossard,6)) -> 0.0037384259 | H4: =IF(E4="","",IF(OR(E4>dernier,E4<premier),"inconnu",IF(VLOOKUP(E4,edition,7)=3,E4,"Erreur Course"))) -> 96
A5: =IF(OR(H5="inconnu",H5="déjà saisi",IF(F5="","FAUX",F5=F4)),A4,A4+1) -> 2 | B5: =VLOOKUP(E5,Dossard,2) -> FEIVET | C5: =VLOOKUP(E5,Dossard,3) -> Candice | D5: =VLOOKUP(E5,Dossard,5) -> 5 D | E5: 170 | F5: 0.0037615741 | G5: =IF(F5="","",F5/VLOOKUP(E5,Dossard,6)) -> 0.0037615741 | H5: =IF(E5="","",IF(OR(E5>dernier,E5<premier),"inconnu",IF(VLOOKUP(E5,edition,7)=3,E5,"Erreur Course"))) -> 170
A6: =IF(OR(H6="inconnu",H6="déjà saisi",IF(F6="","FAUX",F6=F5)),A5,A5+1) -> 3 | B6: =VLOOKUP(E6,Dossard,2) -> HADJAHMED | C6: =VLOOKUP(E6,Dossard,3) -> Sawsen | D6: =VLOOKUP(E6,Dossard,5) -> 5 B | E6: 126 | F6: 0.0037847222 | G6: =IF(F6="","",F6/VLOOKUP(E6,Dossard,6)) -> 0.0037847222 | H6: =IF(E6="","",IF(OR(E6>dernier,E6<premier),"inconnu",IF(VLOOKUP(E6,edition,7)=3,E6,"Erreur Course"))) -> 126
A7: =IF(OR(H7="inconnu",H7="déjà saisi",IF(F7="","FAUX",F7=F6)),A6,A6+1) -> 4 | B7: =VLOOKUP(E7,Dossard,2) -> DIDIER | C7: =VLOOKUP(E7,Dossard,3) -> Olive | D7: =VLOOKUP(E7,Dossard,5) -> 5 B | E7: 123 | F7: 0.0038310185 | G7: =IF(F7="","",F7/VLOOKUP(E7,Dossard,6)) -> 0.0038310185 | H7: =IF(E7="","",IF(OR(E7>dernier,E7<premier),"inconnu",IF(VLOOKUP(E7,edition,7)=3,E7,"Erreur Course"))) -> 123
A8: =IF(OR(H8="inconnu",H8="déjà saisi",IF(F8="","FAUX",F8=F7)),A7,A7+1) -> 5 | B8: =VLOOKUP(E8,Dossard,2) -> LOUP | C8: =VLOOKUP(E8,Dossard,3) -> Maxine | D8: =VLOOKUP(E8,Dossard,5) -> 5 C | E8: 149 | F8: 0.0038425926 | G8: =IF(F8="","",F8/VLOOKUP(E8,Dossard,6)) -> 0.0038425926 | H8: =IF(E8="","",IF(OR(E8>dernier,E8<premier),"inconnu",IF(VLOOKUP(E8,edition,7)=3,E8,"Erreur Course"))) -> 149
A9: =IF(OR(H9="inconnu",H9="déjà saisi",IF(F9="","FAUX",F9=F8)),A8,A8+1) -> 6 | B9: =VLOOKUP(E9,Dossard,2) -> BONTEMS | C9: =VLOOKUP(E9,Dossard,3) -> Lucile | D9: =VLOOKUP(E9,Dossard,5) -> 5 B | E9: 116 | F9: 0.003912037 | G9: =IF(F9="","",F9/VLOOKUP(E9,Dossard,6)) -> 0.003912037 | H9: =IF(E9="","",IF(OR(E9>dernier,E9<premier),"inconnu",IF(VLOOKUP(E9,edition,7)=3,E9,"Erreur Course"))) -> 116
A10: =IF(OR(H10="inconnu",H10="déjà saisi",IF(F10="","FAUX",F10=F9)),A9,A9+1) -> 7 | B10: =VLOOKUP(E10,Dossard,2) -> BAUER | C10: =VLOOKUP(E10,Dossard,3) -> Anna | D10: =VLOOKUP(E10,Dossard,5) -> 5 A | E10: 91 | F10: 0.0040393519 | G10: =IF(F10="","",F10/VLOOKUP(E10,Dossard,6)) -> 0.0040393519 | H10: =IF(E10="","",IF(OR(E10>dernier,E10<premier),"inconnu",IF(VLOOKUP(E10,edition,7)=3,E10,"Erreur Course"))) -> 91
A11: =IF(OR(H11="inconnu",H11="déjà saisi",IF(F11="","FAUX",F11=F10)),A10,A10+1) -> 8 | B11: =VLOOKUP(E11,Dossard,2) -> CHARQANE | C11: =VLOOKUP(E11,Dossard,3) -> Basma | D11: =VLOOKUP(E11,Dossard,5) -> 5 D | E11: 166 | F11: 0.004224537 | G11: =IF(F11="","",F11/VLOOKUP(E11,Dossard,6)) -> 0.004224537 | H11: =IF(E11="","",IF(OR(E11>dernier,E11<premier),"inconnu",IF(VLOOKUP(E11,edition,7)=3,E11,"Erreur Course"))) -> 166
A12: =IF(OR(H12="inconnu",H12="déjà saisi",IF(F12="","FAUX",F12=F11)),A11,A11+1) -> 9 | B12: =VLOOKUP(E12,Dossard,2) -> VOIRIN | C12: =VLOOKUP(E12,Dossard,3) -> Emeline | D12: =VLOOKUP(E12,Dossard,5) -> 5 C | E12: 159 | F12: 0.0043055556 | G12: =IF(F12="","",F12/VLOOKUP(E12,Dossard,6)) -> 0.0043055556 | H12: =IF(E12="","",IF(OR(E12>dernier,E12<premier),"inconnu",IF(VLOOKUP(E12,edition,7)=3,E12,"Erreur Course"))) -> 159
A13: =IF(OR(H13="inconnu",H13="déjà saisi",IF(F13="","FAUX",F13=F12)),A12,A12+1) -> 10 | B13: =VLOOKUP(E13,Dossard,2) -> NOMINE | C13: =VLOOKUP(E13,Dossard,3) -> Marie | D13: =VLOOKUP(E13,Dossard,5) -> 5 E | E13: 198 | F13: 0.0043518519 | G13: =IF(F13="","",F13/VLOOKUP(E13,Dossard,6)) -> 0.0043518519 | H13: =IF(E13="","",IF(OR(E13>dernier,E13<premier),"inconnu",IF(VLOOKUP(E13,edition,7)=3,E13,"Erreur Course"))) -> 198
A14: =IF(OR(H14="inconnu",H14="déjà saisi",IF(F14="","FAUX",F14=F13)),A13,A13+1) -> 11 | B14: =VLOOKUP(E14,Dossard,2) -> NURDIN | C14: =VLOOKUP(E14,Dossard,3) -> Clémence | D14: =VLOOKUP(E14,Dossard,5) -> 5 C | E14: 151 | F14: 0.0043865741 | G14: =IF(F14="","",F14/VLOOKUP(E14,Dossard,6)) -> 0.0043865741 | H14: =IF(E14="","",IF(OR(E14>dernier,E14<premier),"inconnu",IF(VLOOKUP(E14,edition,7)=3,E14,"Erreur Course"))) -> 151
A15: =IF(OR(H15="inconnu",H15="déjà saisi",IF(F15="","FAUX",F15=F14)),A14,A14+1) -> 12 | B15: =VLOOKUP(E15,Dossard,2) -> GRAFF | C15: =VLOOKUP(E15,Dossard,3) -> Camille | D15: =VLOOKUP(E15,Dossard,5) -> 5 A | E15: 99 | F15: 0.0044675926 | G15: =IF(F15="","",F15/VLOOKUP(E15,Dossard,6)) -> 0.0044675926 | H15: =IF(E15="","",IF(OR(E15>dernier,E15<premier),"inconnu",IF(VLOOKUP(E15,edition,7)=3,E15,"Erreur Course"))) -> 99
A16: =IF(OR(H16="inconnu",H16="déjà saisi",IF(F16="","FAUX",F16=F15)),A15,A15+1) -> 13 | B16: =VLOOKUP(E16,Dossard,2) -> AGIRANEZA | C16: =VLOOKUP(E16,Dossard,3) -> Joy Life | D16: =VLOOKUP(E16,Dossard,5) -> 5 C | E16: 136 | F16: 0.0045023148 | G16: =IF(F16="","",F16/VLOOKUP(E16,Dossard,6)) -> 0.0045023148 | H16: =IF(E16="","",IF(OR(E16>dernier,E16<premier),"inconnu",IF(VLOOKUP(E16,edition,7)=3,E16,"Erreur Course"))) -> 136
... A45: =IF(OR(H45="inconnu",H45="déjà saisi",IF(F45="","FAUX",F45=F44)),A44,A44+1) -> 42 | B45: =VLOOKUP(E45,Dossard,2) -> CANAL | C45: =VLOOKUP(E45,Dossard,3) -> Léa | D45: =VLOOKUP(E45,Dossard,5) -> 5 A | E45: 487 | F45: 0.0069444444 | G45: =IF(F45="","",F45/VLOOKUP(E45,Dossard,6)) -> 0.0069444444 | H45: =IF(E45="","",IF(OR(E45>dernier,E45<premier),"inconnu",IF(VLOOKUP(E45,edition,7)=3,E45,"Erreur Course"))) -> 487
A46: =IF(OR(H46="inconnu",H46="déjà saisi",IF(F46="","FAUX",F46=F45)),A45,A45+1) -> 43 | B46: =VLOOKUP(E46,Dossard,2) -> #N/A | C46: =VLOOKUP(E46,Dossard,3) -> #N/A | D46: =VLOOKUP(E46,Dossard,5) -> #N/A | G46: =IF(F46="","",F46/VLOOKUP(E46,Dossard,6)) | H46: =IF(E46="","",IF(OR(E46>dernier,E46<premier),"inconnu",IF(VLOOKUP(E46,edition,7)=3,E46,"Erreur Course")))
A47: =IF(OR(H47="inconnu",H47="déjà saisi",IF(F47="","FAUX",F47=F46)),A46,A46+1) -> 44 | B47: =VLOOKUP(E47,Dossard,2) -> #N/A | C47: =VLOOKUP(E47,Dossard,3) -> #N/A | D47: =VLOOKUP(E47,Dossard,5) -> #N/A | G47: =IF(F47="","",F47/VLOOKUP(E47,Dossard,6)) | H47: =IF(E47="","",IF(OR(E47>dernier,E47<premier),"inconnu",IF(VLOOKUP(E47,edition,7)=3,E47,"Erreur Course")))
A48: =IF(OR(H48="inconnu",H48="déjà saisi",IF(F48="","FAUX",F48=F47)),A47,A47+1) -> 45 | B48: =VLOOKUP(E48,Dossard,2) -> #N/A | C48: =VLOOKUP(E48,Dossard,3) -> #N/A | D48: =VLOOKUP(E48,Dossard,5) -> #N/A | G48: =IF(F48="","",F48/VLOOKUP(E48,Dossard,6)) | H48: =IF(E48="","",IF(OR(E48>dernier,E48<premier),"inconnu",IF(VLOOKUP(E48,edition,7)=3,E48,"Erreur Course")))
A49: =IF(OR(H49="inconnu",H49="déjà saisi",IF(F49="","FAUX",F49=F48)),A48,A48+1) -> 46 | B49: =VLOOKUP(E49,Dossard,2) -> #N/A | C49: =VLOOKUP(E49,Dossard,3) -> #N/A | D49: =VLOOKUP(E49,Dossard,5) -> #N/A | G49: =IF(F49="","",F49/VLOOKUP(E49,Dossard,6)) | H49: =IF(E49="","",IF(OR(E49>dernier,E49<premier),"inconnu",IF(VLOOKUP(E49,edition,7)=3,E49,"Erreur Course")))
A50: =IF(OR(H50="inconnu",H50="déjà saisi",IF(F50="","FAUX",F50=F49)),A49,A49+1) -> 47 | B50: =VLOOKUP(E50,Dossard,2) -> #N/A | C50: =VLOOKUP(E50,Dossard,3) -> #N/A | D50: =VLOOKUP(E50,Dossard,5) -> #N/A | G50: =IF(F50="","",F50/VLOOKUP(E50,Dossard,6)) | H50: =IF(E50="","",IF(OR(E50>dernier,E50<premier),"inconnu",IF(VLOOKUP(E50,edition,7)=3,E50,"Erreur Course")))
A51: =IF(OR(H51="inconnu",H51="déjà saisi",IF(F51="","FAUX",F51=F50)),A50,A50+1) -> 48 | B51: =VLOOKUP(E51,Dossard,2) -> #N/A | C51: =VLOOKUP(E51,Dossard,3) -> #N/A | D51: =VLOOKUP(E51,Dossard,5) -> #N/A | G51: =IF(F51="","",F51/VLOOKUP(E51,Dossard,6)) | H51: =IF(E51="","",IF(OR(E51>dernier,E51<premier),"inconnu",IF(VLOOKUP(E51,edition,7)=3,E51,"Erreur Course")))
A52: =IF(OR(H52="inconnu",H52="déjà saisi",IF(F52="","FAUX",F52=F51)),A51,A51+1) -> 49 | B52: =VLOOKUP(E52,Dossard,2) -> #N/A | C52: =VLOOKUP(E52,Dossard,3) -> #N/A | D52: =VLOOKUP(E52,Dossard,5) -> #N/A | G52: =IF(F52="","",F52/VLOOKUP(E52,Dossard,6)) | H52: =IF(E52="","",IF(OR(E52>dernier,E52<premier),"inconnu",IF(VLOOKUP(E52,edition,7)=3,E52,"Erreur Course")))
A53: =IF(OR(H53="inconnu",H53="déjà saisi",IF(F53="","FAUX",F53=F52)),A52,A52+1) -> 50 | B53: =VLOOKUP(E53,Dossard,2) -> #N/A | C53: =VLOOKUP(E53,Dossard,3) -> #N/A | D53: =VLOOKUP(E53,Dossard,5) -> #N/A | G53: =IF(F53="","",F53/VLOOKUP(E53,Dossard,6)) | H53: =IF(E53="","",IF(OR(E53>dernier,E53<premier),"inconnu",IF(VLOOKUP(E53,edition,7)=3,E53,"Erreur Course")))
A54: =IF(OR(H54="inconnu",H54="déjà saisi",IF(F54="","FAUX",F54=F53)),A53,A53+1) -> 51 | B54: =VLOOKUP(E54,Dossard,2) -> #N/A | C54: =VLOOKUP(E54,Dossard,3) -> #N/A | D54: =VLOOKUP(E54,Dossard,5) -> #N/A | G54: =IF(F54="","",F54/VLOOKUP(E54,Dossard,6)) | H54: =IF(E54="","",IF(OR(E54>dernier,E54<premier),"inconnu",IF(VLOOKUP(E54,edition,7)=3,E54,"Erreur Course")))
A55: =IF(OR(H55="inconnu",H55="déjà saisi",IF(F55="","FAUX",F55=F54)),A54,A54+1) -> 52 | B55: =VLOOKUP(E55,Dossard,2) -> #N/A | C55: =VLOOKUP(E55,Dossard,3) -> #N/A | D55: =VLOOKUP(E55,Dossard,5) -> #N/A | G55: =IF(F55="","",F55/VLOOKUP(E55,Dossard,6)) | H55: =IF(E55="","",IF(OR(E55>dernier,E55<premier),"inconnu",IF(VLOOKUP(E55,edition,7)=3,E55,"Erreur Course")))
A56: =IF(OR(H56="inconnu",H56="déjà saisi",IF(F56="","FAUX",F56=F55)),A55,A55+1) -> 53 | B56: =VLOOKUP(E56,Dossard,2) -> #N/A | C56: =VLOOKUP(E56,Dossard,3) -> #N/A | D56: =VLOOKUP(E56,Dossard,5) -> #N/A | G56: =IF(F56="","",F56/VLOOKUP(E56,Dossard,6)) | H56: =IF(E56="","",IF(OR(E56>dernier,E56<premier),"inconnu",IF(VLOOKUP(E56,edition,7)=3,E56,"Erreur Course")))
A57: =IF(OR(H57="inconnu",H57="déjà saisi",IF(F57="","FAUX",F57=F56)),A56,A56+1) -> 54 | B57: =VLOOKUP(E57,Dossard,2) -> #N/A | C57: =VLOOKUP(E57,Dossard,3) -> #N/A | D57: =VLOOKUP(E57,Dossard,5) -> #N/A | G57: =IF(F57="","",F57/VLOOKUP(E57,Dossard,6)) | H57: =IF(E57="","",IF(OR(E57>dernier,E57<premier),"inconnu",IF(VLOOKUP(E57,edition,7)=3,E57,"Erreur Course")))
... A104: =IF(OR(H104="inconnu",H104="déjà saisi",IF(F104="","FAUX",F104=F103)),A103,A103+1) -> 101 | B104: =VLOOKUP(E104,Dossard,2) -> #N/A | C104: =VLOOKUP(E104,Dossard,3) -> #N/A | D104: =VLOOKUP(E104,Dossard,5) -> #N/A | G104: =IF(F104="","",F104/VLOOKUP(E104,Dossard,6)) | H104: =IF(E104="","",IF(OR(E104>dernier,E104<premier),"inconnu",IF(VLOOKUP(E104,edition,7)=3,E104,"Erreur Course")))

Sheet c4
A1: 4 | C1: Classement des garçons de 5ème | G1: 2600m
A3: Arrivée | B3: Nom | C3: Prénom | D3: Classe | E3: Dossard | F3: Temps | G3: Temps moyen | H3: Erreur
A4: 1 | B4: =VLOOKUP(E4,Dossard,2) -> DAOU | C4: =VLOOKUP(E4,Dossard,3) -> Youssef | D4: =VLOOKUP(E4,Dossard,5) -> 5 C | E4: 142 | F4: 0.0069560185 | G4: =IF(F4="","",F4/VLOOKUP(E4,Dossard,6)) -> 0.0034780093 | H4: =IF(E4="","",IF(OR(E4>dernier,E4<premier),"inconnu",IF(VLOOKUP(E4,edition,7)=4,E4,"Erreur Course"))) -> 142
A5: =IF(OR(H5="inconnu",H5="déjà saisi",IF(F5="","FAUX",F5=F4)),A4,A4+1) -> 2 | B5: =VLOOKUP(E5,Dossard,2) -> BELLINI | C5: =VLOOKUP(E5,Dossard,3) -> Mathys | D5: =VLOOKUP(E5,Dossard,5) -> 5 B | E5: 115 | F5: 0.0070833333 | G5: =IF(F5="","",F5/VLOOKUP(E5,Dossard,6)) -> 0.0035416667 | H5: =IF(E5="","",IF(OR(E5>dernier,E5<premier),"inconnu",IF(VLOOKUP(E5,edition,7)=4,E5,"Erreur Course"))) -> 115
A6: =IF(OR(H6="inconnu",H6="déjà saisi",IF(F6="","FAUX",F6=F5)),A5,A5+1) -> 3 | B6: =VLOOKUP(E6,Dossard,2) -> JEANGEORGES | C6: =VLOOKUP(E6,Dossard,3) -> Benjamin | D6: =VLOOKUP(E6,Dossard,5) -> 5 C | E6: 147 | F6: 0.0072569444 | G6: =IF(F6="","",F6/VLOOKUP(E6,Dossard,6)) -> 0.0036284722 | H6: =IF(E6="","",IF(OR(E6>dernier,E6<premier),"inconnu",IF(VLOOKUP(E6,edition,7)=4,E6,"Erreur Course"))) -> 147
A7: =IF(OR(H7="inconnu",H7="déjà saisi",IF(F7="","FAUX",F7=F6)),A6,A6+1) -> 4 | B7: =VLOOKUP(E7,Dossard,2) -> JEANGEORGES | C7: =VLOOKUP(E7,Dossard,3) -> Baptiste | D7: =VLOOKUP(E7,Dossard,5) -> 5 B | E7: 129 | F7: 0.007337963 | G7: =IF(F7="","",F7/VLOOKUP(E7,Dossard,6)) -> 0.0036689815 | H7: =IF(E7="","",IF(OR(E7>dernier,E7<premier),"inconnu",IF(VLOOKUP(E7,edition,7)=4,E7,"Erreur Course"))) -> 129
A8: =IF(OR(H8="inconnu",H8="déjà saisi",IF(F8="","FAUX",F8=F7)),A7,A7+1) -> 5 | B8: =VLOOKUP(E8,Dossard,2) -> TISSERAND | C8: =VLOOKUP(E8,Dossard,3) -> Maxence | D8: =VLOOKUP(E8,Dossard,5) -> 5 B | E8: 135 | F8: 0.0076041667 | G8: =IF(F8="","",F8/VLOOKUP(E8,Dossard,6)) -> 0.0038020833 | H8: =IF(E8="","",IF(OR(E8>dernier,E8<premier),"inconnu",IF(VLOOKUP(E8,edition,7)=4,E8,"Erreur Course"))) -> 135
A9: =IF(OR(H9="inconnu",H9="déjà saisi",IF(F9="","FAUX",F9=F8)),A8,A8+1) -> 6 | B9: =VLOOKUP(E9,Dossard,2) -> BREVILLE | C9: =VLOOKUP(E9,Dossard,3) -> Benoit | D9: =VLOOKUP(E9,Dossard,5) -> 5 B | E9: 117 | F9: 0.0077546296 | G9: =IF(F9="","",F9/VLOOKUP(E9,Dossard,6)) -> 0.0038773148 | H9: =IF(E9="","",IF(OR(E9>dernier,E9<premier),"inconnu",IF(VLOOKUP(E9,edition,7)=4,E9,"Erreur Course"))) -> 117
A10: =IF(OR(H10="inconnu",H10="déjà saisi",IF(F10="","FAUX",F10=F9)),A9,A9+1) -> 7 | B10: =VLOOKUP(E10,Dossard,2) -> ALAMI BEN LAKHDAR | C10: =VLOOKUP(E10,Dossard,3) -> Adam | D10: =VLOOKUP(E10,Dossard,5) -> 5 C | E10: 137 | F10: 0.0078009259 | G10: =IF(F10="","",F10/VLOOKUP(E10,Dossard,6)) -> 0.003900463 | H10: =IF(E10="","",IF(OR(E10>dernier,E10<premier),"inconnu",IF(VLOOKUP(E10,edition,7)=4,E10,"Erreur Course"))) -> 137
A11: =IF(OR(H11="inconnu",H11="déjà saisi",IF(F11="","FAUX",F11=F10)),A10,A10+1) -> 8 | B11: =VLOOKUP(E11,Dossard,2) -> THINET | C11: =VLOOKUP(E11,Dossard,3) -> Arthur | D11: =VLOOKUP(E11,Dossard,5) -> 5 A | E11: 110 | F11: 0.0078472222 | G11: =IF(F11="","",F11/VLOOKUP(E11,Dossard,6)) -> 0.0039236111 | H11: =IF(E11="","",IF(OR(E11>dernier,E11<premier),"inconnu",IF(VLOOKUP(E11,edition,7)=4,E11,"Erreur Course"))) -> 110
A12: =IF(OR(H12="inconnu",H12="déjà saisi",IF(F12="","FAUX",F12=F11)),A11,A11+1) -> 9 | B12: =VLOOKUP(E12,Dossard,2) -> TISSIER | C12: =VLOOKUP(E12,Dossard,3) -> David | D12: =VLOOKUP(E12,Dossard,5) -> 5 C | E12: 156 | F12: 0.0079282407 | G12: =IF(F12="","",F12/VLOOKUP(E12,Dossard,6)) -> 0.0039641204 | H12: =IF(E12="","",IF(OR(E12>dernier,E12<premier),"inconnu",IF(VLOOKUP(E12,edition,7)=4,E12,"Erreur Course"))) -> 156
A13: =IF(OR(H13="inconnu",H13="déjà saisi",IF(F13="","FAUX",F13=F12)),A12,A12+1) -> 10 | B13: =VLOOKUP(E13,Dossard,2) -> ISHIMWE CYUSA | C13: =VLOOKUP(E13,Dossard,3) -> Alvin | D13: =VLOOKUP(E13,Dossard,5) -> 5 D | E13: 172 | F13: 0.008125 | G13: =IF(F13="","",F13/VLOOKUP(E13,Dossard,6)) -> 0.0040625 | H13: =IF(E13="","",IF(OR(E13>dernier,E13<premier),"inconnu",IF(VLOOKUP(E13,edition,7)=4,E13,"Erreur Course"))) -> 172
A14: =IF(OR(H14="inconnu",H14="déjà saisi",IF(F14="","FAUX",F14=F13)),A13,A13+1) -> 11 | B14: =VLOOKUP(E14,Dossard,2) -> COLIN | C14: =VLOOKUP(E14,Dossard,3) -> Mathis | D14: =VLOOKUP(E14,Dossard,5) -> 5 B | E14: 120 | F14: 0.0081944444 | G14: =IF(F14="","",F14/VLOOKUP(E14,Dossard,6)) -> 0.0040972222 | H14: =IF(E14="","",IF(OR(E14>dernier,E14<premier),"inconnu",IF(VLOOKUP(E14,edition,7)=4,E14,"Erreur Course"))) -> 120
A15: =IF(OR(H15="inconnu",H15="déjà saisi",IF(F15="","FAUX",F15=F14)),A14,A14+1) -> 12 | B15: =VLOOKUP(E15,Dossard,2) -> CLAUDEL | C15: =VLOOKUP(E15,Dossard,3) -> Tom | D15: =VLOOKUP(E15,Dossard,5) -> 5 A | E15: 93 | F15: 0.0085532407 | G15: =IF(F15="","",F15/VLOOKUP(E15,Dossard,6)) -> 0.0042766204 | H15: =IF(E15="","",IF(OR(E15>dernier,E15<premier),"inconnu",IF(VLOOKUP(E15,edition,7)=4,E15,"Erreur Course"))) -> 93
A16: =IF(OR(H16="inconnu",H16="déjà saisi",IF(F16="","FAUX",F16=F15)),A15,A15+1) -> 13 | B16: =VLOOKUP(E16,Dossard,2) -> ABONOU | C16: =VLOOKUP(E16,Dossard,3) -> Mathis | D16: =VLOOKUP(E16,Dossard,5) -> 5 A | E16: 88 | F16: 0.008587963 | G16: =IF(F16="","",F16/VLOOKUP(E16,Dossard,6)) -> 0.0042939815 | H16: =IF(E16="","",IF(OR(E16>dernier,E16<premier),"inconnu",IF(VLOOKUP(E16,edition,7)=4,E16,"Erreur Course"))) -> 88
... A51: =IF(OR(H51="inconnu",H51="déjà saisi",IF(F51="","FAUX",F51=F50)),A50,A50+1) -> 48 | B51: =VLOOKUP(E51,Dossard,2) -> BARTAL GALLET | C51: =VLOOKUP(E51,Dossard,3) -> Isem | D51: =VLOOKUP(E51,Dossard,5) -> 5 B | E51: 114 | F51: 0.018611111 | G51: =IF(F51="","",F51/VLOOKUP(E51,Dossard,6)) -> 0.0093055556 | H51: =IF(E51="","",IF(OR(E51>dernier,E51<premier),"inconnu",IF(VLOOKUP(E51,edition,7)=4,E51,"Erreur Course"))) -> 114
A52: =IF(OR(H52="inconnu",H52="déjà saisi",IF(F52="","FAUX",F52=F51)),A51,A51+1) -> 49 | B52: =VLOOKUP(E52,Dossard,2) -> #N/A | C52: =VLOOKUP(E52,Dossard,3) -> #N/A | D52: =VLOOKUP(E52,Dossard,5) -> #N/A | G52: =IF(F52="","",F52/VLOOKUP(E52,Dossard,6)) | H52: =IF(E52="","",IF(OR(E52>dernier,E52<premier),"inconnu",IF(VLOOKUP(E52,edition,7)=4,E52,"Erreur Course")))
A53: =IF(OR(H53="inconnu",H53="déjà saisi",IF(F53="","FAUX",F53=F52)),A52,A52+1) -> 50 | B53: =VLOOKUP(E53,Dossard,2) -> #N/A | C53: =VLOOKUP(E53,Dossard,3) -> #N/A | D53: IME | G53: =IF(F53="","",F53/VLOOKUP(E53,Dossard,6)) | H53: =IF(E53="","",IF(OR(E53>dernier,E53<premier),"inconnu",IF(VLOOKUP(E53,edition,7)=4,E53,"Erreur Course")))
A54: =IF(OR(H54="inconnu",H54="déjà saisi",IF(F54="","FAUX",F54=F53)),A53,A53+1) -> 51 | B54: =VLOOKUP(E54,Dossard,2) -> #N/A | C54: =VLOOKUP(E54,Dossard,3) -> #N/A | D54: =VLOOKUP(E54,Dossard,5) -> #N/A | G54: =IF(F54="","",F54/VLOOKUP(E54,Dossard,6)) | H54: =IF(E54="","",IF(OR(E54>dernier,E54<premier),"inconnu",IF(VLOOKUP(E54,edition,7)=4,E54,"Erreur Course")))
A55: =IF(OR(H55="inconnu",H55="déjà saisi",IF(F55="","FAUX",F55=F54)),A54,A54+1) -> 52 | B55: =VLOOKUP(E55,Dossard,2) -> #N/A | C55: =VLOOKUP(E55,Dossard,3) -> #N/A | D55: =VLOOKUP(E55,Dossard,5) -> #N/A | G55: =IF(F55="","",F55/VLOOKUP(E55,Dossard,6)) | H55: =IF(E55="","",IF(OR(E55>dernier,E55<premier),"inconnu",IF(VLOOKUP(E55,edition,7)=4,E55,"Erreur Course")))
A56: =IF(OR(H56="inconnu",H56="déjà saisi",IF(F56="","FAUX",F56=F55)),A55,A55+1) -> 53 | B56: =VLOOKUP(E56,Dossard,2) -> #N/A | C56: =VLOOKUP(E56,Dossard,3) -> #N/A | D56: =VLOOKUP(E56,Dossard,5) -> #N/A | G56: =IF(F56="","",F56/VLOOKUP(E56,Dossard,6)) | H56: =IF(E56="","",IF(OR(E56>dernier,E56<premier),"inconnu",IF(VLOOKUP(E56,edition,7)=4,E56,"Erreur Course")))
A57: =IF(OR(H57="inconnu",H57="déjà saisi",IF(F57="","FAUX",F57=F56)),A56,A56+1) -> 54 | B57: =VLOOKUP(E57,Dossard,2) -> #N/A | C57: =VLOOKUP(E57,Dossard,3) -> #N/A | D57: =VLOOKUP(E57,Dossard,5) -> #N/A | G57: =IF(F57="","",F57/VLOOKUP(E57,Dossard,6)) | H57: =IF(E57="","",IF(OR(E57>dernier,E57<premier),"inconnu",IF(VLOOKUP(E57,edition,7)=4,E57,"Erreur Course")))
A58: =IF(OR(H58="inconnu",H58="déjà saisi",IF(F58="","FAUX",F58=F57)),A57,A57+1) -> 55 | B58: =VLOOKUP(E58,Dossard,2) -> #N/A | C58: =VLOOKUP(E58,Dossard,3) -> #N/A | D58: =VLOOKUP(E58,Dossard,5) -> #N/A | G58: =IF(F58="","",F58/VLOOKUP(E58,Dossard,6)) | H58: =IF(E58="","",IF(OR(E58>dernier,E58<premier),"inconnu",IF(VLOOKUP(E58,edition,7)=4,E58,"Erreur Course")))
A59: =IF(OR(H59="inconnu",H59="déjà saisi",IF(F59="","FAUX",F59=F58)),A58,A58+1) -> 56 | B59: =VLOOKUP(E59,Dossard,2) -> #N/A | C59: =VLOOKUP(E59,Dossard,3) -> #N/A | D59: =VLOOKUP(E59,Dossard,5) -> #N/A | G59: =IF(F59="","",F59/VLOOKUP(E59,Dossard,6)) | H59: =IF(E59="","",IF(OR(E59>dernier,E59<premier),"inconnu",IF(VLOOKUP(E59,edition,7)=4,E59,"Erreur Course")))
A60: =IF(OR(H60="inconnu",H60="déjà saisi",IF(F60="","FAUX",F60=F59)),A59,A59+1) -> 57 | B60: =VLOOKUP(E60,Dossard,2) -> #N/A | C60: =VLOOKUP(E60,Dossard,3) -> #N/A | D60: =VLOOKUP(E60,Dossard,5) -> #N/A | G60: =IF(F60="","",F60/VLOOKUP(E60,Dossard,6)) | H60: =IF(E60="","",IF(OR(E60>dernier,E60<premier),"inconnu",IF(VLOOKUP(E60,edition,7)=4,E60,"Erreur Course")))
A61: =IF(OR(H61="inconnu",H61="déjà saisi",IF(F61="","FAUX",F61=F60)),A60,A60+1) -> 58 | B61: =VLOOKUP(E61,Dossard,2) -> #N/A | C61: =VLOOKUP(E61,Dossard,3) -> #N/A | D61: =VLOOKUP(E61,Dossard,5) -> #N/A | G61: =IF(F61="","",F61/VLOOKUP(E61,Dossard,6)) | H61: =IF(E61="","",IF(OR(E61>dernier,E61<premier),"inconnu",IF(VLOOKUP(E61,edition,7)=4,E61,"Erreur Course")))
A62: =IF(OR(H62="inconnu",H62="déjà saisi",IF(F62="","FAUX",F62=F61)),A61,A61+1) -> 59 | B62: =VLOOKUP(E62,Dossard,2) -> #N/A | C62: =VLOOKUP(E62,Dossard,3) -> #N/A | D62: =VLOOKUP(E62,Dossard,5) -> #N/A | G62: =IF(F62="","",F62/VLOOKUP(E62,Dossard,6)) | H62: =IF(E62="","",IF(OR(E62>dernier,E62<premier),"inconnu",IF(VLOOKUP(E62,edition,7)=4,E62,"Erreur Course")))
A63: =IF(OR(H63="inconnu",H63="déjà saisi",IF(F63="","FAUX",F63=F62)),A62,A62+1) -> 60 | B63: =VLOOKUP(E63,Dossard,2) -> #N/A | C63: =VLOOKUP(E63,Dossard,3) -> #N/A | D63: =VLOOKUP(E63,Dossard,5) -> #N/A | G63: =IF(F63="","",F63/VLOOKUP(E63,Dossard,6)) | H63: =IF(E63="","",IF(OR(E63>dernier,E63<premier),"inconnu",IF(VLOOKUP(E63,edition,7)=4,E63,"Erreur Course")))
A64: =IF(OR(H64="inconnu",H64="déjà saisi",IF(F64="","FAUX",F64=F63)),A63,A63+1) -> 61 | B64: =VLOOKUP(E64,Dossard,2) -> #N/A | C64: =VLOOKUP(E64,Dossard,3) -> #N/A | D64: =VLOOKUP(E64,Dossard,5) -> #N/A | G64: =IF(F64="","",F64/VLOOKUP(E64,Dossard,6)) | H64: =IF(E64="","",IF(OR(E64>dernier,E64<premier),"inconnu",IF(VLOOKUP(E64,edition,7)=4,E64,"Erreur Course")))
A65: =IF(OR(H65="inconnu",H65="déjà saisi",IF(F65="","FAUX",F65=F64)),A64,A64+1) -> 62 | B65: =VLOOKUP(E65,Dossard,2) -> #N/A | C65: =VLOOKUP(E65,Dossard,3) -> #N/A | D65: =VLOOKUP(E65,Dossard,5) -> #N/A | G65: =IF(F65="","",F65/VLOOKUP(E65,Dossard,6)) | H65: =IF(E65="","",IF(OR(E65>dernier,E65<premier),"inconnu",IF(VLOOKUP(E65,edition,7)=4,E65,"Erreur Course")))
... A104: =IF(OR(H104="inconnu",H104="déjà saisi",IF(F104="","FAUX",F104=F103)),A103,A103+1) -> 101 | B104: =VLOOKUP(E104,Dossard,2) -> #N/A | C104: =VLOOKUP(E104,Dossard,3) -> #N/A | D104: =VLOOKUP(E104,Dossard,5) -> #N/A | G104: =IF(F104="","",F104/VLOOKUP(E104,Dossard,6)) | H104: =IF(E104="","",IF(OR(E104>dernier,E104<premier),"inconnu",IF(VLOOKUP(E104,edition,7)=4,E104,"Erreur Course")))

Sheet c5
A1: 5 | C1: Classement des filles de 4ème | G1: 2600 m
A3: Arrivée | B3: Nom | C3: Prénom | D3: Classe | E3: Dossard | F3: Temps | G3: Temps moyen | H3: Erreur
A4: 1 | B4: =VLOOKUP(E4,Dossard,2) -> VUILLEMIN | C4: =VLOOKUP(E4,Dossard,3) -> Loe | D4: =VLOOKUP(E4,Dossard,5) -> 4 B | E4: 251 | F4: 0.0070138889 | G4: =IF(F4="","",F4/VLOOKUP(E4,Dossard,6)) -> 0.0035069444 | H4: =IF(E4="","",IF(OR(E4>dernier,E4<premier),"inconnu",IF(VLOOKUP(E4,edition,7)=5,E4,"Erreur Course"))) -> 251
A5: =IF(OR(H5="inconnu",H5="déjà saisi",IF(F5="","FAUX",F5=F4)),A4,A4+1) -> 2 | B5: =VLOOKUP(E5,Dossard,2) -> PERRIN | C5: =VLOOKUP(E5,Dossard,3) -> Mélody | D5: =VLOOKUP(E5,Dossard,5) -> 4 A | E5: 219 | F5: 0.0075 | G5: =IF(F5="","",F5/VLOOKUP(E5,Dossard,6)) -> 0.00375 | H5: =IF(E5="","",IF(OR(E5>dernier,E5<premier),"inconnu",IF(VLOOKUP(E5,edition,7)=5,E5,"Erreur Course"))) -> 219
A6: =IF(OR(H6="inconnu",H6="déjà saisi",IF(F6="","FAUX",F6=F5)),A5,A5+1) -> 3 | B6: =VLOOKUP(E6,Dossard,2) -> BONTEMS | C6: =VLOOKUP(E6,Dossard,3) -> Cléa | D6: =VLOOKUP(E6,Dossard,5) -> 4 B | E6: 229 | F6: 0.0080555556 | G6: =IF(F6="","",F6/VLOOKUP(E6,Dossard,6)) -> 0.0040277778 | H6: =IF(E6="","",IF(AND(E6<=dernier,E6>=premier),IF((COUNTIF(C:E,E6))>1,"déjà saisi",E6),"inconnu")) -> 229
A7: =IF(OR(H7="inconnu",H7="déjà saisi",IF(F7="","FAUX",F7=F6)),A6,A6+1) -> 4 | B7: =VLOOKUP(E7,Dossard,2) -> COLNEL | C7: =VLOOKUP(E7,Dossard,3) -> Jehanne | D7: =VLOOKUP(E7,Dossard,5) -> 4 A | E7: 208 | F7: 0.0081365741 | G7: =IF(F7="","",F7/VLOOKUP(E7,Dossard,6)) -> 0.004068287 | H7: =IF(E7="","",IF(AND(E7<=dernier,E7>=premier),IF((COUNTIF(C:E,E7))>1,"déjà saisi",E7),"inconnu")) -> 208
A8: =IF(OR(H8="inconnu",H8="déjà saisi",IF(F8="","FAUX",F8=F7)),A7,A7+1) -> 5 | B8: =VLOOKUP(E8,Dossard,2) -> PIERRAT | C8: =VLOOKUP(E8,Dossard,3) -> Lola | D8: =VLOOKUP(E8,Dossard,5) -> 4 A | E8: 220 | F8: 0.0087731481 | G8: =IF(F8="","",F8/VLOOKUP(E8,Dossard,6)) -> 0.0043865741 | H8: =IF(E8="","",IF(AND(E8<=dernier,E8>=premier),IF((COUNTIF(C:E,E8))>1,"déjà saisi",E8),"inconnu")) -> 220
A9: =IF(OR(H9="inconnu",H9="déjà saisi",IF(F9="","FAUX",F9=F8)),A8,A8+1) -> 6 | B9: =VLOOKUP(E9,Dossard,2) -> DOS SANTOS | C9: =VLOOKUP(E9,Dossard,3) -> Apolline | D9: =VLOOKUP(E9,Dossard,5) -> 4 C | E9: 261 | F9: 0.0088425926 | G9: =IF(F9="","",F9/VLOOKUP(E9,Dossard,6)) -> 0.0044212963 | H9: =IF(E9="","",IF(AND(E9<=dernier,E9>=premier),IF((COUNTIF(C:E,E9))>1,"déjà saisi",E9),"inconnu")) -> 261
A10: =IF(OR(H10="inconnu",H10="déjà saisi",IF(F10="","FAUX",F10=F9)),A9,A9+1) -> 7 | B10: =VLOOKUP(E10,Dossard,2) -> FEBVAY | C10: =VLOOKUP(E10,Dossard,3) -> Célia | D10: =VLOOKUP(E10,Dossard,5) -> 4 B | E10: 234 | F10: 0.0088888889 | G10: =IF(F10="","",F10/VLOOKUP(E10,Dossard,6)) -> 0.0044444444 | H10: =IF(E10="","",IF(AND(E10<=dernier,E10>=premier),IF((COUNTIF(C:E,E10))>1,"déjà saisi",E10),"inconnu")) -> 234
A11: =IF(OR(H11="inconnu",H11="déjà saisi",IF(F11="","FAUX",F11=F10)),A10,A10+1) -> 8 | B11: =VLOOKUP(E11,Dossard,2) -> COLLE PERRIN | C11: =VLOOKUP(E11,Dossard,3) -> Léonie | D11: =VLOOKUP(E11,Dossard,5) -> 4 A | E11: 207 | F11: 0.0090162037 | G11: =IF(F11="","",F11/VLOOKUP(E11,Dossard,6)) -> 0.0045081019 | H11: =IF(E11="","",IF(AND(E11<=dernier,E11>=premier),IF((COUNTIF(C:E,E11))>1,"déjà saisi",E11),"inconnu")) -> 207
A12: =IF(OR(H12="inconnu",H12="déjà saisi",IF(F12="","FAUX",F12=F11)),A11,A11+1) -> 9 | B12: =VLOOKUP(E12,Dossard,2) -> DEMANGEL YERLY | C12: =VLOOKUP(E12,Dossard,3) -> Soline | D12: =VLOOKUP(E12,Dossard,5) -> 4 B | E12: 231 | F12: 0.0090972222 | G12: =IF(F12="","",F12/VLOOKUP(E12,Dossard,6)) -> 0.0045486111 | H12: =IF(E12="","",IF(AND(E12<=dernier,E12>=premier),IF((COUNTIF(C:E,E12))>1,"déjà saisi",E12),"inconnu")) -> 231
A13: =IF(OR(H13="inconnu",H13="déjà saisi",IF(F13="","FAUX",F13=F12)),A12,A12+1) -> 10 | B13: =VLOOKUP(E13,Dossard,2) -> SÉSÉ | C13: =VLOOKUP(E13,Dossard,3) -> Maëva | D13: =VLOOKUP(E13,Dossard,5) -> 4 B | E13: 247 | F13: 0.0091203704 | G13: =IF(F13="","",F13/VLOOKUP(E13,Dossard,6)) -> 0.0045601852 | H13: =IF(E13="","",IF(AND(E13<=dernier,E13>=premier),IF((COUNTIF(C:E,E13))>1,"déjà saisi",E13),"inconnu")) -> 247
A14: =IF(OR(H14="inconnu",H14="déjà saisi",IF(F14="","FAUX",F14=F13)),A13,A13+1) -> 11 | B14: =VLOOKUP(E14,Dossard,2) -> FEBVAY | C14: =VLOOKUP(E14,Dossard,3) -> Mélina | D14: =VLOOKUP(E14,Dossard,5) -> 4 B | E14: 235 | F14: 0.0091550926 | G14: =IF(F14="","",F14/VLOOKUP(E14,Dossard,6)) -> 0.0045775463 | H14: =IF(E14="","",IF(AND(E14<=dernier,E14>=premier),IF((COUNTIF(C:E,E14))>1,"déjà saisi",E14),"inconnu")) -> 235
A15: =IF(OR(H15="inconnu",H15="déjà saisi",IF(F15="","FAUX",F15=F14)),A14,A14+1) -> 12 | B15: =VLOOKUP(E15,Dossard,2) -> EL JIGHI | C15: =VLOOKUP(E15,Dossard,3) -> Tasnime | D15: =VLOOKUP(E15,Dossard,5) -> 4 B | E15: 233 | F15: 0.0092013889 | G15: =IF(F15="","",F15/VLOOKUP(E15,Dossard,6)) -> 0.0046006944 | H15: =IF(E15="","",IF(AND(E15<=dernier,E15>=premier),IF((COUNTIF(C:E,E15))>1,"déjà saisi",E15),"inconnu")) -> 233
A16: =IF(OR(H16="inconnu",H16="déjà saisi",IF(F16="","FAUX",F16=F15)),A15,A15+1) -> 13 | B16: =VLOOKUP(E16,Dossard,2) -> THIRIET | C16: =VLOOKUP(E16,Dossard,3) -> Lyne | D16: =VLOOKUP(E16,Dossard,5) -> 4 C | E16: 277 | F16: 0.009224537 | G16: =IF(F16="","",F16/VLOOKUP(E16,Dossard,6)) -> 0.0046122685 | H16: =IF(E16="","",IF(AND(E16<=dernier,E16>=premier),IF((COUNTIF(C:E,E16))>1,"déjà saisi",E16),"inconnu")) -> 277
A17: =IF(OR(H17="inconnu",H17="déjà saisi",IF(F17="","FAUX",F17=F16)),A16,A16+1) -> 14 | B17: =VLOOKUP(E17,Dossard,2) -> THIEBAUTGEORGES | C17: =VLOOKUP(E17,Dossard,3) -> Lorina | D17: =VLOOKUP(E17,Dossard,5) -> 4 A | E17: 224 | F17: 0.0092824074 | G17: =IF(F17="","",F17/VLOOKUP(E17,Dossard,6)) -> 0.0046412037 | H17: =IF(E17="","",IF(AND(E17<=dernier,E17>=premier),IF((COUNTIF(C:E,E17))>1,"déjà saisi",E17),"inconnu")) -> 224
... A19: =IF(OR(H19="inconnu",H19="déjà saisi",IF(F19="","FAUX",F19=F18)),A18,A18+1) -> 16 | B19: =VLOOKUP(E19,Dossard,2) -> DE GUILI | C19: =VLOOKUP(E19,Dossard,3) -> Louise | D19: =VLOOKUP(E19,Dossard,5) -> 4 A | E19: 209 | F19: 0.0097337963 | G19: =IF(F19="","",F19/VLOOKUP(E19,Dossard,6)) -> 0.0048668981 | H19: =IF(E19="","",IF(AND(E19<=dernier,E19>=premier),IF((COUNTIF(C:E,E19))>1,"déjà saisi",E19),"inconnu")) -> 209
A20: =IF(OR(H20="inconnu",H20="déjà saisi",IF(F20="","FAUX",F20=F19)),A19,A19+1) -> 17 | B20: =VLOOKUP(E20,Dossard,2) -> MATHIEU | C20: =VLOOKUP(E20,Dossard,3) -> Madeline | D20: =VLOOKUP(E20,Dossard,5) -> 4 C | E20: 272 | F20: 0.0098032407 | G20: =IF(F20="","",F20/VLOOKUP(E20,Dossard,6)) -> 0.0049016204 | H20: =IF(E20="","",IF(AND(E20<=dernier,E20>=premier),IF((COUNTIF(C:E,E20))>1,"déjà saisi",E20),"inconnu")) -> 272 | L20: 7
A21: =IF(OR(H21="inconnu",H21="déjà saisi",IF(F21="","FAUX",F21=F20)),A20,A20+1) -> 18 | B21: =VLOOKUP(E21,Dossard,2) -> BURRI | C21: =VLOOKUP(E21,Dossard,3) -> Julia | D21: =VLOOKUP(E21,Dossard,5) -> 4 C | E21: 256 | F21: 0.0098726852 | G21: =IF(F21="","",F21/VLOOKUP(E21,Dossard,6)) -> 0.0049363426 | H21: =IF(E21="","",IF(AND(E21<=dernier,E21>=premier),IF((COUNTIF(C:E,E21))>1,"déjà saisi",E21),"inconnu")) -> 256
A22: =IF(OR(H22="inconnu",H22="déjà saisi",IF(F22="","FAUX",F22=F21)),A21,A21+1) -> 19 | B22: =VLOOKUP(E22,Dossard,2) -> BOILEAU | C22: =VLOOKUP(E22,Dossard,3) -> Lena | D22: =VLOOKUP(E22,Dossard,5) -> 4 C | E22: 255 | F22: 0.0099074074 | G22: =IF(F22="","",F22/VLOOKUP(E22,Dossard,6)) -> 0.0049537037 | H22: =IF(E22="","",IF(AND(E22<=dernier,E22>=premier),IF((COUNTIF(C:E,E22))>1,"déjà saisi",E22),"inconnu")) -> 255
A23: =IF(OR(H23="inconnu",H23="déjà saisi",IF(F23="","FAUX",F23=F22)),A22,A22+1) -> 20 | B23: =VLOOKUP(E23,Dossard,2) -> LAURENT | C23: =VLOOKUP(E23,Dossard,3) -> Cyrielle | D23: =VLOOKUP(E23,Dossard,5) -> 4 A | E23: 215 | F23: 0.010173611 | G23: =IF(F23="","",F23/VLOOKUP(E23,Dossard,6)) -> 0.0050868056 | H23: =IF(E23="","",IF(AND(E23<=dernier,E23>=premier),IF((COUNTIF(C:E,E23))>1,"déjà saisi",E23),"inconnu")) -> 215
A24: =IF(OR(H24="inconnu",H24="déjà saisi",IF(F24="","FAUX",F24=F23)),A23,A23+1) -> 21 | B24: =VLOOKUP(E24,Dossard,2) -> VANNSON | C24: =VLOOKUP(E24,Dossard,3) -> Jenna | D24: =VLOOKUP(E24,Dossard,5) -> 4 D | E24: 299 | F24: 0.010729167 | G24: =IF(F24="","",F24/VLOOKUP(E24,Dossard,6)) -> 0.0053645833 | H24: =IF(E24="","",IF(AND(E24<=dernier,E24>=premier),IF((COUNTIF(C:E,E24))>1,"déjà saisi",E24),"inconnu")) -> 299
A25: =IF(OR(H25="inconnu",H25="déjà saisi",IF(F25="","FAUX",F25=F24)),A24,A24+1) -> 22 | B25: =VLOOKUP(E25,Dossard,2) -> GEORGES | C25: =VLOOKUP(E25,Dossard,3) -> Kaylie | D25: =VLOOKUP(E25,Dossard,5) -> 4 E | E25: 303 | F25: 0.010763889 | G25: =IF(F25="","",F25/VLOOKUP(E25,Dossard,6)) -> 0.0053819444 | H25: =IF(E25="","",IF(AND(E25<=dernier,E25>=premier),IF((COUNTIF(C:E,E25))>1,"déjà saisi",E25),"inconnu")) -> 303
A26: =IF(OR(H26="inconnu",H26="déjà saisi",IF(F26="","FAUX",F26=F25)),A25,A25+1) -> 23 | B26: =VLOOKUP(E26,Dossard,2) -> GEORGES | C26: =VLOOKUP(E26,Dossard,3) -> Ileana | D26: =VLOOKUP(E26,Dossard,5) -> 4 B | E26: 236 | F26: 0.011041667 | G26: =IF(F26="","",F26/VLOOKUP(E26,Dossard,6)) -> 0.0055208333 | H26: =IF(E26="","",IF(AND(E26<=dernier,E26>=premier),IF((COUNTIF(C:E,E26))>1,"déjà saisi",E26),"inconnu")) -> 236
A27: =IF(OR(H27="inconnu",H27="déjà saisi",IF(F27="","FAUX",F27=F26)),A26,A26+1) -> 24 | B27: =VLOOKUP(E27,Dossard,2) -> ZOUBIR | C27: =VLOOKUP(E27,Dossard,3) -> Erine | D27: =VLOOKUP(E27,Dossard,5) -> 4 A | E27: 225 | F27: 0.011851852 | G27: =IF(F27="","",F27/VLOOKUP(E27,Dossard,6)) -> 0.0059259259 | H27: =IF(E27="","",IF(AND(E27<=dernier,E27>=premier),IF((COUNTIF(C:E,E27))>1,"déjà saisi",E27),"inconnu")) -> 225
A28: =IF(OR(H28="inconnu",H28="déjà saisi",IF(F28="","FAUX",F28=F27)),A27,A27+1) -> 25 | B28: =VLOOKUP(E28,Dossard,2) -> CLAUDE | C28: =VLOOKUP(E28,Dossard,3) -> Lili | D28: =VLOOKUP(E28,Dossard,5) -> 4 C | E28: 260 | F28: 0.011898148 | G28: =IF(F28="","",F28/VLOOKUP(E28,Dossard,6)) -> 0.0059490741 | H28: =IF(E28="","",IF(AND(E28<=dernier,E28>=premier),IF((COUNTIF(C:E,E28))>1,"déjà saisi",E28),"inconnu")) -> 260
A29: =IF(OR(H29="inconnu",H29="déjà saisi",IF(F29="","FAUX",F29=F28)),A28,A28+1) -> 26 | B29: =VLOOKUP(E29,Dossard,2) -> MAJCHERCZYK | C29: =VLOOKUP(E29,Dossard,3) -> Yùna | D29: =VLOOKUP(E29,Dossard,5) -> 4 C | E29: 271 | F29: 0.012349537 | G29: =IF(F29="","",F29/VLOOKUP(E29,Dossard,6)) -> 0.0061747685 | H29: =IF(E29="","",IF(AND(E29<=dernier,E29>=premier),IF((COUNTIF(C:E,E29))>1,"déjà saisi",E29),"inconnu")) -> 271
A30: =IF(OR(H30="inconnu",H30="déjà saisi",IF(F30="","FAUX",F30=F29)),A29,A29+1) -> 27 | B30: =VLOOKUP(E30,Dossard,2) -> FAIVRE | C30: =VLOOKUP(E30,Dossard,3) -> Inès | D30: =VLOOKUP(E30,Dossard,5) -> 4 C | E30: 262 | F30: 0.012372685 | G30: =IF(F30="","",F30/VLOOKUP(E30,Dossard,6)) -> 0.0061863426 | H30: =IF(E30="","",IF(AND(E30<=dernier,E30>=premier),IF((COUNTIF(C:E,E30))>1,"déjà saisi",E30),"inconnu")) -> 262
A31: =IF(OR(H31="inconnu",H31="déjà saisi",IF(F31="","FAUX",F31=F30)),A30,A30+1) -> 28 | B31: =VLOOKUP(E31,Dossard,2) -> MADDALUNO | C31: =VLOOKUP(E31,Dossard,3) -> Giulia | D31: =VLOOKUP(E31,Dossard,5) -> 4 C | E31: 270 | F31: 0.012627315 | G31: =IF(F31="","",F31/VLOOKUP(E31,Dossard,6)) -> 0.0063136574 | H31: =IF(E31="","",IF(AND(E31<=dernier,E31>=premier),IF((COUNTIF(C:E,E31))>1,"déjà saisi",E31),"inconnu")) -> 270
A32: =IF(OR(H32="inconnu",H32="déjà saisi",IF(F32="","FAUX",F32=F31)),A31,A31+1) -> 29 | B32: =VLOOKUP(E32,Dossard,2) -> LOSSEROY GASPARD | C32: =VLOOKUP(E32,Dossard,3) -> Emilie | D32: =VLOOKUP(E32,Dossard,5) -> 4 E | E32: 308 | F32: 0.0128125 | G32: =IF(F32="","",F32/VLOOKUP(E32,Dossard,6)) -> 0.00640625 | H32: =IF(E32="","",IF(AND(E32<=dernier,E32>=premier),IF((COUNTIF(C:E,E32))>1,"déjà saisi",E32),"inconnu")) -> 308
... A50: =IF(OR(H50="inconnu",H50="déjà saisi",IF(F50="","FAUX",F50=F49)),A49,A49+1) -> 47 | B50: =VLOOKUP(E50,Dossard,2) -> GILLET | C50: =VLOOKUP(E50,Dossard,3) -> Elora | D50: =VLOOKUP(E50,Dossard,5) -> 4 A | E50: 212 | F50: 0.014664352 | G50: =IF(F50="","",F50/VLOOKUP(E50,Dossard,6)) -> 0.0073321759 | H50: =IF(E50="","",IF(AND(E50<=dernier,E50>=premier),IF((COUNTIF(C:E,E50))>1,"déjà saisi",E50),"inconnu")) -> 212
A51: =IF(OR(H51="inconnu",H51="déjà saisi",IF(F51="","FAUX",F51=F50)),A50,A50+1) -> 48 | B51: =VLOOKUP(E51,Dossard,2) -> #N/A | C51: =VLOOKUP(E51,Dossard,3) -> #N/A | D51: =VLOOKUP(E51,Dossard,5) -> #N/A | G51: =IF(F51="","",F51/VLOOKUP(E51,Dossard,6)) | H51: =IF(E51="","",IF(AND(E51<=dernier,E51>=premier),IF((COUNTIF(C:E,E51))>1,"déjà saisi",E51),"inconnu"))
A52: =IF(OR(H52="inconnu",H52="déjà saisi",IF(F52="","FAUX",F52=F51)),A51,A51+1) -> 49 | B52: =VLOOKUP(E52,Dossard,2) -> #N/A | C52: =VLOOKUP(E52,Dossard,3) -> #N/A | D52: =VLOOKUP(E52,Dossard,5) -> #N/A | G52: =IF(F52="","",F52/VLOOKUP(E52,Dossard,6)) | H52: =IF(E52="","",IF(AND(E52<=dernier,E52>=premier),IF((COUNTIF(C:E,E52))>1,"déjà saisi",E52),"inconnu"))
A53: =IF(OR(H53="inconnu",H53="déjà saisi",IF(F53="","FAUX",F53=F52)),A52,A52+1) -> 50 | B53: =VLOOKUP(E53,Dossard,2) -> #N/A | C53: =VLOOKUP(E53,Dossard,3) -> #N/A | D53: =VLOOKUP(E53,Dossard,5) -> #N/A | G53: =IF(F53="","",F53/VLOOKUP(E53,Dossard,6)) | H53: =IF(E53="","",IF(AND(E53<=dernier,E53>=premier),IF((COUNTIF(C:E,E53))>1,"déjà saisi",E53),"inconnu"))
A54: =IF(OR(H54="inconnu",H54="déjà saisi",IF(F54="","FAUX",F54=F53)),A53,A53+1) -> 51 | B54: =VLOOKUP(E54,Dossard,2) -> #N/A | C54: =VLOOKUP(E54,Dossard,3) -> #N/A | D54: =VLOOKUP(E54,Dossard,5) -> #N/A | G54: =IF(F54="","",F54/VLOOKUP(E54,Dossard,6)) | H54: =IF(E54="","",IF(AND(E54<=dernier,E54>=premier),IF((COUNTIF(C:E,E54))>1,"déjà saisi",E54),"inconnu"))
A55: =IF(OR(H55="inconnu",H55="déjà saisi",IF(F55="","FAUX",F55=F54)),A54,A54+1) -> 52 | B55: =VLOOKUP(E55,Dossard,2) -> #N/A | C55: =VLOOKUP(E55,Dossard,3) -> #N/A | D55: =VLOOKUP(E55,Dossard,5) -> #N/A | G55: =IF(F55="","",F55/VLOOKUP(E55,Dossard,6)) | H55: =IF(E55="","",IF(AND(E55<=dernier,E55>=premier),IF((COUNTIF(C:E,E55))>1,"déjà saisi",E55),"inconnu"))
A56: =IF(OR(H56="inconnu",H56="déjà saisi",IF(F56="","FAUX",F56=F55)),A55,A55+1) -> 53 | B56: =VLOOKUP(E56,Dossard,2) -> #N/A | C56: =VLOOKUP(E56,Dossard,3) -> #N/A | D56: =VLOOKUP(E56,Dossard,5) -> #N/A | G56: =IF(F56="","",F56/VLOOKUP(E56,Dossard,6)) | H56: =IF(E56="","",IF(AND(E56<=dernier,E56>=premier),IF((COUNTIF(C:E,E56))>1,"déjà saisi",E56),"inconnu"))
A57: =IF(OR(H57="inconnu",H57="déjà saisi",IF(F57="","FAUX",F57=F56)),A56,A56+1) -> 54 | B57: =VLOOKUP(E57,Dossard,2) -> #N/A | C57: =VLOOKUP(E57,Dossard,3) -> #N/A | D57: =VLOOKUP(E57,Dossard,5) -> #N/A | G57: =IF(F57="","",F57/VLOOKUP(E57,Dossard,6)) | H57: =IF(E57="","",IF(AND(E57<=dernier,E57>=premier),IF((COUNTIF(C:E,E57))>1,"déjà saisi",E57),"inconnu"))
A58: =IF(OR(H58="inconnu",H58="déjà saisi",IF(F58="","FAUX",F58=F57)),A57,A57+1) -> 55 | B58: =VLOOKUP(E58,Dossard,2) -> #N/A | C58: =VLOOKUP(E58,Dossard,3) -> #N/A | D58: =VLOOKUP(E58,Dossard,5) -> #N/A | G58: =IF(F58="","",F58/VLOOKUP(E58,Dossard,6)) | H58: =IF(E58="","",IF(AND(E58<=dernier,E58>=premier),IF((COUNTIF(C:E,E58))>1,"déjà saisi",E58),"inconnu"))
A59: =IF(OR(H59="inconnu",H59="déjà saisi",IF(F59="","FAUX",F59=F58)),A58,A58+1) -> 56 | B59: =VLOOKUP(E59,Dossard,2) -> #N/A | C59: =VLOOKUP(E59,Dossard,3) -> #N/A | D59: =VLOOKUP(E59,Dossard,5) -> #N/A | G59: =IF(F59="","",F59/VLOOKUP(E59,Dossard,6)) | H59: =IF(E59="","",IF(AND(E59<=dernier,E59>=premier),IF((COUNTIF(C:E,E59))>1,"déjà saisi",E59),"inconnu"))
A60: =IF(OR(H60="inconnu",H60="déjà saisi",IF(F60="","FAUX",F60=F59)),A59,A59+1) -> 57 | B60: =VLOOKUP(E60,Dossard,2) -> #N/A | C60: =VLOOKUP(E60,Dossard,3) -> #N/A | D60: =VLOOKUP(E60,Dossard,5) -> #N/A | G60: =IF(F60="","",F60/VLOOKUP(E60,Dossard,6)) | H60: =IF(E60="","",IF(AND(E60<=dernier,E60>=premier),IF((COUNTIF(C:E,E60))>1,"déjà saisi",E60),"inconnu"))
A61: =IF(OR(H61="inconnu",H61="déjà saisi",IF(F61="","FAUX",F61=F60)),A60,A60+1) -> 58 | B61: =VLOOKUP(E61,Dossard,2) -> #N/A | C61: =VLOOKUP(E61,Dossard,3) -> #N/A | D61: =VLOOKUP(E61,Dossard,5) -> #N/A | G61: =IF(F61="","",F61/VLOOKUP(E61,Dossard,6)) | H61: =IF(E61="","",IF(AND(E61<=dernier,E61>=premier),IF((COUNTIF(C:E,E61))>1,"déjà saisi",E61),"inconnu"))
A62: =IF(OR(H62="inconnu",H62="déjà saisi",IF(F62="","FAUX",F62=F61)),A61,A61+1) -> 59 | B62: =VLOOKUP(E62,Dossard,2) -> #N/A | C62: =VLOOKUP(E62,Dossard,3) -> #N/A | D62: =VLOOKUP(E62,Dossard,5) -> #N/A | G62: =IF(F62="","",F62/VLOOKUP(E62,Dossard,6)) | H62: =IF(E62="","",IF(AND(E62<=dernier,E62>=premier),IF((COUNTIF(C:E,E62))>1,"déjà saisi",E62),"inconnu"))
... A101: =IF(OR(H101="inconnu",H101="déjà saisi",IF(F101="","FAUX",F101=F100)),A100,A100+1) -> 98 | B101: =VLOOKUP(E101,Dossard,2) -> #N/A | C101: =VLOOKUP(E101,Dossard,3) -> #N/A | D101: =VLOOKUP(E101,Dossard,5) -> #N/A | G101: =IF(F101="","",F101/VLOOKUP(E101,Dossard,6)) | H101: =IF(E101="","",IF(AND(E101<=dernier,E101>=premier),IF((COUNTIF(C:E,E101))>1,"déjà saisi",E101),"inconnu"))
A102: =IF(OR(H102="inconnu",H102="déjà saisi",IF(F102="","FAUX",F102=F101)),A101,A101+1) -> 99 | B102: =VLOOKUP(E102,Dossard,2) -> #N/A | C102: =VLOOKUP(E102,Dossard,3) -> #N/A | D102: =VLOOKUP(E102,Dossard,5) -> #N/A | G102: =IF(F102="","",IF(F102>=F101,IF(H102=E102,F102/VLOOKUP(E102,Dossard,6),"nc"),"erreur tps")) | H102: =IF(E102="","",IF(AND(E102<=dernier,E102>=premier),IF((COUNTIF(C:E,E102))>1,"déjà saisi",E102),"inconnu"))
A103: =IF(OR(H103="inconnu",H103="déjà saisi",IF(F103="","FAUX",F103=F102)),A102,A102+1) -> 100 | B103: =VLOOKUP(E103,Dossard,2) -> #N/A | C103: =VLOOKUP(E103,Dossard,3) -> #N/A | D103: =VLOOKUP(E103,Dossard,5) -> #N/A | G103: =IF(F103="","",IF(F103>=F102,IF(H103=E103,F103/VLOOKUP(E103,Dossard,6),"nc"),"erreur tps")) | H103: =IF(E103="","",IF(AND(E103<=dernier,E103>=premier),IF((COUNTIF(C:E,E103))>1,"déjà saisi",E103),"inconnu"))
A104: =IF(OR(H104="inconnu",H104="déjà saisi",IF(F104="","FAUX",F104=F103)),A103,A103+1) -> 101 | B104: =VLOOKUP(E104,Dossard,2) -> #N/A | C104: =VLOOKUP(E104,Dossard,3) -> #N/A | D104: =VLOOKUP(E104,Dossard,5) -> #N/A | G104: =IF(F104="","",IF(F104>=F103,IF(H104=E104,F104/VLOOKUP(E104,Dossard,6),"nc"),"erreur tps")) | H104: =IF(E104="","",IF(AND(E104<=dernier,E104>=premier),IF((COUNTIF(C:E,E104))>1,"déjà saisi",E104),"inconnu"))

Sheet c6
A1: 6 | C1: Classement des garçons de 4ème | G1: 2600 m
A3: Arrivée | B3: Nom | C3: Prénom | D3: Classe | E3: Dossard | F3: Temps | G3: Temps moyen | H3: Erreur
A4: 1 | B4: =VLOOKUP(E4,Dossard,2) -> BLANCO GARCIA | C4: =VLOOKUP(E4,Dossard,3) -> Arthur | D4: =VLOOKUP(E4,Dossard,5) -> 4 D | E4: 280 | F4: 0.0068634259 | G4: =IF(F4="","",F4/VLOOKUP(E4,Dossard,6)) -> 0.003431713 | H4: =IF(E4="","",IF(OR(E4>dernier,E4<premier),"inconnu",IF(VLOOKUP(E4,edition,7)=6,E4,"Erreur Course"))) -> 280
A5: =IF(OR(H5="inconnu",H5="déjà saisi",IF(F5="","FAUX",F5=F4)),A4,A4+1) -> 2 | B5: =VLOOKUP(E5,Dossard,2) -> ADRIAN | C5: =VLOOKUP(E5,Dossard,3) -> Victor | D5: =VLOOKUP(E5,Dossard,5) -> 4 B | E5: 226 | F5: 0.0071180556 | G5: =IF(F5="","",F5/VLOOKUP(E5,Dossard,6)) -> 0.0035590278 | H5: =IF(E5="","",IF(OR(E5>dernier,E5<premier),"inconnu",IF(VLOOKUP(E5,edition,7)=6,E5,"Erreur Course"))) -> 226
A6: =IF(OR(H6="inconnu",H6="déjà saisi",IF(F6="","FAUX",F6=F5)),A5,A5+1) -> 3 | B6: =VLOOKUP(E6,Dossard,2) -> HENRY | C6: =VLOOKUP(E6,Dossard,3) -> Antoine | D6: =VLOOKUP(E6,Dossard,5) -> 4 B | E6: 238 | F6: 0.0072685185 | G6: =IF(F6="","",F6/VLOOKUP(E6,Dossard,6)) -> 0.0036342593 | H6: =IF(E6="","",IF(OR(E6>dernier,E6<premier),"inconnu",IF(VLOOKUP(E6,edition,7)=6,E6,"Erreur Course"))) -> 238
A7: =IF(OR(H7="inconnu",H7="déjà saisi",IF(F7="","FAUX",F7=F6)),A6,A6+1) -> 4 | B7: =VLOOKUP(E7,Dossard,2) -> BOURGOIN | C7: =VLOOKUP(E7,Dossard,3) -> Achille | D7: =VLOOKUP(E7,Dossard,5) -> 4 A | E7: 206 | F7: 0.0073032407 | G7: =IF(F7="","",F7/VLOOKUP(E7,Dossard,6)) -> 0.0036516204 | H7: =IF(E7="","",IF(OR(E7>dernier,E7<premier),"inconnu",IF(VLOOKUP(E7,edition,7)=6,E7,"Erreur Course"))) -> 206
A8: =IF(OR(H8="inconnu",H8="déjà saisi",IF(F8="","FAUX",F8=F7)),A7,A7+1) -> 5 | B8: =VLOOKUP(E8,Dossard,2) -> OUSMANE | C8: =VLOOKUP(E8,Dossard,3) -> Sohan | D8: =VLOOKUP(E8,Dossard,5) -> 4 A | E8: 218 | F8: 0.0073611111 | G8: =IF(F8="","",F8/VLOOKUP(E8,Dossard,6)) -> 0.0036805556 | H8: =IF(E8="","",IF(OR(E8>dernier,E8<premier),"inconnu",IF(VLOOKUP(E8,edition,7)=6,E8,"Erreur Course"))) -> 218
A9: =IF(OR(H9="inconnu",H9="déjà saisi",IF(F9="","FAUX",F9=F8)),A8,A8+1) -> 6 | B9: =VLOOKUP(E9,Dossard,2) -> LELU | C9: =VLOOKUP(E9,Dossard,3) -> Hugo | D9: =VLOOKUP(E9,Dossard,5) -> 4 C | E9: 269 | F9: 0.0074074074 | G9: =IF(F9="","",F9/VLOOKUP(E9,Dossard,6)) -> 0.0037037037 | H9: =IF(E9="","",IF(OR(E9>dernier,E9<premier),"inconnu",IF(VLOOKUP(E9,edition,7)=6,E9,"Erreur Course"))) -> 269
A10: =IF(OR(H10="inconnu",H10="déjà saisi",IF(F10="","FAUX",F10=F9)),A9,A9+1) -> 7 | B10: =VLOOKUP(E10,Dossard,2) -> VALDENAIRE | C10: =VLOOKUP(E10,Dossard,3) -> Ethan | D10: =VLOOKUP(E10,Dossard,5) -> 4 B | E10: 248 | F10: 0.0074652778 | G10: =IF(F10="","",F10/VLOOKUP(E10,Dossard,6)) -> 0.0037326389 | H10: =IF(E10="","",IF(OR(E10>dernier,E10<premier),"inconnu",IF(VLOOKUP(E10,edition,7)=6,E10,"Erreur Course"))) -> 248
A11: =IF(OR(H11="inconnu",H11="déjà saisi",IF(F11="","FAUX",F11=F10)),A10,A10+1) -> 8 | B11: =VLOOKUP(E11,Dossard,2) -> VALDENAIRE | C11: =VLOOKUP(E11,Dossard,3) -> Ishaaq | D11: =VLOOKUP(E11,Dossard,5) -> 4 B | E11: 249 | F11: 0.0075 | G11: =IF(F11="","",F11/VLOOKUP(E11,Dossard,6)) -> 0.00375 | H11: =IF(E11="","",IF(OR(E11>dernier,E11<premier),"inconnu",IF(VLOOKUP(E11,edition,7)=6,E11,"Erreur Course"))) -> 249
A12: =IF(OR(H12="inconnu",H12="déjà saisi",IF(F12="","FAUX",F12=F11)),A11,A11+1) -> 9 | B12: =VLOOKUP(E12,Dossard,2) -> MADUREIRA | C12: =VLOOKUP(E12,Dossard,3) -> Axel | D12: =VLOOKUP(E12,Dossard,5) -> 4 B | E12: 242 | F12: 0.0075694444 | G12: =IF(F12="","",F12/VLOOKUP(E12,Dossard,6)) -> 0.0037847222 | H12: =IF(E12="","",IF(OR(E12>dernier,E12<premier),"inconnu",IF(VLOOKUP(E12,edition,7)=6,E12,"Erreur Course"))) -> 242
A13: =IF(OR(H13="inconnu",H13="déjà saisi",IF(F13="","FAUX",F13=F12)),A12,A12+1) -> 10 | B13: =VLOOKUP(E13,Dossard,2) -> POTIER | C13: =VLOOKUP(E13,Dossard,3) -> Lénaïc | D13: =VLOOKUP(E13,Dossard,5) -> 4 A | E13: 221 | F13: 0.0076157407 | G13: =IF(F13="","",F13/VLOOKUP(E13,Dossard,6)) -> 0.0038078704 | H13: =IF(E13="","",IF(OR(E13>dernier,E13<premier),"inconnu",IF(VLOOKUP(E13,edition,7)=6,E13,"Erreur Course"))) -> 221
A14: =IF(OR(H14="inconnu",H14="déjà saisi",IF(F14="","FAUX",F14=F13)),A13,A13+1) -> 11 | B14: =VLOOKUP(E14,Dossard,2) -> RICHARD | C14: =VLOOKUP(E14,Dossard,3) -> Maxence | D14: =VLOOKUP(E14,Dossard,5) -> 4 A | E14: 222 | F14: 0.007662037 | G14: =IF(F14="","",F14/VLOOKUP(E14,Dossard,6)) -> 0.0038310185 | H14: =IF(E14="","",IF(OR(E14>dernier,E14<premier),"inconnu",IF(VLOOKUP(E14,edition,7)=6,E14,"Erreur Course"))) -> 222
A15: =IF(OR(H15="inconnu",H15="déjà saisi",IF(F15="","FAUX",F15=F14)),A14,A14+1) -> 12 | B15: =VLOOKUP(E15,Dossard,2) -> GENET | C15: =VLOOKUP(E15,Dossard,3) -> Lucas | D15: =VLOOKUP(E15,Dossard,5) -> 4 D | E15: 283 | F15: 0.0078009259 | G15: =IF(F15="","",F15/VLOOKUP(E15,Dossard,6)) -> 0.003900463 | H15: =IF(E15="","",IF(OR(E15>dernier,E15<premier),"inconnu",IF(VLOOKUP(E15,edition,7)=6,E15,"Erreur Course"))) -> 283
A16: =IF(OR(H16="inconnu",H16="déjà saisi",IF(F16="","FAUX",F16=F15)),A15,A15+1) -> 13 | B16: =VLOOKUP(E16,Dossard,2) -> DEMANGE | C16: =VLOOKUP(E16,Dossard,3) -> Yoanis | D16: =VLOOKUP(E16,Dossard,5) -> 4 A | E16: 210 | F16: 0.0079166667 | G16: =IF(F16="","",F16/VLOOKUP(E16,Dossard,6)) -> 0.0039583333 | H16: =IF(E16="","",IF(OR(E16>dernier,E16<premier),"inconnu",IF(VLOOKUP(E16,edition,7)=6,E16,"Erreur Course"))) -> 210
... A52: =IF(OR(H52="inconnu",H52="déjà saisi",IF(F52="","FAUX",F52=F51)),A51,A51+1) -> 49 | B52: =VLOOKUP(E52,Dossard,2) -> GERARD | C52: =VLOOKUP(E52,Dossard,3) -> Aymerick | D52: =VLOOKUP(E52,Dossard,5) -> 4 C | E52: 266 | F52: 0.015335648 | G52: =IF(F52="","",F52/VLOOKUP(E52,Dossard,6)) -> 0.0076678241 | H52: =IF(E52="","",IF(OR(E52>dernier,E52<premier),"inconnu",IF(VLOOKUP(E52,edition,7)=6,E52,"Erreur Course"))) -> 266
A53: =IF(OR(H53="inconnu",H53="déjà saisi",IF(F53="","FAUX",F53=F52)),A52,A52+1) -> 50 | B53: =VLOOKUP(E53,Dossard,2) -> #N/A | C53: =VLOOKUP(E53,Dossard,3) -> #N/A | D53: =VLOOKUP(E53,Dossard,5) -> #N/A | G53: =IF(F53="","",F53/VLOOKUP(E53,Dossard,6)) | H53: =IF(E53="","",IF(OR(E53>dernier,E53<premier),"inconnu",IF(VLOOKUP(E53,edition,7)=6,E53,"Erreur Course")))
A54: =IF(OR(H54="inconnu",H54="déjà saisi",IF(F54="","FAUX",F54=F53)),A53,A53+1) -> 51 | B54: =VLOOKUP(E54,Dossard,2) -> #N/A | C54: =VLOOKUP(E54,Dossard,3) -> #N/A | D54: =VLOOKUP(E54,Dossard,5) -> #N/A | G54: =IF(F54="","",F54/VLOOKUP(E54,Dossard,6)) | H54: =IF(E54="","",IF(OR(E54>dernier,E54<premier),"inconnu",IF(VLOOKUP(E54,edition,7)=6,E54,"Erreur Course")))
A55: =IF(OR(H55="inconnu",H55="déjà saisi",IF(F55="","FAUX",F55=F54)),A54,A54+1) -> 52 | B55: =VLOOKUP(E55,Dossard,2) -> #N/A | C55: =VLOOKUP(E55,Dossard,3) -> #N/A | D55: =VLOOKUP(E55,Dossard,5) -> #N/A | G55: =IF(F55="","",F55/VLOOKUP(E55,Dossard,6)) | H55: =IF(E55="","",IF(OR(E55>dernier,E55<premier),"inconnu",IF(VLOOKUP(E55,edition,7)=6,E55,"Erreur Course")))
A56: =IF(OR(H56="inconnu",H56="déjà saisi",IF(F56="","FAUX",F56=F55)),A55,A55+1) -> 53 | B56: =VLOOKUP(E56,Dossard,2) -> #N/A | C56: =VLOOKUP(E56,Dossard,3) -> #N/A | D56: =VLOOKUP(E56,Dossard,5) -> #N/A | G56: =IF(F56="","",F56/VLOOKUP(E56,Dossard,6)) | H56: =IF(E56="","",IF(OR(E56>dernier,E56<premier),"inconnu",IF(VLOOKUP(E56,edition,7)=6,E56,"Erreur Course")))
A57: =IF(OR(H57="inconnu",H57="déjà saisi",IF(F57="","FAUX",F57=F56)),A56,A56+1) -> 54 | B57: =VLOOKUP(E57,Dossard,2) -> #N/A | C57: =VLOOKUP(E57,Dossard,3) -> #N/A | D57: =VLOOKUP(E57,Dossard,5) -> #N/A | G57: =IF(F57="","",F57/VLOOKUP(E57,Dossard,6)) | H57: =IF(E57="","",IF(OR(E57>dernier,E57<premier),"inconnu",IF(VLOOKUP(E57,edition,7)=6,E57,"Erreur Course")))
A58: =IF(OR(H58="inconnu",H58="déjà saisi",IF(F58="","FAUX",F58=F57)),A57,A57+1) -> 55 | B58: =VLOOKUP(E58,Dossard,2) -> #N/A | C58: =VLOOKUP(E58,Dossard,3) -> #N/A | D58: =VLOOKUP(E58,Dossard,5) -> #N/A | G58: =IF(F58="","",F58/VLOOKUP(E58,Dossard,6)) | H58: =IF(E58="","",IF(OR(E58>dernier,E58<premier),"inconnu",IF(VLOOKUP(E58,edition,7)=6,E58,"Erreur Course")))
A59: =IF(OR(H59="inconnu",H59="déjà saisi",IF(F59="","FAUX",F59=F58)),A58,A58+1) -> 56 | B59: =VLOOKUP(E59,Dossard,2) -> #N/A | C59: =VLOOKUP(E59,Dossard,3) -> #N/A | D59: =VLOOKUP(E59,Dossard,5) -> #N/A | G59: =IF(F59="","",F59/VLOOKUP(E59,Dossard,6)) | H59: =IF(E59="","",IF(OR(E59>dernier,E59<premier),"inconnu",IF(VLOOKUP(E59,edition,7)=6,E59,"Erreur Course")))
A60: =IF(OR(H60="inconnu",H60="déjà saisi",IF(F60="","FAUX",F60=F59)),A59,A59+1) -> 57 | B60: =VLOOKUP(E60,Dossard,2) -> #N/A | C60: =VLOOKUP(E60,Dossard,3) -> #N/A | D60: =VLOOKUP(E60,Dossard,5) -> #N/A | G60: =IF(F60="","",F60/VLOOKUP(E60,Dossard,6)) | H60: =IF(E60="","",IF(OR(E60>dernier,E60<premier),"inconnu",IF(VLOOKUP(E60,edition,7)=6,E60,"Erreur Course")))
A61: =IF(OR(H61="inconnu",H61="déjà saisi",IF(F61="","FAUX",F61=F60)),A60,A60+1) -> 58 | B61: =VLOOKUP(E61,Dossard,2) -> #N/A | C61: =VLOOKUP(E61,Dossard,3) -> #N/A | D61: =VLOOKUP(E61,Dossard,5) -> #N/A | G61: =IF(F61="","",F61/VLOOKUP(E61,Dossard,6)) | H61: =IF(E61="","",IF(OR(E61>dernier,E61<premier),"inconnu",IF(VLOOKUP(E61,edition,7)=6,E61,"Erreur Course")))
A62: =IF(OR(H62="inconnu",H62="déjà saisi",IF(F62="","FAUX",F62=F61)),A61,A61+1) -> 59 | B62: =VLOOKUP(E62,Dossard,2) -> #N/A | C62: =VLOOKUP(E62,Dossard,3) -> #N/A | D62: =VLOOKUP(E62,Dossard,5) -> #N/A | G62: =IF(F62="","",F62/VLOOKUP(E62,Dossard,6)) | H62: =IF(E62="","",IF(OR(E62>dernier,E62<premier),"inconnu",IF(VLOOKUP(E62,edition,7)=6,E62,"Erreur Course")))
A63: =IF(OR(H63="inconnu",H63="déjà saisi",IF(F63="","FAUX",F63=F62)),A62,A62+1) -> 60 | B63: =VLOOKUP(E63,Dossard,2) -> #N/A | C63: =VLOOKUP(E63,Dossard,3) -> #N/A | D63: =VLOOKUP(E63,Dossard,5) -> #N/A | G63: =IF(F63="","",F63/VLOOKUP(E63,Dossard,6)) | H63: =IF(E63="","",IF(OR(E63>dernier,E63<premier),"inconnu",IF(VLOOKUP(E63,edition,7)=6,E63,"Erreur Course")))
A64: =IF(OR(H64="inconnu",H64="déjà saisi",IF(F64="","FAUX",F64=F63)),A63,A63+1) -> 61 | B64: =VLOOKUP(E64,Dossard,2) -> #N/A | C64: =VLOOKUP(E64,Dossard,3) -> #N/A | D64: =VLOOKUP(E64,Dossard,5) -> #N/A | G64: =IF(F64="","",F64/VLOOKUP(E64,Dossard,6)) | H64: =IF(E64="","",IF(OR(E64>dernier,E64<premier),"inconnu",IF(VLOOKUP(E64,edition,7)=6,E64,"Erreur Course")))
... A97: =IF(OR(H97="inconnu",H97="déjà saisi",IF(F97="","FAUX",F97=F96)),A96,A96+1) -> 94 | B97: =VLOOKUP(E97,Dossard,2) -> #N/A | C97: =VLOOKUP(E97,Dossard,3) -> #N/A | D97: =VLOOKUP(E97,Dossard,5) -> #N/A | G97: =IF(F97="","",F97/VLOOKUP(E97,Dossard,6)) | H97: =IF(E97="","",IF(OR(E97>dernier,E97<premier),"inconnu",IF(VLOOKUP(E97,edition,7)=6,E97,"Erreur Course")))
A98: =IF(OR(H98="inconnu",H98="déjà saisi",IF(F98="","FAUX",F98=F97)),A97,A97+1) -> 95 | B98: =VLOOKUP(E98,Dossard,2) -> #N/A | C98: =VLOOKUP(E98,Dossard,3) -> #N/A | D98: =VLOOKUP(E98,Dossard,5) -> #N/A | G98: =IF(F99="","",IF(F99>=F98,IF(H99=E99,F99/VLOOKUP(E99,Dossard,6),"nc"),"erreur tps")) | H98: =IF(E98="","",IF(OR(E98>dernier,E98<premier),"inconnu",IF(VLOOKUP(E98,edition,7)=6,E98,"Erreur Course")))
A99: =IF(OR(H99="inconnu",H99="déjà saisi",IF(F99="","FAUX",F99=F98)),A98,A98+1) -> 96 | B99: =VLOOKUP(E99,Dossard,2) -> #N/A | C99: =VLOOKUP(E99,Dossard,3) -> #N/A | D99: =VLOOKUP(E99,Dossard,5) -> #N/A | G99: =IF(F100="","",IF(F100>=F99,IF(H100=E100,F100/VLOOKUP(E100,Dossard,6),"nc"),"erreur tps")) | H99: =IF(E99="","",IF(OR(E99>dernier,E99<premier),"inconnu",IF(VLOOKUP(E99,edition,7)=6,E99,"Erreur Course")))
A100: =IF(OR(H100="inconnu",H100="déjà saisi",IF(F100="","FAUX",F100=F99)),A99,A99+1) -> 97 | B100: =VLOOKUP(E100,Dossard,2) -> #N/A | C100: =VLOOKUP(E100,Dossard,3) -> #N/A | D100: =VLOOKUP(E100,Dossard,5) -> #N/A | G100: =IF(F101="","",IF(F101>=F100,IF(H101=E101,F101/VLOOKUP(E101,Dossard,6),"nc"),"erreur tps")) | H100: =IF(E100="","",IF(OR(E100>dernier,E100<premier),"inconnu",IF(VLOOKUP(E100,edition,7)=6,E100,"Erreur Course")))
A101: =IF(OR(H101="inconnu",H101="déjà saisi",IF(F101="","FAUX",F101=F100)),A100,A100+1) -> 98 | B101: =VLOOKUP(E101,Dossard,2) -> #N/A | C101: =VLOOKUP(E101,Dossard,3) -> #N/A | D101: =VLOOKUP(E101,Dossard,5) -> #N/A | G101: =IF(F102="","",IF(F102>=F101,IF(H102=E102,F102/VLOOKUP(E102,Dossard,6),"nc"),"erreur tps")) | H101: =IF(E101="","",IF(OR(E101>dernier,E101<premier),"inconnu",IF(VLOOKUP(E101,edition,7)=6,E101,"Erreur Course")))
A102: =IF(OR(H102="inconnu",H102="déjà saisi",IF(F102="","FAUX",F102=F101)),A101,A101+1) -> 99 | B102: =VLOOKUP(E102,Dossard,2) -> #N/A | C102: =VLOOKUP(E102,Dossard,3) -> #N/A | D102: =VLOOKUP(E102,Dossard,5) -> #N/A | G102: =IF(F103="","",IF(F103>=F102,IF(H103=E103,F103/VLOOKUP(E103,Dossard,6),"nc"),"erreur tps")) | H102: =IF(E102="","",IF(OR(E102>dernier,E102<premier),"inconnu",IF(VLOOKUP(E102,edition,7)=6,E102,"Erreur Course")))
A103: =IF(OR(H103="inconnu",H103="déjà saisi",IF(F103="","FAUX",F103=F102)),A102,A102+1) -> 100 | B103: =VLOOKUP(E103,Dossard,2) -> #N/A | C103: =VLOOKUP(E103,Dossard,3) -> #N/A | D103: =VLOOKUP(E103,Dossard,5) -> #N/A | G103: =IF(F104="","",IF(F104>=F103,IF(H104=E104,F104/VLOOKUP(E104,Dossard,6),"nc"),"erreur tps")) | H103: =IF(E103="","",IF(OR(E103>dernier,E103<premier),"inconnu",IF(VLOOKUP(E103,edition,7)=6,E103,"Erreur Course")))
A104: =IF(OR(H104="inconnu",H104="déjà saisi",IF(F104="","FAUX",F104=F103)),A103,A103+1) -> 101 | B104: =VLOOKUP(E104,Dossard,2) -> #N/A | C104: =VLOOKUP(E104,Dossard,3) -> #N/A | D104: =VLOOKUP(E104,Dossard,5) -> #N/A | G104: =IF(F105="","",IF(F105>=F104,IF(H105=E105,F105/VLOOKUP(E105,Dossard,6),"nc"),"erreur tps")) | H104: =IF(E104="","",IF(OR(E104>dernier,E104<premier),"inconnu",IF(VLOOKUP(E104,edition,7)=6,E104,"Erreur Course")))
A105: =IF(OR(H105="inconnu",H105="déjà saisi",IF(F105="","FAUX",F105=F104)),A104,A104+1) -> 102 | B105: =VLOOKUP(E105,Dossard,2) -> #N/A | C105: =VLOOKUP(E105,Dossard,3) -> #N/A | D105: =VLOOKUP(E105,Dossard,5) -> #N/A | G105: =IF(F105="","",IF(F105>=F104,IF(H105=E105,F105/VLOOKUP(E105,Dossard,6),"nc"),"erreur tps")) | H105: =IF(E105="","",IF(AND(E105<=dernier,E105>=premier),IF((COUNTIF(C:E,E105))>1,"déjà saisi",E105),"inconnu"))
A106: =IF(OR(H106="inconnu",H106="déjà saisi",IF(F106="","FAUX",F106=F105)),A105,A105+1) -> 103 | B106: =VLOOKUP(E106,Dossard,2) -> #N/A | C106: =VLOOKUP(E106,Dossard,3) -> #N/A | D106: =VLOOKUP(E106,Dossard,5) -> #N/A | G106: =IF(F106="","",IF(F106>=F105,IF(H106=E106,F106/VLOOKUP(E106,Dossard,6),"nc"),"erreur tps")) | H106: =IF(E106="","",IF(AND(E106<=dernier,E106>=premier),IF((COUNTIF(C:E,E106))>1,"déjà saisi",E106),"inconnu"))
A107: =IF(OR(H107="inconnu",H107="déjà saisi",IF(F107="","FAUX",F107=F106)),A106,A106+1) -> 104 | B107: =VLOOKUP(E107,Dossard,2) -> #N/A | C107: =VLOOKUP(E107,Dossard,3) -> #N/A | D107: =VLOOKUP(E107,Dossard,5) -> #N/A | G107: =IF(F107="","",IF(F107>=F106,IF(H107=E107,F107/VLOOKUP(E107,Dossard,6),"nc"),"erreur tps")) | H107: =IF(E107="","",IF(AND(E107<=dernier,E107>=premier),IF((COUNTIF(C:E,E107))>1,"déjà saisi",E107),"inconnu"))
A108: =IF(OR(H108="inconnu",H108="déjà saisi",IF(F108="","FAUX",F108=F107)),A107,A107+1) -> 105 | B108: =VLOOKUP(E108,Dossard,2) -> #N/A | C108: =VLOOKUP(E108,Dossard,3) -> #N/A | D108: =VLOOKUP(E108,Dossard,5) -> #N/A | G108: =IF(F108="","",IF(F108>=F107,IF(H108=E108,F108/VLOOKUP(E108,Dossard,6),"nc"),"erreur tps")) | H108: =IF(E108="","",IF(AND(E108<=dernier,E108>=premier),IF((COUNTIF(C:E,E108))>1,"déjà saisi",E108),"inconnu"))
A109: =IF(OR(H109="inconnu",H109="déjà saisi",IF(F109="","FAUX",F109=F108)),A108,A108+1) -> 106 | B109: =VLOOKUP(E109,Dossard,2) -> #N/A | C109: =VLOOKUP(E109,Dossard,3) -> #N/A | D109: =VLOOKUP(E109,Dossard,5) -> #N/A | G109: =IF(F109="","",IF(F109>=F108,IF(H109=E109,F109/VLOOKUP(E109,Dossard,6),"nc"),"erreur tps")) | H109: =IF(E109="","",IF(AND(E109<=dernier,E109>=premier),IF((COUNTIF(C:E,E109))>1,"déjà saisi",E109),"inconnu"))
A110: =IF(OR(H110="inconnu",H110="déjà saisi",IF(F110="","FAUX",F110=F109)),A109,A109+1) -> 107 | B110: =VLOOKUP(E110,Dossard,2) -> #N/A | C110: =VLOOKUP(E110,Dossard,3) -> #N/A | D110: =VLOOKUP(E110,Dossard,5) -> #N/A | G110: =IF(F110="","",IF(F110>=F109,IF(H110=E110,F110/VLOOKUP(E110,Dossard,6),"nc"),"erreur tps")) | H110: =IF(E110="","",IF(AND(E110<=dernier,E110>=premier),IF((COUNTIF(C:E,E110))>1,"déjà saisi",E110),"inconnu"))
A111: =IF(OR(H111="inconnu",H111="déjà saisi",IF(F111="","FAUX",F111=F110)),A110,A110+1) -> 108 | B111: =VLOOKUP(E111,Dossard,2) -> #N/A | C111: =VLOOKUP(E111,Dossard,3) -> #N/A | D111: =VLOOKUP(E111,Dossard,5) -> #N/A | G111: =IF(F111="","",IF(F111>=F110,IF(H111=E111,F111/VLOOKUP(E111,Dossard,6),"nc"),"erreur tps")) | H111: =IF(E111="","",IF(AND(E111<=dernier,E111>=premier),IF((COUNTIF(C:E,E111))>1,"déjà saisi",E111),"inconnu"))
A112: =IF(OR(H112="inconnu",H112="déjà saisi",IF(F112="","FAUX",F112=F111)),A111,A111+1) -> 109 | B112: =VLOOKUP(E112,Dossard,2) -> #N/A | C112: =VLOOKUP(E112,Dossard,3) -> #N/A | D112: =VLOOKUP(E112,Dossard,5) -> #N/A | G112: =IF(F112="","",IF(F112>=F111,IF(H112=E112,F112/VLOOKUP(E112,Dossard,6),"nc"),"erreur tps")) | H112: =IF(E112="","",IF(AND(E112<=dernier,E112>=premier),IF((COUNTIF(C:E,E112))>1,"déjà saisi",E112),"inconnu"))
A113: =IF(OR(H113="inconnu",H113="déjà saisi",IF(F113="","FAUX",F113=F112)),A112,A112+1) -> 110 | B113: =VLOOKUP(E113,Dossard,2) -> #N/A | C113: =VLOOKUP(E113,Dossard,3) -> #N/A | D113: =VLOOKUP(E113,Dossard,5) -> #N/A | G113: =IF(F113="","",IF(F113>=F112,IF(H113=E113,F113/VLOOKUP(E113,Dossard,6),"nc"),"erreur tps")) | H113: =IF(E113="","",IF(AND(E113<=dernier,E113>=premier),IF((COUNTIF(C:E,E113))>1,"déjà saisi",E113),"inconnu"))
A114: =IF(OR(H114="inconnu",H114="déjà saisi",IF(F114="","FAUX",F114=F113)),A113,A113+1) -> 111 | B114: =VLOOKUP(E114,Dossard,2) -> #N/A | C114: =VLOOKUP(E114,Dossard,3) -> #N/A | D114: =VLOOKUP(E114,Dossard,5) -> #N/A | G114: =IF(F114="","",IF(F114>=F113,IF(H114=E114,F114/VLOOKUP(E114,Dossard,6),"nc"),"erreur tps")) | H114: =IF(E114="","",IF(AND(E114<=dernier,E114>=premier),IF((COUNTIF(C:E,E114))>1,"déjà saisi",E114),"inconnu"))
A115: =IF(OR(H115="inconnu",H115="déjà saisi",IF(F115="","FAUX",F115=F114)),A114,A114+1) -> 112 | B115: =VLOOKUP(E115,Dossard,2) -> #N/A | C115: =VLOOKUP(E115,Dossard,3) -> #N/A | D115: =VLOOKUP(E115,Dossard,5) -> #N/A | G115: =IF(F115="","",IF(F115>=F114,IF(H115=E115,F115/VLOOKUP(E115,Dossard,6),"nc"),"erreur tps")) | H115: =IF(E115="","",IF(AND(E115<=dernier,E115>=premier),IF((COUNTIF(C:E,E115))>1,"déjà saisi",E115),"inconnu"))
A116: =IF(OR(H116="inconnu",H116="déjà saisi",IF(F116="","FAUX",F116=F115)),A115,A115+1) -> 113 | B116: =VLOOKUP(E116,Dossard,2) -> #N/A | C116: =VLOOKUP(E116,Dossard,3) -> #N/A | D116: =VLOOKUP(E116,Dossard,5) -> #N/A | G116: =IF(F116="","",IF(F116>=F115,IF(H116=E116,F116/VLOOKUP(E116,Dossard,6),"nc"),"erreur tps")) | H116: =IF(E116="","",IF(AND(E116<=dernier,E116>=premier),IF((COUNTIF(C:E,E116))>1,"déjà saisi",E116),"inconnu"))
... A128: =IF(OR(H128="inconnu",H128="déjà saisi",IF(F128="","FAUX",F128=F127)),A127,A127+1) -> 125 | B128: =VLOOKUP(E128,Dossard,2) -> #N/A | C128: =VLOOKUP(E128,Dossard,3) -> #N/A | D128: =VLOOKUP(E128,Dossard,5) -> #N/A | G128: =IF(F128="","",IF(F128>=F127,IF(H128=E128,F128/VLOOKUP(E128,Dossard,6),"nc"),"erreur tps")) | H128: =IF(E128="","",IF(AND(E128<=dernier,E128>=premier),IF((COUNTIF(C:E,E128))>1,"déjà saisi",E128),"inconnu"))
A129: =IF(OR(H129="inconnu",H129="déjà saisi",IF(F129="","FAUX",F129=F128)),A128,A128+1) -> 126 | G129: =IF(F129="","",IF(F129>=F128,IF(H129=E129,F129/VLOOKUP(E129,Dossard,6),"nc"),"erreur tps")) | H129: =IF(E129="","",IF(AND(E129<=dernier,E129>=premier),IF((COUNTIF(C:E,E129))>1,"déjà saisi",E129),"inconnu"))

Sheet c7
A1: 7 | C1: Classement des filles de 3ème | G1: 2600 m
A3: Arrivée | B3: Nom | C3: Prénom | D3: Classe | E3: Dossard | F3: Temps | G3: Temps moyen | H3: Erreur
A4: 1 | B4: =VLOOKUP(E4,Dossard,2) -> DEMANGE | C4: =VLOOKUP(E4,Dossard,3) -> Caly | D4: =VLOOKUP(E4,Dossard,5) -> 3 C | E4: 368 | F4: 0.0075231481 | G4: =IF(F4="","",F4/VLOOKUP(E4,Dossard,6)) -> 0.0037615741 | H4: =IF(E4="","",IF(OR(E4>dernier,E4<premier),"inconnu",IF(VLOOKUP(E4,edition,7)=7,E4,"Erreur Course"))) -> 368
A5: =IF(OR(H5="inconnu",H5="déjà saisi",IF(F5="","FAUX",F5=F4)),A4,A4+1) -> 2 | B5: =VLOOKUP(E5,Dossard,2) -> FAGNOT | C5: =VLOOKUP(E5,Dossard,3) -> Chloé | D5: =VLOOKUP(E5,Dossard,5) -> 3 C | E5: 370 | F5: 0.0081828704 | G5: =IF(F5="","",F5/VLOOKUP(E5,Dossard,6)) -> 0.0040914352 | H5: =IF(E5="","",IF(OR(E5>dernier,E5<premier),"inconnu",IF(VLOOKUP(E5,edition,7)=7,E5,"Erreur Course"))) -> 370
A6: =IF(OR(H6="inconnu",H6="déjà saisi",IF(F6="","FAUX",F6=F5)),A5,A5+1) -> 3 | B6: =VLOOKUP(E6,Dossard,2) -> VILLEMIN | C6: =VLOOKUP(E6,Dossard,3) -> Chloé | D6: =VLOOKUP(E6,Dossard,5) -> 3 B | E6: 359 | F6: 0.0082523148 | G6: =IF(F6="","",F6/VLOOKUP(E6,Dossard,6)) -> 0.0041261574 | H6: =IF(E6="","",IF(OR(E6>dernier,E6<premier),"inconnu",IF(VLOOKUP(E6,edition,7)=7,E6,"Erreur Course"))) -> 359
A7: =IF(OR(H7="inconnu",H7="déjà saisi",IF(F7="","FAUX",F7=F6)),A6,A6+1) -> 4 | B7: =VLOOKUP(E7,Dossard,2) -> VALDENAIRE | C7: =VLOOKUP(E7,Dossard,3) -> Livia | D7: =VLOOKUP(E7,Dossard,5) -> 3 B | E7: 358 | F7: 0.0083796296 | G7: =IF(F7="","",F7/VLOOKUP(E7,Dossard,6)) -> 0.0041898148 | H7: =IF(E7="","",IF(OR(E7>dernier,E7<premier),"inconnu",IF(VLOOKUP(E7,edition,7)=7,E7,"Erreur Course"))) -> 358
A8: =IF(OR(H8="inconnu",H8="déjà saisi",IF(F8="","FAUX",F8=F7)),A7,A7+1) -> 5 | B8: =VLOOKUP(E8,Dossard,2) -> MOUGEL | C8: =VLOOKUP(E8,Dossard,3) -> Louisa | D8: =VLOOKUP(E8,Dossard,5) -> 3 B | E8: 351 | F8: 0.0085185185 | G8: =IF(F8="","",F8/VLOOKUP(E8,Dossard,6)) -> 0.0042592593 | H8: =IF(E8="","",IF(OR(E8>dernier,E8<premier),"inconnu",IF(VLOOKUP(E8,edition,7)=7,E8,"Erreur Course"))) -> 351
A9: =IF(OR(H9="inconnu",H9="déjà saisi",IF(F9="","FAUX",F9=F8)),A8,A8+1) -> 6 | B9: =VLOOKUP(E9,Dossard,2) -> JEANNIN | C9: =VLOOKUP(E9,Dossard,3) -> Juliette | D9: =VLOOKUP(E9,Dossard,5) -> 3 B | E9: 346 | F9: 0.008599537 | G9: =IF(F9="","",F9/VLOOKUP(E9,Dossard,6)) -> 0.0042997685 | H9: =IF(E9="","",IF(OR(E9>dernier,E9<premier),"inconnu",IF(VLOOKUP(E9,edition,7)=7,E9,"Erreur Course"))) -> 346
A10: =IF(OR(H10="inconnu",H10="déjà saisi",IF(F10="","FAUX",F10=F9)),A9,A9+1) -> 7 | B10: =VLOOKUP(E10,Dossard,2) -> DASSEUX | C10: =VLOOKUP(E10,Dossard,3) -> Constance | D10: =VLOOKUP(E10,Dossard,5) -> 3 D | E10: 394 | F10: 0.0086921296 | G10: =IF(F10="","",F10/VLOOKUP(E10,Dossard,6)) -> 0.0043460648 | H10: =IF(E10="","",IF(OR(E10>dernier,E10<premier),"inconnu",IF(VLOOKUP(E10,edition,7)=7,E10,"Erreur Course"))) -> 394
A11: =IF(OR(H11="inconnu",H11="déjà saisi",IF(F11="","FAUX",F11=F10)),A10,A10+1) -> 8 | B11: =VLOOKUP(E11,Dossard,2) -> FIXARIS | C11: =VLOOKUP(E11,Dossard,3) -> Elsa | D11: =VLOOKUP(E11,Dossard,5) -> 3 A | E11: 321 | F11: 0.0087268519 | G11: =IF(F11="","",F11/VLOOKUP(E11,Dossard,6)) -> 0.0043634259 | H11: =IF(E11="","",IF(OR(E11>dernier,E11<premier),"inconnu",IF(VLOOKUP(E11,edition,7)=7,E11,"Erreur Course"))) -> 321
A12: =IF(OR(H12="inconnu",H12="déjà saisi",IF(F12="","FAUX",F12=F11)),A11,A11+1) -> 9 | B12: =VLOOKUP(E12,Dossard,2) -> AKTAS | C12: =VLOOKUP(E12,Dossard,3) -> Ceyda | D12: =VLOOKUP(E12,Dossard,5) -> 3 D | E12: 389 | F12: 0.0089351852 | G12: =IF(F12="","",F12/VLOOKUP(E12,Dossard,6)) -> 0.0044675926 | H12: =IF(E12="","",IF(OR(E12>dernier,E12<premier),"inconnu",IF(VLOOKUP(E12,edition,7)=7,E12,"Erreur Course"))) -> 389
A13: =IF(OR(H13="inconnu",H13="déjà saisi",IF(F13="","FAUX",F13=F12)),A12,A12+1) -> 10 | B13: =VLOOKUP(E13,Dossard,2) -> DEFRANOUX | C13: =VLOOKUP(E13,Dossard,3) -> Maëlle | D13: =VLOOKUP(E13,Dossard,5) -> 3 A | E13: 319 | F13: 0.0090277778 | G13: =IF(F13="","",F13/VLOOKUP(E13,Dossard,6)) -> 0.0045138889 | H13: =IF(E13="","",IF(OR(E13>dernier,E13<premier),"inconnu",IF(VLOOKUP(E13,edition,7)=7,E13,"Erreur Course"))) -> 319
A14: =IF(OR(H14="inconnu",H14="déjà saisi",IF(F14="","FAUX",F14=F13)),A13,A13+1) -> 11 | B14: =VLOOKUP(E14,Dossard,2) -> HOEIJMAKERS | C14: =VLOOKUP(E14,Dossard,3) -> Amélie Lorraine | D14: =VLOOKUP(E14,Dossard,5) -> 3 C | E14: 371 | F14: 0.0090625 | G14: =IF(F14="","",F14/VLOOKUP(E14,Dossard,6)) -> 0.00453125 | H14: =IF(E14="","",IF(OR(E14>dernier,E14<premier),"inconnu",IF(VLOOKUP(E14,edition,7)=7,E14,"Erreur Course"))) -> 371
A15: =IF(OR(H15="inconnu",H15="déjà saisi",IF(F15="","FAUX",F15=F14)),A14,A14+1) -> 12 | B15: =VLOOKUP(E15,Dossard,2) -> HENRY | C15: =VLOOKUP(E15,Dossard,3) -> Nora | D15: =VLOOKUP(E15,Dossard,5) -> 3 B | E15: 344 | F15: 0.0090972222 | G15: =IF(F15="","",F15/VLOOKUP(E15,Dossard,6)) -> 0.0045486111 | H15: =IF(E15="","",IF(OR(E15>dernier,E15<premier),"inconnu",IF(VLOOKUP(E15,edition,7)=7,E15,"Erreur Course"))) -> 344
A16: =IF(OR(H16="inconnu",H16="déjà saisi",IF(F16="","FAUX",F16=F15)),A15,A15+1) -> 13 | B16: =VLOOKUP(E16,Dossard,2) -> CLAUDE | C16: =VLOOKUP(E16,Dossard,3) -> Océane | D16: =VLOOKUP(E16,Dossard,5) -> 3 C | E16: 365 | F16: 0.0091319444 | G16: =IF(F16="","",F16/VLOOKUP(E16,Dossard,6)) -> 0.0045659722 | H16: =IF(E16="","",IF(OR(E16>dernier,E16<premier),"inconnu",IF(VLOOKUP(E16,edition,7)=7,E16,"Erreur Course"))) -> 365
... A61: =IF(OR(H61="inconnu",H61="déjà saisi",IF(F61="","FAUX",F61=F60)),A60,A60+1) -> 58 | B61: =VLOOKUP(E61,Dossard,2) -> AUDINOT | C61: =VLOOKUP(E61,Dossard,3) -> Maëlys | D61: =VLOOKUP(E61,Dossard,5) -> 3 E | E61: 415 | F61: 0.016539352 | G61: =IF(F61="","",F61/VLOOKUP(E61,Dossard,6)) -> 0.0082696759 | H61: =IF(E61="","",IF(OR(E61>dernier,E61<premier),"inconnu",IF(VLOOKUP(E61,edition,7)=7,E61,"Erreur Course"))) -> 415
A62: =IF(OR(H62="inconnu",H62="déjà saisi",IF(F62="","FAUX",F62=F61)),A61,A61+1) -> 59 | B62: =VLOOKUP(E62,Dossard,2) -> #N/A | C62: =VLOOKUP(E62,Dossard,3) -> #N/A | D62: =VLOOKUP(E62,Dossard,5) -> #N/A | G62: =IF(F62="","",F62/VLOOKUP(E62,Dossard,6)) | H62: =IF(E62="","",IF(OR(E62>dernier,E62<premier),"inconnu",IF(VLOOKUP(E62,edition,7)=7,E62,"Erreur Course")))
A63: =IF(OR(H63="inconnu",H63="déjà saisi",IF(F63="","FAUX",F63=F62)),A62,A62+1) -> 60 | B63: =VLOOKUP(E63,Dossard,2) -> #N/A | C63: =VLOOKUP(E63,Dossard,3) -> #N/A | D63: =VLOOKUP(E63,Dossard,5) -> #N/A | G63: =IF(F63="","",F63/VLOOKUP(E63,Dossard,6)) | H63: =IF(E63="","",IF(OR(E63>dernier,E63<premier),"inconnu",IF(VLOOKUP(E63,edition,7)=7,E63,"Erreur Course")))
A64: =IF(OR(H64="inconnu",H64="déjà saisi",IF(F64="","FAUX",F64=F63)),A63,A63+1) -> 61 | B64: =VLOOKUP(E64,Dossard,2) -> #N/A | C64: =VLOOKUP(E64,Dossard,3) -> #N/A | D64: =VLOOKUP(E64,Dossard,5) -> #N/A | G64: =IF(F64="","",F64/VLOOKUP(E64,Dossard,6)) | H64: =IF(E64="","",IF(OR(E64>dernier,E64<premier),"inconnu",IF(VLOOKUP(E64,edition,7)=7,E64,"Erreur Course")))
A65: =IF(OR(H65="inconnu",H65="déjà saisi",IF(F65="","FAUX",F65=F64)),A64,A64+1) -> 62 | B65: =VLOOKUP(E65,Dossard,2) -> #N/A | C65: =VLOOKUP(E65,Dossard,3) -> #N/A | D65: =VLOOKUP(E65,Dossard,5) -> #N/A | G65: =IF(F65="","",F65/VLOOKUP(E65,Dossard,6)) | H65: =IF(E65="","",IF(OR(E65>dernier,E65<premier),"inconnu",IF(VLOOKUP(E65,edition,7)=7,E65,"Erreur Course")))
A66: =IF(OR(H66="inconnu",H66="déjà saisi",IF(F66="","FAUX",F66=F65)),A65,A65+1) -> 63 | B66: =VLOOKUP(E66,Dossard,2) -> #N/A | C66: =VLOOKUP(E66,Dossard,3) -> #N/A | D66: =VLOOKUP(E66,Dossard,5) -> #N/A | G66: =IF(F66="","",F66/VLOOKUP(E66,Dossard,6)) | H66: =IF(E66="","",IF(OR(E66>dernier,E66<premier),"inconnu",IF(VLOOKUP(E66,edition,7)=7,E66,"Erreur Course")))
A67: =IF(OR(H67="inconnu",H67="déjà saisi",IF(F67="","FAUX",F67=F66)),A66,A66+1) -> 64 | B67: =VLOOKUP(E67,Dossard,2) -> #N/A | C67: =VLOOKUP(E67,Dossard,3) -> #N/A | D67: =VLOOKUP(E67,Dossard,5) -> #N/A | G67: =IF(F67="","",F67/VLOOKUP(E67,Dossard,6)) | H67: =IF(E67="","",IF(OR(E67>dernier,E67<premier),"inconnu",IF(VLOOKUP(E67,edition,7)=7,E67,"Erreur Course")))
A68: =IF(OR(H68="inconnu",H68="déjà saisi",IF(F68="","FAUX",F68=F67)),A67,A67+1) -> 65 | B68: =VLOOKUP(E68,Dossard,2) -> #N/A | C68: =VLOOKUP(E68,Dossard,3) -> #N/A | D68: =VLOOKUP(E68,Dossard,5) -> #N/A | G68: =IF(F68="","",F68/VLOOKUP(E68,Dossard,6)) | H68: =IF(E68="","",IF(OR(E68>dernier,E68<premier),"inconnu",IF(VLOOKUP(E68,edition,7)=7,E68,"Erreur Course")))
A69: =IF(OR(H69="inconnu",H69="déjà saisi",IF(F69="","FAUX",F69=F68)),A68,A68+1) -> 66 | B69: =VLOOKUP(E69,Dossard,2) -> #N/A | C69: =VLOOKUP(E69,Dossard,3) -> #N/A | D69: =VLOOKUP(E69,Dossard,5) -> #N/A | G69: =IF(F69="","",F69/VLOOKUP(E69,Dossard,6)) | H69: =IF(E69="","",IF(OR(E69>dernier,E69<premier),"inconnu",IF(VLOOKUP(E69,edition,7)=7,E69,"Erreur Course")))
A70: =IF(OR(H70="inconnu",H70="déjà saisi",IF(F70="","FAUX",F70=F69)),A69,A69+1) -> 67 | B70: =VLOOKUP(E70,Dossard,2) -> #N/A | C70: =VLOOKUP(E70,Dossard,3) -> #N/A | D70: =VLOOKUP(E70,Dossard,5) -> #N/A | G70: =IF(F70="","",F70/VLOOKUP(E70,Dossard,6)) | H70: =IF(E70="","",IF(OR(E70>dernier,E70<premier),"inconnu",IF(VLOOKUP(E70,edition,7)=7,E70,"Erreur Course")))
A71: =IF(OR(H71="inconnu",H71="déjà saisi",IF(F71="","FAUX",F71=F70)),A70,A70+1) -> 68 | B71: =VLOOKUP(E71,Dossard,2) -> #N/A | C71: =VLOOKUP(E71,Dossard,3) -> #N/A | D71: =VLOOKUP(E71,Dossard,5) -> #N/A | G71: =IF(F71="","",F71/VLOOKUP(E71,Dossard,6)) | H71: =IF(E71="","",IF(OR(E71>dernier,E71<premier),"inconnu",IF(VLOOKUP(E71,edition,7)=7,E71,"Erreur Course")))
A72: =IF(OR(H72="inconnu",H72="déjà saisi",IF(F72="","FAUX",F72=F71)),A71,A71+1) -> 69 | B72: =VLOOKUP(E72,Dossard,2) -> #N/A | C72: =VLOOKUP(E72,Dossard,3) -> #N/A | D72: =VLOOKUP(E72,Dossard,5) -> #N/A | G72: =IF(F72="","",F72/VLOOKUP(E72,Dossard,6)) | H72: =IF(E72="","",IF(OR(E72>dernier,E72<premier),"inconnu",IF(VLOOKUP(E72,edition,7)=7,E72,"Erreur Course")))
A73: =IF(OR(H73="inconnu",H73="déjà saisi",IF(F73="","FAUX",F73=F72)),A72,A72+1) -> 70 | B73: =VLOOKUP(E73,Dossard,2) -> #N/A | C73: =VLOOKUP(E73,Dossard,3) -> #N/A | D73: =VLOOKUP(E73,Dossard,5) -> #N/A | G73: =IF(F73="","",F73/VLOOKUP(E73,Dossard,6)) | H73: =IF(E73="","",IF(OR(E73>dernier,E73<premier),"inconnu",IF(VLOOKUP(E73,edition,7)=7,E73,"Erreur Course")))
... A104: =IF(OR(H104="inconnu",H104="déjà saisi",IF(F104="","FAUX",F104=F103)),A103,A103+1) -> 101 | B104: =VLOOKUP(E104,Dossard,2) -> #N/A | C104: =VLOOKUP(E104,Dossard,3) -> #N/A | D104: =VLOOKUP(E104,Dossard,5) -> #N/A | G104: =IF(F104="","",F104/VLOOKUP(E104,Dossard,6)) | H104: =IF(E104="","",IF(OR(E104>dernier,E104<premier),"inconnu",IF(VLOOKUP(E104,edition,7)=7,E104,"Erreur Course")))

Sheet c8
A1: 8 | C1: Classement des garçons de 3ème | G1: 3900 m
A3: Arrivée | B3: Nom | C3: Prénom | D3: Classe | E3: Dossard | F3: Temps | G3: Temps moyen | H3: Erreur
A4: 1 | B4: =VLOOKUP(E4,Dossard,2) -> HUMBERTCLAUDE | C4: =VLOOKUP(E4,Dossard,3) -> Jules | D4: =VLOOKUP(E4,Dossard,5) -> 3 B | E4: 345 | F4: 0.01005787 | G4: =IF(F4="","",F4/VLOOKUP(E4,Dossard,6)) -> 0.0033526235 | H4: =IF(E4="","",IF(OR(E4>dernier,E4<premier),"inconnu",IF(VLOOKUP(E4,edition,7)=8,E4,"Erreur Course"))) -> 345
A5: =IF(OR(H5="inconnu",H5="déjà saisi",IF(F5="","FAUX",F5=F4)),A4,A4+1) -> 2 | B5: =VLOOKUP(E5,Dossard,2) -> COMISI | C5: =VLOOKUP(E5,Dossard,3) -> Lucien | D5: =VLOOKUP(E5,Dossard,5) -> 3 C | E5: 367 | F5: 0.010509259 | G5: =IF(F5="","",F5/VLOOKUP(E5,Dossard,6)) -> 0.0035030864 | H5: =IF(E5="","",IF(OR(E5>dernier,E5<premier),"inconnu",IF(VLOOKUP(E5,edition,7)=8,E5,"Erreur Course"))) -> 367
A6: =IF(OR(H6="inconnu",H6="déjà saisi",IF(F6="","FAUX",F6=F5)),A5,A5+1) -> 3 | B6: =VLOOKUP(E6,Dossard,2) -> ROSAYE | C6: =VLOOKUP(E6,Dossard,3) -> Nathan | D6: =VLOOKUP(E6,Dossard,5) -> 3 A | E6: 331 | F6: 0.010844907 | G6: =IF(F6="","",F6/VLOOKUP(E6,Dossard,6)) -> 0.0036149691 | H6: =IF(E6="","",IF(OR(E6>dernier,E6<premier),"inconnu",IF(VLOOKUP(E6,edition,7)=8,E6,"Erreur Course"))) -> 331
A7: =IF(OR(H7="inconnu",H7="déjà saisi",IF(F7="","FAUX",F7=F6)),A6,A6+1) -> 4 | B7: =VLOOKUP(E7,Dossard,2) -> RADU | C7: =VLOOKUP(E7,Dossard,3) -> Milan | D7: =VLOOKUP(E7,Dossard,5) -> 3 B | E7: 353 | F7: 0.010925926 | G7: =IF(F7="","",F7/VLOOKUP(E7,Dossard,6)) -> 0.0036419753 | H7: =IF(E7="","",IF(OR(E7>dernier,E7<premier),"inconnu",IF(VLOOKUP(E7,edition,7)=8,E7,"Erreur Course"))) -> 353
A8: =IF(OR(H8="inconnu",H8="déjà saisi",IF(F8="","FAUX",F8=F7)),A7,A7+1) -> 5 | B8: =VLOOKUP(E8,Dossard,2) -> BERDAL | C8: =VLOOKUP(E8,Dossard,3) -> Robin | D8: =VLOOKUP(E8,Dossard,5) -> 3 A | E8: 311 | F8: 0.010972222 | G8: =IF(F8="","",F8/VLOOKUP(E8,Dossard,6)) -> 0.0036574074 | H8: =IF(E8="","",IF(OR(E8>dernier,E8<premier),"inconnu",IF(VLOOKUP(E8,edition,7)=8,E8,"Erreur Course"))) -> 311
A9: =IF(OR(H9="inconnu",H9="déjà saisi",IF(F9="","FAUX",F9=F8)),A8,A8+1) -> 6 | B9: =VLOOKUP(E9,Dossard,2) -> GENET | C9: =VLOOKUP(E9,Dossard,3) -> Enzo | D9: =VLOOKUP(E9,Dossard,5) -> 3 A | E9: 322 | F9: 0.011261574 | G9: =IF(F9="","",F9/VLOOKUP(E9,Dossard,6)) -> 0.003753858 | H9: =IF(E9="","",IF(OR(E9>dernier,E9<premier),"inconnu",IF(VLOOKUP(E9,edition,7)=8,E9,"Erreur Course"))) -> 322
A10: =IF(OR(H10="inconnu",H10="déjà saisi",IF(F10="","FAUX",F10=F9)),A9,A9+1) -> 7 | B10: =VLOOKUP(E10,Dossard,2) -> TISSERAND | C10: =VLOOKUP(E10,Dossard,3) -> Solan | D10: =VLOOKUP(E10,Dossard,5) -> 3 C | E10: 383 | F10: 0.011527778 | G10: =IF(F10="","",F10/VLOOKUP(E10,Dossard,6)) -> 0.0038425926 | H10: =IF(E10="","",IF(OR(E10>dernier,E10<premier),"inconnu",IF(VLOOKUP(E10,edition,7)=8,E10,"Erreur Course"))) -> 383
A11: =IF(OR(H11="inconnu",H11="déjà saisi",IF(F11="","FAUX",F11=F10)),A10,A10+1) -> 8 | B11: =VLOOKUP(E11,Dossard,2) -> KOUMMA | C11: =VLOOKUP(E11,Dossard,3) -> Hamid | D11: =VLOOKUP(E11,Dossard,5) -> 3 D | E11: 401 | F11: 0.011585648 | G11: =IF(F11="","",F11/VLOOKUP(E11,Dossard,6)) -> 0.0038618827 | H11: =IF(E11="","",IF(OR(E11>dernier,E11<premier),"inconnu",IF(VLOOKUP(E11,edition,7)=8,E11,"Erreur Course"))) -> 401
A12: =IF(OR(H12="inconnu",H12="déjà saisi",IF(F12="","FAUX",F12=F11)),A11,A11+1) -> 9 | B12: =VLOOKUP(E12,Dossard,2) -> GHRIBI | C12: =VLOOKUP(E12,Dossard,3) -> Zakaria | D12: =VLOOKUP(E12,Dossard,5) -> 3 B | E12: 341 | F12: 0.011712963 | G12: =IF(F12="","",F12/VLOOKUP(E12,Dossard,6)) -> 0.003904321 | H12: =IF(E12="","",IF(OR(E12>dernier,E12<premier),"inconnu",IF(VLOOKUP(E12,edition,7)=8,E12,"Erreur Course"))) -> 341
A13: =IF(OR(H13="inconnu",H13="déjà saisi",IF(F13="","FAUX",F13=F12)),A12,A12+1) -> 10 | B13: =VLOOKUP(E13,Dossard,2) -> NIZAR | C13: =VLOOKUP(E13,Dossard,3) -> Bilal | D13: =VLOOKUP(E13,Dossard,5) -> 3 D | E13: 409 | F13: 0.011805556 | G13: =IF(F13="","",F13/VLOOKUP(E13,Dossard,6)) -> 0.0039351852 | H13: =IF(E13="","",IF(OR(E13>dernier,E13<premier),"inconnu",IF(VLOOKUP(E13,edition,7)=8,E13,"Erreur Course"))) -> 409
A14: =IF(OR(H14="inconnu",H14="déjà saisi",IF(F14="","FAUX",F14=F13)),A13,A13+1) -> 11 | B14: =VLOOKUP(E14,Dossard,2) -> RICHARD | C14: =VLOOKUP(E14,Dossard,3) -> Natéo | D14: =VLOOKUP(E14,Dossard,5) -> 3 B | E14: 355 | F14: 0.011898148 | G14: =IF(F14="","",F14/VLOOKUP(E14,Dossard,6)) -> 0.0039660494 | H14: =IF(E14="","",IF(OR(E14>dernier,E14<premier),"inconnu",IF(VLOOKUP(E14,edition,7)=8,E14,"Erreur Course"))) -> 355
A15: =IF(OR(H15="inconnu",H15="déjà saisi",IF(F15="","FAUX",F15=F14)),A14,A14+1) -> 12 | B15: =VLOOKUP(E15,Dossard,2) -> CHONAVEL | C15: =VLOOKUP(E15,Dossard,3) -> Sacha | D15: =VLOOKUP(E15,Dossard,5) -> 3 A | E15: 316 | F15: 0.012025463 | G15: =IF(F15="","",F15/VLOOKUP(E15,Dossard,6)) -> 0.0040084877 | H15: =IF(E15="","",IF(OR(E15>dernier,E15<premier),"inconnu",IF(VLOOKUP(E15,edition,7)=8,E15,"Erreur Course"))) -> 316
A16: =IF(OR(H16="inconnu",H16="déjà saisi",IF(F16="","FAUX",F16=F15)),A15,A15+1) -> 13 | B16: =VLOOKUP(E16,Dossard,2) -> BETBEDER-MATIBET | C16: =VLOOKUP(E16,Dossard,3) -> Gabriel | D16: =VLOOKUP(E16,Dossard,5) -> 3 A | E16: 312 | F16: 0.012164352 | G16: =IF(F16="","",F16/VLOOKUP(E16,Dossard,6)) -> 0.004054784 | H16: =IF(E16="","",IF(OR(E16>dernier,E16<premier),"inconnu",IF(VLOOKUP(E16,edition,7)=8,E16,"Erreur Course"))) -> 312
... A47: =IF(OR(H47="inconnu",H47="déjà saisi",IF(F47="","FAUX",F47=F46)),A46,A46+1) -> 44 | B47: =VLOOKUP(E47,Dossard,2) -> SCHELCHER | C47: =VLOOKUP(E47,Dossard,3) -> Théo | D47: =VLOOKUP(E47,Dossard,5) -> 3 E | E47: 421 | F47: 0.024305556 | G47: =IF(F47="","",F47/VLOOKUP(E47,Dossard,6)) -> 0.0081018519 | H47: =IF(E47="","",IF(OR(E47>dernier,E47<premier),"inconnu",IF(VLOOKUP(E47,edition,7)=8,E47,"Erreur Course"))) -> 421
A48: =IF(OR(H48="inconnu",H48="déjà saisi",IF(F48="","FAUX",F48=F47)),A47,A47+1) -> 45 | B48: =VLOOKUP(E48,Dossard,2) -> #N/A | C48: =VLOOKUP(E48,Dossard,3) -> #N/A | D48: =VLOOKUP(E48,Dossard,5) -> #N/A | G48: =IF(F48="","",F48/VLOOKUP(E48,Dossard,6)) | H48: =IF(E48="","",IF(OR(E48>dernier,E48<premier),"inconnu",IF(VLOOKUP(E48,edition,7)=8,E48,"Erreur Course")))
A49: =IF(OR(H49="inconnu",H49="déjà saisi",IF(F49="","FAUX",F49=F48)),A48,A48+1) -> 46 | B49: =VLOOKUP(E49,Dossard,2) -> #N/A | C49: =VLOOKUP(E49,Dossard,3) -> #N/A | D49: =VLOOKUP(E49,Dossard,5) -> #N/A | G49: =IF(F49="","",F49/VLOOKUP(E49,Dossard,6)) | H49: =IF(E49="","",IF(OR(E49>dernier,E49<premier),"inconnu",IF(VLOOKUP(E49,edition,7)=8,E49,"Erreur Course")))
A50: =IF(OR(H50="inconnu",H50="déjà saisi",IF(F50="","FAUX",F50=F49)),A49,A49+1) -> 47 | B50: =VLOOKUP(E50,Dossard,2) -> #N/A | C50: =VLOOKUP(E50,Dossard,3) -> #N/A | D50: =VLOOKUP(E50,Dossard,5) -> #N/A | G50: =IF(F50="","",F50/VLOOKUP(E50,Dossard,6)) | H50: =IF(E50="","",IF(OR(E50>dernier,E50<premier),"inconnu",IF(VLOOKUP(E50,edition,7)=8,E50,"Erreur Course")))
A51: =IF(OR(H51="inconnu",H51="déjà saisi",IF(F51="","FAUX",F51=F50)),A50,A50+1) -> 48 | B51: =VLOOKUP(E51,Dossard,2) -> #N/A | C51: =VLOOKUP(E51,Dossard,3) -> #N/A | D51: =VLOOKUP(E51,Dossard,5) -> #N/A | G51: =IF(F51="","",F51/VLOOKUP(E51,Dossard,6)) | H51: =IF(E51="","",IF(OR(E51>dernier,E51<premier),"inconnu",IF(VLOOKUP(E51,edition,7)=8,E51,"Erreur Course")))
A52: =IF(OR(H52="inconnu",H52="déjà saisi",IF(F52="","FAUX",F52=F51)),A51,A51+1) -> 49 | B52: =VLOOKUP(E52,Dossard,2) -> #N/A | C52: =VLOOKUP(E52,Dossard,3) -> #N/A | D52: =VLOOKUP(E52,Dossard,5) -> #N/A | G52: =IF(F52="","",F52/VLOOKUP(E52,Dossard,6)) | H52: =IF(E52="","",IF(OR(E52>dernier,E52<premier),"inconnu",IF(VLOOKUP(E52,edition,7)=8,E52,"Erreur Course")))
A53: =IF(OR(H53="inconnu",H53="déjà saisi",IF(F53="","FAUX",F53=F52)),A52,A52+1) -> 50 | B53: =VLOOKUP(E53,Dossard,2) -> #N/A | C53: =VLOOKUP(E53,Dossard,3) -> #N/A | D53: =VLOOKUP(E53,Dossard,5) -> #N/A | G53: =IF(F53="","",F53/VLOOKUP(E53,Dossard,6)) | H53: =IF(E53="","",IF(OR(E53>dernier,E53<premier),"inconnu",IF(VLOOKUP(E53,edition,7)=8,E53,"Erreur Course")))
A54: =IF(OR(H54="inconnu",H54="déjà saisi",IF(F54="","FAUX",F54=F53)),A53,A53+1) -> 51 | B54: =VLOOKUP(E54,Dossard,2) -> #N/A | C54: =VLOOKUP(E54,Dossard,3) -> #N/A | D54: =VLOOKUP(E54,Dossard,5) -> #N/A | G54: =IF(F54="","",F54/VLOOKUP(E54,Dossard,6)) | H54: =IF(E54="","",IF(OR(E54>dernier,E54<premier),"inconnu",IF(VLOOKUP(E54,edition,7)=8,E54,"Erreur Course")))
A55: =IF(OR(H55="inconnu",H55="déjà saisi",IF(F55="","FAUX",F55=F54)),A54,A54+1) -> 52 | B55: =VLOOKUP(E55,Dossard,2) -> #N/A | C55: =VLOOKUP(E55,Dossard,3) -> #N/A | D55: =VLOOKUP(E55,Dossard,5) -> #N/A | G55: =IF(F55="","",F55/VLOOKUP(E55,Dossard,6)) | H55: =IF(E55="","",IF(OR(E55>dernier,E55<premier),"inconnu",IF(VLOOKUP(E55,edition,7)=8,E55,"Erreur Course")))
A56: =IF(OR(H56="inconnu",H56="déjà saisi",IF(F56="","FAUX",F56=F55)),A55,A55+1) -> 53 | B56: =VLOOKUP(E56,Dossard,2) -> #N/A | C56: =VLOOKUP(E56,Dossard,3) -> #N/A | D56: =VLOOKUP(E56,Dossard,5) -> #N/A | G56: =IF(F56="","",F56/VLOOKUP(E56,Dossard,6)) | H56: =IF(E56="","",IF(OR(E56>dernier,E56<premier),"inconnu",IF(VLOOKUP(E56,edition,7)=8,E56,"Erreur Course")))
A57: =IF(OR(H57="inconnu",H57="déjà saisi",IF(F57="","FAUX",F57=F56)),A56,A56+1) -> 54 | B57: =VLOOKUP(E57,Dossard,2) -> #N/A | C57: =VLOOKUP(E57,Dossard,3) -> #N/A | D57: =VLOOKUP(E57,Dossard,5) -> #N/A | G57: =IF(F57="","",F57/VLOOKUP(E57,Dossard,6)) | H57: =IF(E57="","",IF(OR(E57>dernier,E57<premier),"inconnu",IF(VLOOKUP(E57,edition,7)=8,E57,"Erreur Course")))
A58: =IF(OR(H58="inconnu",H58="déjà saisi",IF(F58="","FAUX",F58=F57)),A57,A57+1) -> 55 | B58: =VLOOKUP(E58,Dossard,2) -> #N/A | C58: =VLOOKUP(E58,Dossard,3) -> #N/A | D58: =VLOOKUP(E58,Dossard,5) -> #N/A | G58: =IF(F58="","",F58/VLOOKUP(E58,Dossard,6)) | H58: =IF(E58="","",IF(OR(E58>dernier,E58<premier),"inconnu",IF(VLOOKUP(E58,edition,7)=8,E58,"Erreur Course")))
A59: =IF(OR(H59="inconnu",H59="déjà saisi",IF(F59="","FAUX",F59=F58)),A58,A58+1) -> 56 | B59: =VLOOKUP(E59,Dossard,2) -> #N/A | C59: =VLOOKUP(E59,Dossard,3) -> #N/A | D59: =VLOOKUP(E59,Dossard,5) -> #N/A | G59: =IF(F59="","",F59/VLOOKUP(E59,Dossard,6)) | H59: =IF(E59="","",IF(OR(E59>dernier,E59<premier),"inconnu",IF(VLOOKUP(E59,edition,7)=8,E59,"Erreur Course")))
... A104: =IF(OR(H104="inconnu",H104="déjà saisi",IF(F104="","FAUX",F104=F103)),A103,A103+1) -> 101 | B104: =VLOOKUP(E104,Dossard,2) -> #N/A | C104: =VLOOKUP(E104,Dossard,3) -> #N/A | D104: =VLOOKUP(E104,Dossard,5) -> #N/A | G104: =IF(F104="","",F104/VLOOKUP(E104,Dossard,6)) | H104: =IF(E104="","",IF(OR(E104>dernier,E104<premier),"inconnu",IF(VLOOKUP(E104,edition,7)=8,E104,"Erreur Course")))
A105: =IF(OR(H105="inconnu",H105="déjà saisi",IF(F105="","FAUX",F105=F104)),A104,A104+1) -> 102
A106: =IF(OR(H106="inconnu",H106="déjà saisi",IF(F106="","FAUX",F106=F105)),A105,A105+1) -> 103

Sheet challenge
A1: Cross du collège CHARLET - Vendredi 16 Octobre 2026
A2: Résultats du challenge par classes
A3: Classement 6ème | H3: Classement 5ème
A4: Rang | B4: Classes | C4: Nb part. | D4: Nb cpt | E4: Effectif cl | F4: Tps moyen/tour | H4: Rang | I4: Classes | J4: Nb part. | K4: Nb cpt | L4: Effectif cl | M4: Tps moyen/tour
A5: =IF(F5<>"",RANK(F5,tps6emeseuls,1),"") -> 1 | B5: 6 A | C5: =SUMIFS(tabl_couru,tabl_tout_classes,B5) -> 21 | D5: =COUNTIF(tabl_classes,challenge!B5) -> 21 | E5: =COUNTIF(tabl_tout_classes,B5) -> 22 | F5: =IF(C5=0,"",SUMIFS(tabl_temps,tabl_classes,B5)/D5) -> 0.0050066138 | H5: =IF(M5<>"",RANK(M5,temps5eme,1),"") -> 3 | I5: 5 A | J5: =SUMIFS(tabl_couru,tabl_tout_classes,I5) -> 19 | K5: =COUNTIF(tabl_classes,challenge!I5) -> 20 | L5: =COUNTIF(tabl_tout_classes,I5) -> 24 | M5: =IF(J5=0,"",SUMIFS(tabl_temps,tabl_classes,I5)/K5) -> 0.0055462963
A6: =IF(F6<>"",RANK(F6,tps6emeseuls,1),"") -> 3 | B6: 6 B | C6: =SUMIFS(tabl_couru,tabl_tout_classes,B6) -> 17 | D6: =COUNTIF(tabl_classes,challenge!B6) -> 18 | E6: =COUNTIF(tabl_tout_classes,B6) -> 23 | F6: =IF(C6=0,"",SUMIFS(tabl_temps,tabl_classes,B6)/D6) -> 0.0054989712 | H6: =IF(M6<>"",RANK(M6,temps5eme,1),"") -> 1 | I6: 5 B | J6: =SUMIFS(tabl_couru,tabl_tout_classes,I6) -> 24 | K6: =COUNTIF(tabl_classes,challenge!I6) -> 24 | L6: =COUNTIF(tabl_tout_classes,I6) -> 25 | M6: =IF(J6=0,"",SUMIFS(tabl_temps,tabl_classes,I6)/K6) -> 0.0053464988
A7: =IF(F7<>"",RANK(F7,tps6emeseuls,1),"") -> 2 | B7: 6 C | C7: =SUMIFS(tabl_couru,tabl_tout_classes,B7) -> 23 | D7: =COUNTIF(tabl_classes,challenge!B7) -> 23 | E7: =COUNTIF(tabl_tout_classes,B7) -> 24 | F7: =IF(C7=0,"",SUMIFS(tabl_temps,tabl_classes,B7)/D7) -> 0.0053517512 | H7: =IF(M7<>"",RANK(M7,temps5eme,1),"") -> 2 | I7: 5 C | J7: =SUMIFS(tabl_couru,tabl_tout_classes,I7) -> 18 | K7: =COUNTIF(tabl_classes,challenge!I7) -> 21 | L7: =COUNTIF(tabl_tout_classes,I7) -> 24 | M7: =IF(J7=0,"",SUMIFS(tabl_temps,tabl_classes,I7)/K7) -> 0.0055354387
A8: =IF(F8<>"",RANK(F8,tps6emeseuls,1),"") -> 4 | B8: 6 D | C8: =SUMIFS(tabl_couru,tabl_tout_classes,B8) -> 16 | D8: =COUNTIF(tabl_classes,challenge!B8) -> 16 | E8: =COUNTIF(tabl_tout_classes,B8) -> 18 | F8: =IF(C8=0,"",SUMIFS(tabl_temps,tabl_classes,B8)/D8) -> 0.0057501447 | H8: =IF(M8<>"",RANK(M8,temps5eme,1),"") -> 4 | I8: 5 D | J8: =SUMIFS(tabl_couru,tabl_tout_classes,I8) -> 16 | K8: =COUNTIF(tabl_classes,challenge!I8) -> 25 | L8: =COUNTIF(tabl_tout_classes,I8) -> 25 | M8: =IF(J8=0,"",SUMIFS(tabl_temps,tabl_classes,I8)/K8) -> 0.0064145833
H9: =IF(M9<>"",RANK(M9,temps5eme,1),"") -> 5 | I9: 5 E | J9: =SUMIFS(tabl_couru,tabl_tout_classes,I9) -> 13 | K9: =COUNTIF(tabl_classes,challenge!I9) -> 14 | L9: =COUNTIF(tabl_tout_classes,I9) -> 16 | M9: =IF(J9=0,"",SUMIFS(tabl_temps,tabl_classes,I9)/K9) -> 0.0068171296
A11: Classement 4ème | H11: Classement 3ème
A12: Rang | B12: Classes | C12: Nb part. | D12: Nb cpt | E12: Effectif cl | F12: Tps moyen/tour | H12: Rang | I12: Classes | J12: Nb part. | K12: Nb cpt | L12: Effectif cl | M12: Tps moyen/tour
A13: =IF(F13<>"",RANK(F13,temps4eme,1),"") -> 2 | B13: 4 A | C13: =SUMIFS(tabl_couru,tabl_tout_classes,B13) -> 22 | D13: =COUNTIF(tabl_classes,challenge!B13) -> 22 | E13: =COUNTIF(tabl_tout_classes,B13) -> 25 | F13: =IF(C13=0,"",SUMIFS(tabl_temps,tabl_classes,B13)/D13) -> 0.0047682555 | H13: =IF(M13<>"",RANK(M13,temps3eme,1),"") -> 2 | I13: 3 A | J13: =SUMIFS(tabl_couru,tabl_tout_classes,I13) -> 20 | K13: =COUNTIF(tabl_classes,challenge!I13) -> 22 | L13: =COUNTIF(tabl_tout_classes,I13) -> 24 | M13: =IF(J13=0,"",SUMIFS(tabl_temps,tabl_classes,I13)/K13) -> 0.0048697917
A14: =IF(F14<>"",RANK(F14,temps4eme,1),"") -> 1 | B14: 4 B | C14: =SUMIFS(tabl_couru,tabl_tout_classes,B14) -> 23 | D14: =COUNTIF(tabl_classes,challenge!B14) -> 25 | E14: =COUNTIF(tabl_tout_classes,B14) -> 26 | F14: =IF(C14=0,"",SUMIFS(tabl_temps,tabl_classes,B14)/D14) -> 0.0047243056 | H14: =IF(M14<>"",RANK(M14,temps3eme,1),"") -> 1 | I14: 3 B | J14: =SUMIFS(tabl_couru,tabl_tout_classes,I14) -> 25 | K14: =COUNTIF(tabl_classes,challenge!I14) -> 26 | L14: =COUNTIF(tabl_tout_classes,I14) -> 27 | M14: =IF(J14=0,"",SUMIFS(tabl_temps,tabl_classes,I14)/K14) -> 0.0048070988
A15: =IF(F15<>"",RANK(F15,temps4eme,1),"") -> 4 | B15: 4 C | C15: =SUMIFS(tabl_couru,tabl_tout_classes,B15) -> 24 | D15: =COUNTIF(tabl_classes,challenge!B15) -> 26 | E15: =COUNTIF(tabl_tout_classes,B15) -> 27 | F15: =IF(C15=0,"",SUMIFS(tabl_temps,tabl_classes,B15)/D15) -> 0.0057558761 | H15: =IF(M15<>"",RANK(M15,temps3eme,1),"") -> 3 | I15: 3 C | J15: =SUMIFS(tabl_couru,tabl_tout_classes,I15) -> 23 | K15: =COUNTIF(tabl_classes,challenge!I15) -> 26 | L15: =COUNTIF(tabl_tout_classes,I15) -> 27 | M15: =IF(J15=0,"",SUMIFS(tabl_temps,tabl_classes,I15)/K15) -> 0.0052323718
A16: =IF(F16<>"",RANK(F16,temps4eme,1),"") -> 3 | B16: 4 D | C16: =SUMIFS(tabl_couru,tabl_tout_classes,B16) -> 19 | D16: =COUNTIF(tabl_classes,challenge!B16) -> 20 | E16: =COUNTIF(tabl_tout_classes,B16) -> 21 | F16: =IF(C16=0,"",SUMIFS(tabl_temps,tabl_classes,B16)/D16) -> 0.005708044 | H16: =IF(M16<>"",RANK(M16,temps3eme,1),"") -> 4 | I16: 3 D | J16: =SUMIFS(tabl_couru,tabl_tout_classes,I16) -> 22 | K16: =COUNTIF(tabl_classes,challenge!I16) -> 23 | L16: =COUNTIF(tabl_tout_classes,I16) -> 28 | M16: =IF(J16=0,"",SUMIFS(tabl_temps,tabl_classes,I16)/K16) -> 0.0052695585
A17: =IF(F17<>"",RANK(F17,temps4eme,1),"") -> 5 | B17: 4 E | C17: =SUMIFS(tabl_couru,tabl_tout_classes,B17) -> 8 | D17: =COUNTIF(tabl_classes,challenge!B17) -> 8 | E17: =COUNTIF(tabl_tout_classes,B17) -> 9 | F17: =IF(C17=0,"",SUMIFS(tabl_temps,tabl_classes,B17)/D17) -> 0.0060199653 | H17: =IF(M17<>"",RANK(M17,temps3eme,1),"") -> 5 | I17: 3 E | J17: =SUMIFS(tabl_couru,tabl_tout_classes,I17) -> 12 | K17: =COUNTIF(tabl_classes,challenge!I17) -> 12 | L17: =COUNTIF(tabl_tout_classes,I17) -> 13 | M17: =IF(J17=0,"",SUMIFS(tabl_temps,tabl_classes,I17)/K17) -> 0.0066084748
A21: Classement ECOLES | H21: Classement 6ème et ECOLES
A22: Rang | B22: Classes | C22: Nb part. | D22: Nb cpt | E22: Effectif cl | F22: Tps moyen/tour | H22: Rang | I22: Classes | J22: Nb part. | K22: Nb cpt | L22: Effectif cl | M22: Tps moyen/tour
A23: =IF(F23<>"",RANK(F23,tempsCM2,1),"") -> 2 | B23: CM2 - REVILLON | C23: =SUMIFS(tabl_couru,tabl_tout_classes,B23) -> 15 | D23: =COUNTIF(tabl_classes,challenge!B23) -> 15 | E23: =COUNTIF(tabl_tout_classes,B23) -> 15 | F23: =IF(C23=0,"",SUMIFS(tabl_temps,tabl_classes,B23)/D23) -> 0.0055231481 | H23: =IF(M23<>"",RANK(M23,temps6eme,1),"") -> 1 | I23: 6 A | J23: =SUMIFS(tabl_couru,tabl_tout_classes,I23) -> 21 | K23: =COUNTIF(tabl_classes,challenge!I23) -> 21 | L23: =COUNTIF(tabl_tout_classes,I23) -> 22 | M23: =IF(J23=0,"",SUMIFS(tabl_temps,tabl_classes,I23)/K23) -> 0.0050066138
A24: =IF(F24<>"",RANK(F24,tempsCM2,1),"") -> 3 | B24: CM2 - ST-AME | C24: =SUMIFS(tabl_couru,tabl_tout_classes,B24) -> 8 | D24: =COUNTIF(tabl_classes,challenge!B24) -> 8 | E24: =COUNTIF(tabl_tout_classes,B24) -> 8 | F24: =IF(C24=0,"",SUMIFS(tabl_temps,tabl_classes,B24)/D24) -> 0.0057957176 | H24: =IF(M24<>"",RANK(M24,temps6eme,1),"") -> 4 | I24: 6 B | J24: =SUMIFS(tabl_couru,tabl_tout_classes,I24) -> 17 | K24: =COUNTIF(tabl_classes,challenge!I24) -> 18 | L24: =COUNTIF(tabl_tout_classes,I24) -> 23 | M24: =IF(J24=0,"",SUMIFS(tabl_temps,tabl_classes,I24)/K24) -> 0.0054989712
A25: =IF(F25<>"",RANK(F25,tempsCM2,1),"") -> 1 | B25: CM2 - DOMMARTIN | C25: =SUMIFS(tabl_couru,tabl_tout_classes,B25) -> 19 | D25: =COUNTIF(tabl_classes,challenge!B25) -> 19 | E25: =COUNTIF(tabl_tout_classes,B25) -> 19 | F25: =IF(C25=0,"",SUMIFS(tabl_temps,tabl_classes,B25)/D25) -> 0.0053661062 | H25: =IF(M25<>"",RANK(M25,temps6eme,1),"") -> 2 | I25: 6 C | J25: =SUMIFS(tabl_couru,tabl_tout_classes,I25) -> 23 | K25: =COUNTIF(tabl_classes,challenge!I25) -> 23 | L25: =COUNTIF(tabl_tout_classes,I25) -> 24 | M25: =IF(J25=0,"",SUMIFS(tabl_temps,tabl_classes,I25)/K25) -> 0.0053517512
A26: =IF(F26<>"",RANK(F26,tempsCM2,1),"") -> 4 | B26: CM1 - ST-AME | C26: =SUMIFS(tabl_couru,tabl_tout_classes,B26) -> 11 | D26: =COUNTIF(tabl_classes,challenge!B26) -> 11 | E26: =COUNTIF(tabl_tout_classes,B26) -> 12 | F26: =IF(C26=0,"",SUMIFS(tabl_temps,tabl_classes,B26)/D26) -> 0.0059806397 | H26: =IF(M26<>"",RANK(M26,temps6eme,1),"") -> 6 | I26: 6 D | J26: =SUMIFS(tabl_couru,tabl_tout_classes,I26) -> 16 | K26: =COUNTIF(tabl_classes,challenge!I26) -> 16 | L26: =COUNTIF(tabl_tout_classes,I26) -> 18 | M26: =IF(J26=0,"",SUMIFS(tabl_temps,tabl_classes,I26)/K26) -> 0.0057501447
A27: =IF(F23:F27<>"",RANK(F27,tempsCM2,1),"") -> #N/A | B27: CM1 - DOMMARTIN | C27: =SUMIFS(tabl_couru,tabl_tout_classes,B27) -> 5 | D27: =COUNTIF(tabl_classes,challenge!B27) -> 5 | E27: =COUNTIF(tabl_tout_classes,B27) -> 5 | F27: =IF(C27=0,"",SUMIFS(tabl_temps,tabl_classes,B27)/D27) -> 0.0058356481 | H27: =IF(M27<>"",RANK(M27,temps6eme,1),"") -> 5 | I27: CM2 - REVILLON | J27: =SUMIFS(tabl_couru,tabl_tout_classes,I27) -> 15 | K27: =COUNTIF(tabl_classes,challenge!I27) -> 15 | L27: =COUNTIF(tabl_tout_classes,I27) -> 15 | M27: =IF(J27=0,"",SUMIFS(tabl_temps,tabl_classes,I27)/K27) -> 0.0055231481
H28: =IF(M28<>"",RANK(M28,temps6eme,1),"") -> 7 | I28: CM2 - ST-AME | J28: =SUMIFS(tabl_couru,tabl_tout_classes,I28) -> 8 | K28: =COUNTIF(tabl_classes,challenge!I28) -> 8 | L28: =COUNTIF(tabl_tout_classes,I28) -> 8 | M28: =IF(J28=0,"",SUMIFS(tabl_temps,tabl_classes,I28)/K28) -> 0.0057957176
H29: =IF(M29<>"",RANK(M29,temps6eme,1),"") -> 3 | I29: CM2 - DOMMARTIN | J29: =SUMIFS(tabl_couru,tabl_tout_classes,I29) -> 19 | K29: =COUNTIF(tabl_classes,challenge!I29) -> 19 | L29: =COUNTIF(tabl_tout_classes,I29) -> 19 | M29: =IF(J29=0,"",SUMIFS(tabl_temps,tabl_classes,I29)/K29) -> 0.0053661062
H30: =IF(M30<>"",RANK(M30,temps6eme,1),"") -> 8 | I30: CM1 - ST-AME | J30: =SUMIFS(tabl_couru,tabl_tout_classes,I30) -> 11 | K30: =COUNTIF(tabl_classes,challenge!I30) -> 11 | L30: =COUNTIF(tabl_tout_classes,I30) -> 12 | M30: =IF(J30=0,"",SUMIFS(tabl_temps,tabl_classes,I30)/K30) -> 0.0059806397
H31: =IF(M31<>"",RANK(M31,temps6eme,1),"") -> #N/A | I31: CM1 - DOMMARTIN | J31: =SUMIFS(tabl_couru,tabl_tout_classes,I31) -> 5 | K31: =COUNTIF(tabl_classes,challenge!I31) -> 5 | L31: =COUNTIF(tabl_tout_classes,I31) -> 5 | M31: =IF(J31=0,"",SUMIFS(tabl_temps,tabl_classes,I31)/K31) -> 0.0058356481

Sheet Affichage
A1: Challenge par classe
A3: Classement 6ème
A4: Rang | B4: Classes | C4: Nb part. | D4: Nb cpt | E4: Effectif cl | F4: Tps moyen/tour
A5: 1 | B5: 6 A | C5: 21 | D5: 21 | E5: 22 | F5: 0.0050066138
A6: 2 | B6: 6 C | C6: 23 | D6: 23 | E6: 24 | F6: 0.0053517512
A7: 3 | B7: 6 B | C7: 17 | D7: 18 | E7: 23 | F7: 0.0054989712
A8: 4 | B8: 6 D | C8: 16 | D8: 16 | E8: 18 | F8: 0.0057501447
A11: Classement ECOLES
A12: Rang | B12: Classes | C12: Nb part. | D12: Nb cpt | E12: Effectif cl | F12: Tps moyen/tour
A13: 1 | B13: CM2 - DOMMARTIN | C13: 19 | D13: 19 | E13: 19 | F13: 0.0053661062
A14: 2 | B14: CM2 - REVILLON | C14: 15 | D14: 15 | E14: 15 | F14: 0.0055231481
A15: 3 | B15: CM2 - ST-AME | C15: 8 | D15: 8 | E15: 8 | F15: 0.0057957176
A16: 4 | B16: CM1 - DOMMARTIN | C16: 5 | D16: 5 | E16: 5 | F16: 0.0058356481
A17: 5 | B17: CM1 - ST-AME | C17: 11 | D17: 11 | E17: 12 | F17: 0.0059806397
A20: Classement 5ème
A21: Rang | B21: Classes | C21: Nb part. | D21: Nb cpt | E21: Effectif cl | F21: Tps moyen/tour
A22: 1 | B22: 5 B | C22: 24 | D22: 24 | E22: 25 | F22: 0.0053464988
A23: 2 | B23: 5 C | C23: 18 | D23: 21 | E23: 24 | F23: 0.0055354387
A24: 3 | B24: 5 A | C24: 19 | D24: 20 | E24: 24 | F24: 0.0055462963
A25: 4 | B25: 5 D | C25: 16 | D25: 25 | E25: 25 | F25: 0.0064145833
A26: 5 | B26: 5 E | C26: 13 | D26: 14 | E26: 16 | F26: 0.0068171296
A29: Classement 4ème
A30: Rang | B30: Classes | C30: Nb part. | D30: Nb cpt | E30: Effectif cl | F30: Tps moyen/tour
A31: 1 | B31: 4 B | C31: 23 | D31: 25 | E31: 26 | F31: 0.0047243056
A32: 2 | B32: 4 A | C32: 22 | D32: 22 | E32: 25 | F32: 0.0047682555
A33: 3 | B33: 4 D | C33: 19 | D33: 20 | E33: 21 | F33: 0.005708044
A34: 4 | B34: 4 C | C34: 24 | D34: 26 | E34: 27 | F34: 0.0057558761
A35: 5 | B35: 4 E | C35: 8 | D35: 8 | E35: 9 | F35: 0.0060199653
A37: Classement 3ème
A38: Rang | B38: Classes | C38: Nb part. | D38: Nb cpt | E38: Effectif cl | F38: Tps moyen/tour
A39: 1 | B39: 3 B | C39: 25 | D39: 26 | E39: 27 | F39: 0.0048070988
A40: 2 | B40: 3 A | C40: 20 | D40: 22 | E40: 24 | F40: 0.0048697917
A41: 3 | B41: 3 C | C41: 23 | D41: 26 | E41: 27 | F41: 0.0052323718
A42: 4 | B42: 3 D | C42: 22 | D42: 23 | E42: 28 | F42: 0.0052695585
A43: 5 | B43: 3 E | C43: 12 | D43: 12 | E43: 13 | F43: 0.0066084748
